BEGIN:VCALENDAR
VERSION:2.0
PRODID:-//Boundless  - fitness studio for women in North Park, San Diego - ECPv6.15.20//NONSGML v1.0//EN
CALSCALE:GREGORIAN
METHOD:PUBLISH
X-ORIGINAL-URL:https://tobeboundless.com
X-WR-CALDESC:Events for Boundless  - fitness studio for women in North Park, San Diego
REFRESH-INTERVAL;VALUE=DURATION:PT1H
X-Robots-Tag:noindex
X-PUBLISHED-TTL:PT1H
BEGIN:VTIMEZONE
TZID:America/Los_Angeles
BEGIN:DAYLIGHT
TZOFFSETFROM:-0800
TZOFFSETTO:-0700
TZNAME:PDT
DTSTART:20230312T100000
END:DAYLIGHT
BEGIN:STANDARD
TZOFFSETFROM:-0700
TZOFFSETTO:-0800
TZNAME:PST
DTSTART:20231105T090000
END:STANDARD
BEGIN:DAYLIGHT
TZOFFSETFROM:-0800
TZOFFSETTO:-0700
TZNAME:PDT
DTSTART:20240310T100000
END:DAYLIGHT
BEGIN:STANDARD
TZOFFSETFROM:-0700
TZOFFSETTO:-0800
TZNAME:PST
DTSTART:20241103T090000
END:STANDARD
BEGIN:DAYLIGHT
TZOFFSETFROM:-0800
TZOFFSETTO:-0700
TZNAME:PDT
DTSTART:20250309T100000
END:DAYLIGHT
BEGIN:STANDARD
TZOFFSETFROM:-0700
TZOFFSETTO:-0800
TZNAME:PST
DTSTART:20251102T090000
END:STANDARD
END:VTIMEZONE
BEGIN:VEVENT
DTSTART;TZID=America/Los_Angeles:20240923T100000
DTEND;TZID=America/Los_Angeles:20240923T103000
DTSTAMP:20260424T130913
CREATED:20240622T032144Z
LAST-MODIFIED:20240813T072857Z
UID:7851-1727085600-1727087400@tobeboundless.com
SUMMARY:feel the burn
DESCRIPTION:Feel the burn is a body rock’n\, ab smoke’n\, low impact class melts away belly fat and tones you to the core.
URL:https://tobeboundless.com/event/feel-the-burn-5/
LOCATION:CA
END:VEVENT
END:VCALENDAR