BEGIN:VCALENDAR
VERSION:2.0
PRODID:-//Boundless  - fitness studio for women in North Park, San Diego - ECPv6.15.20//NONSGML v1.0//EN
CALSCALE:GREGORIAN
METHOD:PUBLISH
X-WR-CALNAME:Boundless  - fitness studio for women in North Park, San Diego
X-ORIGINAL-URL:https://tobeboundless.com
X-WR-CALDESC:Events for Boundless  - fitness studio for women in North Park, San Diego
REFRESH-INTERVAL;VALUE=DURATION:PT1H
X-Robots-Tag:noindex
X-PUBLISHED-TTL:PT1H
BEGIN:VTIMEZONE
TZID:America/Los_Angeles
BEGIN:DAYLIGHT
TZOFFSETFROM:-0800
TZOFFSETTO:-0700
TZNAME:PDT
DTSTART:20230312T100000
END:DAYLIGHT
BEGIN:STANDARD
TZOFFSETFROM:-0700
TZOFFSETTO:-0800
TZNAME:PST
DTSTART:20231105T090000
END:STANDARD
BEGIN:DAYLIGHT
TZOFFSETFROM:-0800
TZOFFSETTO:-0700
TZNAME:PDT
DTSTART:20240310T100000
END:DAYLIGHT
BEGIN:STANDARD
TZOFFSETFROM:-0700
TZOFFSETTO:-0800
TZNAME:PST
DTSTART:20241103T090000
END:STANDARD
BEGIN:DAYLIGHT
TZOFFSETFROM:-0800
TZOFFSETTO:-0700
TZNAME:PDT
DTSTART:20250309T100000
END:DAYLIGHT
BEGIN:STANDARD
TZOFFSETFROM:-0700
TZOFFSETTO:-0800
TZNAME:PST
DTSTART:20251102T090000
END:STANDARD
END:VTIMEZONE
BEGIN:VEVENT
DTSTART;TZID=America/Los_Angeles:20241031T170000
DTEND;TZID=America/Los_Angeles:20241031T173000
DTSTAMP:20260424T103604
CREATED:20240612T010936Z
LAST-MODIFIED:20240925T052334Z
UID:7805-1730394000-1730395800@tobeboundless.com
SUMMARY:the spanks workout
DESCRIPTION:The Spanks Workout is the “perfect pick me” up to work every inch of your body. So if the daily grind has got you down\, this workout has everything you need to boost your mood and put that pep back into your step.
URL:https://tobeboundless.com/event/the-spanks-workout-3/
LOCATION:3930 Utah St.\, San Diego\, Ca 92104\, 3930 Utah St\, San Diego\, CA\, 92104\, United States
END:VEVENT
BEGIN:VEVENT
DTSTART;TZID=America/Los_Angeles:20241031T183000
DTEND;TZID=America/Los_Angeles:20241031T190000
DTSTAMP:20260424T103604
CREATED:20240527T233804Z
LAST-MODIFIED:20240925T060117Z
UID:7547-1730399400-1730401200@tobeboundless.com
SUMMARY:pelvic floor strength & balance
DESCRIPTION:Pelvic Floor Strength & Balance is a low-impact\, strength training class that’s guaranteed to wake-up your sleepy abs and lifts your little butt.
URL:https://tobeboundless.com/event/pelvic-floor-5/
LOCATION:3930 Utah St.\, San Diego\, Ca 92104\, 3930 Utah St\, San Diego\, CA\, 92104\, United States
ORGANIZER;CN="Boundless Women's Fitness":MAILTO:tobeboundless@gmail.com
END:VEVENT
END:VCALENDAR