BEGIN:VCALENDAR
VERSION:2.0
PRODID:-//Boundless  - fitness studio for women in North Park, San Diego - ECPv6.15.20//NONSGML v1.0//EN
CALSCALE:GREGORIAN
METHOD:PUBLISH
X-ORIGINAL-URL:https://tobeboundless.com
X-WR-CALDESC:Events for Boundless  - fitness studio for women in North Park, San Diego
REFRESH-INTERVAL;VALUE=DURATION:PT1H
X-Robots-Tag:noindex
X-PUBLISHED-TTL:PT1H
BEGIN:VTIMEZONE
TZID:America/Los_Angeles
BEGIN:DAYLIGHT
TZOFFSETFROM:-0800
TZOFFSETTO:-0700
TZNAME:PDT
DTSTART:20230312T100000
END:DAYLIGHT
BEGIN:STANDARD
TZOFFSETFROM:-0700
TZOFFSETTO:-0800
TZNAME:PST
DTSTART:20231105T090000
END:STANDARD
BEGIN:DAYLIGHT
TZOFFSETFROM:-0800
TZOFFSETTO:-0700
TZNAME:PDT
DTSTART:20240310T100000
END:DAYLIGHT
BEGIN:STANDARD
TZOFFSETFROM:-0700
TZOFFSETTO:-0800
TZNAME:PST
DTSTART:20241103T090000
END:STANDARD
BEGIN:DAYLIGHT
TZOFFSETFROM:-0800
TZOFFSETTO:-0700
TZNAME:PDT
DTSTART:20250309T100000
END:DAYLIGHT
BEGIN:STANDARD
TZOFFSETFROM:-0700
TZOFFSETTO:-0800
TZNAME:PST
DTSTART:20251102T090000
END:STANDARD
END:VTIMEZONE
BEGIN:VEVENT
DTSTART;TZID=America/Los_Angeles:20241208T173000
DTEND;TZID=America/Los_Angeles:20241208T180000
DTSTAMP:20260424T091327
CREATED:20240622T065641Z
LAST-MODIFIED:20241027T042526Z
UID:7949-1733679000-1733680800@tobeboundless.com
SUMMARY:Piloga
DESCRIPTION:Piloga is the perfect union of core strength and mobility.
URL:https://tobeboundless.com/event/piloga-5/
LOCATION:3930 Utah St.\, San Diego\, Ca 92104\, 3930 Utah St\, San Diego\, CA\, 92104\, United States
END:VEVENT
END:VCALENDAR