BEGIN:VCALENDAR
VERSION:2.0
PRODID:-//Boundless  - fitness studio for women in North Park, San Diego - ECPv6.15.20//NONSGML v1.0//EN
CALSCALE:GREGORIAN
METHOD:PUBLISH
X-WR-CALNAME:Boundless  - fitness studio for women in North Park, San Diego
X-ORIGINAL-URL:https://tobeboundless.com
X-WR-CALDESC:Events for Boundless  - fitness studio for women in North Park, San Diego
REFRESH-INTERVAL;VALUE=DURATION:PT1H
X-Robots-Tag:noindex
X-PUBLISHED-TTL:PT1H
BEGIN:VTIMEZONE
TZID:UTC
BEGIN:STANDARD
TZOFFSETFROM:+0000
TZOFFSETTO:+0000
TZNAME:UTC
DTSTART:20230101T000000
END:STANDARD
END:VTIMEZONE
BEGIN:VEVENT
DTSTART;TZID=UTC:20241212T120000
DTEND;TZID=UTC:20241212T123000
DTSTAMP:20260424T091306
CREATED:20240928T045531Z
LAST-MODIFIED:20241123T060709Z
UID:8381-1734004800-1734006600@tobeboundless.com
SUMMARY:acroyoga
DESCRIPTION:Acroyoga is a fun-filled\, laugh-out-loud\, stretch class is guaranteed to eliminate stiff joints\, daily muscle aches and chase away the “blues”. \n 
URL:https://tobeboundless.com/event/acroyoga/
LOCATION:3930 Utah St.\, San Diego\, Ca 92104\, 3930 Utah St\, San Diego\, CA\, 92104\, United States
ATTACH;FMTTYPE=image/jpeg:https://tobeboundless.com/wp-content/uploads/2022/10/20200217_210312-1.jpg
ORGANIZER;CN="Boundless Women's Fitness":MAILTO:tobeboundless@gmail.com
END:VEVENT
END:VCALENDAR