BEGIN:VCALENDAR
VERSION:2.0
PRODID:-//Boundless  - fitness studio for women in North Park, San Diego - ECPv6.15.20//NONSGML v1.0//EN
CALSCALE:GREGORIAN
METHOD:PUBLISH
X-ORIGINAL-URL:https://tobeboundless.com
X-WR-CALDESC:Events for Boundless  - fitness studio for women in North Park, San Diego
REFRESH-INTERVAL;VALUE=DURATION:PT1H
X-Robots-Tag:noindex
X-PUBLISHED-TTL:PT1H
BEGIN:VTIMEZONE
TZID:UTC
BEGIN:STANDARD
TZOFFSETFROM:+0000
TZOFFSETTO:+0000
TZNAME:UTC
DTSTART:20240101T000000
END:STANDARD
END:VTIMEZONE
BEGIN:VEVENT
DTSTART;TZID=UTC:20250828T120000
DTEND;TZID=UTC:20250828T123000
DTSTAMP:20260423T234927
CREATED:20250629T014750Z
LAST-MODIFIED:20250629T014805Z
UID:9556-1756382400-1756384200@tobeboundless.com
SUMMARY:flat belly Pilates
DESCRIPTION:Flat Belly pilates combines mndfulness and intensity to flatten your belly.
URL:https://tobeboundless.com/event/flat-belly-pilates-9/
LOCATION:3930 Utah St.\, San Diego\, Ca 92104\, 3930 Utah St\, San Diego\, CA\, 92104\, United States
ORGANIZER;CN="Boundless Women's Fitness":MAILTO:tobeboundless@gmail.com
END:VEVENT
BEGIN:VEVENT
DTSTART;TZID=UTC:20250828T123000
DTEND;TZID=UTC:20250828T130000
DTSTAMP:20260423T234927
CREATED:20250706T052335Z
LAST-MODIFIED:20250706T053025Z
UID:9588-1756384200-1756386000@tobeboundless.com
SUMMARY:hot mom bod workout
DESCRIPTION:Hot mom bod workout is the best way to build a strongr\, leaner\, fitter you post pregnancy.
URL:https://tobeboundless.com/event/hot-mom-bod-workout/
LOCATION:3930 Utah St.\, San Diego\, Ca 92104\, 3930 Utah St\, San Diego\, CA\, 92104\, United States
ORGANIZER;CN="Boundless Women's Fitness":MAILTO:tobeboundless@gmail.com
END:VEVENT
END:VCALENDAR