BEGIN:VCALENDAR
VERSION:2.0
PRODID:-//Boundless  - fitness studio for women in North Park, San Diego - ECPv6.15.20//NONSGML v1.0//EN
CALSCALE:GREGORIAN
METHOD:PUBLISH
X-WR-CALNAME:Boundless  - fitness studio for women in North Park, San Diego
X-ORIGINAL-URL:https://tobeboundless.com
X-WR-CALDESC:Events for Boundless  - fitness studio for women in North Park, San Diego
REFRESH-INTERVAL;VALUE=DURATION:PT1H
X-Robots-Tag:noindex
X-PUBLISHED-TTL:PT1H
BEGIN:VTIMEZONE
TZID:UTC
BEGIN:STANDARD
TZOFFSETFROM:+0000
TZOFFSETTO:+0000
TZNAME:UTC
DTSTART:20240101T000000
END:STANDARD
END:VTIMEZONE
BEGIN:VTIMEZONE
TZID:America/Los_Angeles
BEGIN:DAYLIGHT
TZOFFSETFROM:-0800
TZOFFSETTO:-0700
TZNAME:PDT
DTSTART:20240310T100000
END:DAYLIGHT
BEGIN:STANDARD
TZOFFSETFROM:-0700
TZOFFSETTO:-0800
TZNAME:PST
DTSTART:20241103T090000
END:STANDARD
BEGIN:DAYLIGHT
TZOFFSETFROM:-0800
TZOFFSETTO:-0700
TZNAME:PDT
DTSTART:20250309T100000
END:DAYLIGHT
BEGIN:STANDARD
TZOFFSETFROM:-0700
TZOFFSETTO:-0800
TZNAME:PST
DTSTART:20251102T090000
END:STANDARD
BEGIN:DAYLIGHT
TZOFFSETFROM:-0800
TZOFFSETTO:-0700
TZNAME:PDT
DTSTART:20260308T100000
END:DAYLIGHT
BEGIN:STANDARD
TZOFFSETFROM:-0700
TZOFFSETTO:-0800
TZNAME:PST
DTSTART:20261101T090000
END:STANDARD
END:VTIMEZONE
BEGIN:VEVENT
DTSTART;TZID=UTC:20250918T123000
DTEND;TZID=UTC:20250918T130000
DTSTAMP:20260423T223023
CREATED:20250706T052953Z
LAST-MODIFIED:20250830T093821Z
UID:9590-1758198600-1758200400@tobeboundless.com
SUMMARY:hot mom bod workout
DESCRIPTION:Hot mom bod workout is the best way to build a strongr\, leaner\, fitter you post pregnancy.
URL:https://tobeboundless.com/event/hot-mom-bod-workout-7/
LOCATION:3930 Utah St.\, San Diego\, Ca 92104\, 3930 Utah St\, San Diego\, CA\, 92104\, United States
ORGANIZER;CN="Boundless Women's Fitness":MAILTO:tobeboundless@gmail.com
END:VEVENT
BEGIN:VEVENT
DTSTART;TZID=America/Los_Angeles:20250918T183000
DTEND;TZID=America/Los_Angeles:20250918T190000
DTSTAMP:20260423T223023
CREATED:20241020T010518Z
LAST-MODIFIED:20250830T101412Z
UID:8566-1758220200-1758222000@tobeboundless.com
SUMMARY:Pilates body
DESCRIPTION:Pilates body is a low-impact\, strength training class that’s guaranteed to wake-up your sleepy abs and lifts your little butt.
URL:https://tobeboundless.com/event/pilates-body/
LOCATION:3930 Utah St.\, San Diego\, Ca 92104\, 3930 Utah St\, San Diego\, CA\, 92104\, United States
END:VEVENT
END:VCALENDAR