BEGIN:VCALENDAR
VERSION:2.0
PRODID:-//Boundless  - fitness studio for women in North Park, San Diego - ECPv6.15.20//NONSGML v1.0//EN
CALSCALE:GREGORIAN
METHOD:PUBLISH
X-WR-CALNAME:Boundless  - fitness studio for women in North Park, San Diego
X-ORIGINAL-URL:https://tobeboundless.com
X-WR-CALDESC:Events for Boundless  - fitness studio for women in North Park, San Diego
REFRESH-INTERVAL;VALUE=DURATION:PT1H
X-Robots-Tag:noindex
X-PUBLISHED-TTL:PT1H
BEGIN:VTIMEZONE
TZID:America/Los_Angeles
BEGIN:DAYLIGHT
TZOFFSETFROM:-0800
TZOFFSETTO:-0700
TZNAME:PDT
DTSTART:20240310T100000
END:DAYLIGHT
BEGIN:STANDARD
TZOFFSETFROM:-0700
TZOFFSETTO:-0800
TZNAME:PST
DTSTART:20241103T090000
END:STANDARD
BEGIN:DAYLIGHT
TZOFFSETFROM:-0800
TZOFFSETTO:-0700
TZNAME:PDT
DTSTART:20250309T100000
END:DAYLIGHT
BEGIN:STANDARD
TZOFFSETFROM:-0700
TZOFFSETTO:-0800
TZNAME:PST
DTSTART:20251102T090000
END:STANDARD
BEGIN:DAYLIGHT
TZOFFSETFROM:-0800
TZOFFSETTO:-0700
TZNAME:PDT
DTSTART:20260308T100000
END:DAYLIGHT
BEGIN:STANDARD
TZOFFSETFROM:-0700
TZOFFSETTO:-0800
TZNAME:PST
DTSTART:20261101T090000
END:STANDARD
END:VTIMEZONE
BEGIN:VTIMEZONE
TZID:UTC
BEGIN:STANDARD
TZOFFSETFROM:+0000
TZOFFSETTO:+0000
TZNAME:UTC
DTSTART:20240101T000000
END:STANDARD
END:VTIMEZONE
BEGIN:VEVENT
DTSTART;TZID=America/Los_Angeles:20251008T060000
DTEND;TZID=America/Los_Angeles:20251008T120000
DTSTAMP:20260423T211618
CREATED:20240721T182808Z
LAST-MODIFIED:20250831T080526Z
UID:8105-1759903200-1759924800@tobeboundless.com
SUMMARY:women’s outdoor hikes
DESCRIPTION:Our scenic women’s outdoor hiking groups explore San Diego’s beautiful backcountry. It’s a moving meditation for women who love the outdoors\, enjoy walking and communing with nature while connecting with new friends as they get in shape.
URL:https://tobeboundless.com/event/womens-outdoor-hikes-17/
LOCATION:3930 Utah St.\, San Diego\, Ca 92104\, 3930 Utah St\, San Diego\, CA\, 92104\, United States
ATTACH;FMTTYPE=image/jpeg:https://tobeboundless.com/wp-content/uploads/2024/04/IMG_20240105_095322848-scaled.jpg
END:VEVENT
BEGIN:VEVENT
DTSTART;TZID=UTC:20251008T163000
DTEND;TZID=UTC:20251008T170000
DTSTAMP:20260423T211618
CREATED:20250124T084003Z
LAST-MODIFIED:20250916T231740Z
UID:8890-1759941000-1759942800@tobeboundless.com
SUMMARY:form & function
DESCRIPTION:Focus on form and proper execution of each exercise to build real strenth that last a lifetime
URL:https://tobeboundless.com/event/form-function-2/
LOCATION:3930 Utah St.\, San Diego\, Ca 92104\, 3930 Utah St\, San Diego\, CA\, 92104\, United States
ORGANIZER;CN="Boundless Women's Fitness":MAILTO:tobeboundless@gmail.com
END:VEVENT
BEGIN:VEVENT
DTSTART;TZID=America/Los_Angeles:20251008T170000
DTEND;TZID=America/Los_Angeles:20251008T173000
DTSTAMP:20260423T211618
CREATED:20250916T234038Z
LAST-MODIFIED:20250916T234507Z
UID:10062-1759942800-1759944600@tobeboundless.com
SUMMARY:happy hips
DESCRIPTION:Stiff hip got you down? This hip mobility class is the perfect “fix” to chase those nagging aches and pains away before they become a real problem. 30 minutes\, 2 times a week is recommended to get the job done.
URL:https://tobeboundless.com/event/happy-hips-6/
LOCATION:3930 Utah St.\, San Diego\, Ca 92104\, 3930 Utah St\, San Diego\, CA\, 92104\, United States
ORGANIZER;CN="Boundless Women's Fitness":MAILTO:tobeboundless@gmail.com
END:VEVENT
END:VCALENDAR