BEGIN:VCALENDAR
VERSION:2.0
PRODID:-//Boundless  - fitness studio for women in North Park, San Diego - ECPv6.15.20//NONSGML v1.0//EN
CALSCALE:GREGORIAN
METHOD:PUBLISH
X-ORIGINAL-URL:https://tobeboundless.com
X-WR-CALDESC:Events for Boundless  - fitness studio for women in North Park, San Diego
REFRESH-INTERVAL;VALUE=DURATION:PT1H
X-Robots-Tag:noindex
X-PUBLISHED-TTL:PT1H
BEGIN:VTIMEZONE
TZID:America/Los_Angeles
BEGIN:DAYLIGHT
TZOFFSETFROM:-0800
TZOFFSETTO:-0700
TZNAME:PDT
DTSTART:20240310T100000
END:DAYLIGHT
BEGIN:STANDARD
TZOFFSETFROM:-0700
TZOFFSETTO:-0800
TZNAME:PST
DTSTART:20241103T090000
END:STANDARD
BEGIN:DAYLIGHT
TZOFFSETFROM:-0800
TZOFFSETTO:-0700
TZNAME:PDT
DTSTART:20250309T100000
END:DAYLIGHT
BEGIN:STANDARD
TZOFFSETFROM:-0700
TZOFFSETTO:-0800
TZNAME:PST
DTSTART:20251102T090000
END:STANDARD
BEGIN:DAYLIGHT
TZOFFSETFROM:-0800
TZOFFSETTO:-0700
TZNAME:PDT
DTSTART:20260308T100000
END:DAYLIGHT
BEGIN:STANDARD
TZOFFSETFROM:-0700
TZOFFSETTO:-0800
TZNAME:PST
DTSTART:20261101T090000
END:STANDARD
END:VTIMEZONE
BEGIN:VTIMEZONE
TZID:UTC
BEGIN:STANDARD
TZOFFSETFROM:+0000
TZOFFSETTO:+0000
TZNAME:UTC
DTSTART:20240101T000000
END:STANDARD
END:VTIMEZONE
BEGIN:VEVENT
DTSTART;TZID=America/Los_Angeles:20251126T060000
DTEND;TZID=America/Los_Angeles:20251126T120000
DTSTAMP:20260423T201317
CREATED:20240629T080827Z
LAST-MODIFIED:20250913T121448Z
UID:7960-1764136800-1764158400@tobeboundless.com
SUMMARY:women’s outdoor hikes
DESCRIPTION:Our scenic women’s outdoor hiking groups explore San Diego’s beautiful backcountry. It’s a moving meditation for women who love the outdoors\, enjoy walking and communing with nature while connecting with new friends as they get in shape.
URL:https://tobeboundless.com/event/womens-outdoor-hikes-10/
LOCATION:3930 Utah St.\, San Diego\, Ca 92104\, 3930 Utah St\, San Diego\, CA\, 92104\, United States
ATTACH;FMTTYPE=image/jpeg:https://tobeboundless.com/wp-content/uploads/2024/04/IMG_20240105_095322848-scaled.jpg
END:VEVENT
BEGIN:VEVENT
DTSTART;TZID=America/Los_Angeles:20251126T143000
DTEND;TZID=America/Los_Angeles:20251126T150000
DTSTAMP:20260423T201317
CREATED:20251025T041233Z
LAST-MODIFIED:20251123T024642Z
UID:10424-1764167400-1764169200@tobeboundless.com
SUMMARY:Hips & Splits
DESCRIPTION:Hips & Splits. Stiff hip got you down? This hip mobility class is the perfect “fix” to chase those nagging aches and pains away before they become a real problem. 30 minutes\, 2 times a week is recommended to get the job done.
URL:https://tobeboundless.com/event/hips-splits-4/
LOCATION:3930 Utah St.\, San Diego\, Ca 92104\, 3930 Utah St\, San Diego\, CA\, 92104\, United States
ORGANIZER;CN="Boundless Women's Fitness":MAILTO:tobeboundless@gmail.com
END:VEVENT
BEGIN:VEVENT
DTSTART;TZID=America/Los_Angeles:20251126T160000
DTEND;TZID=America/Los_Angeles:20251126T163000
DTSTAMP:20260423T201317
CREATED:20240612T005602Z
LAST-MODIFIED:20251025T033939Z
UID:7788-1764172800-1764174600@tobeboundless.com
SUMMARY:Pilates magic
DESCRIPTION:Pilates magic combines core exercises fused with dynamic stretches to eliminate daily stiffness and muscle tension.
URL:https://tobeboundless.com/event/pilates-magic-6/
LOCATION:3930 Utah St.\, San Diego\, Ca 92104\, 3930 Utah St\, San Diego\, CA\, 92104\, United States
ATTACH;FMTTYPE=image/jpeg:https://tobeboundless.com/wp-content/uploads/2023/08/IMG_20181205_195956-1-scaled.jpg
END:VEVENT
BEGIN:VEVENT
DTSTART;TZID=UTC:20251126T163000
DTEND;TZID=UTC:20251126T170000
DTSTAMP:20260423T201317
CREATED:20241211T062941Z
LAST-MODIFIED:20251025T034829Z
UID:8625-1764174600-1764176400@tobeboundless.com
SUMMARY:form & function
DESCRIPTION:Focus on form and proper execution of each exercise to build real strenth that last a lifetime
URL:https://tobeboundless.com/event/form-function-real-strength/
LOCATION:3930 Utah St.\, San Diego\, Ca 92104\, 3930 Utah St\, San Diego\, CA\, 92104\, United States
ORGANIZER;CN="Boundless Women's Fitness":MAILTO:tobeboundless@gmail.com
END:VEVENT
END:VCALENDAR