BEGIN:VCALENDAR
VERSION:2.0
PRODID:-//Boundless  - fitness studio for women in North Park, San Diego - ECPv6.15.20//NONSGML v1.0//EN
CALSCALE:GREGORIAN
METHOD:PUBLISH
X-ORIGINAL-URL:https://tobeboundless.com
X-WR-CALDESC:Events for Boundless  - fitness studio for women in North Park, San Diego
REFRESH-INTERVAL;VALUE=DURATION:PT1H
X-Robots-Tag:noindex
X-PUBLISHED-TTL:PT1H
BEGIN:VTIMEZONE
TZID:UTC
BEGIN:STANDARD
TZOFFSETFROM:+0000
TZOFFSETTO:+0000
TZNAME:UTC
DTSTART:20250101T000000
END:STANDARD
END:VTIMEZONE
BEGIN:VTIMEZONE
TZID:America/Los_Angeles
BEGIN:DAYLIGHT
TZOFFSETFROM:-0800
TZOFFSETTO:-0700
TZNAME:PDT
DTSTART:20250309T100000
END:DAYLIGHT
BEGIN:STANDARD
TZOFFSETFROM:-0700
TZOFFSETTO:-0800
TZNAME:PST
DTSTART:20251102T090000
END:STANDARD
BEGIN:DAYLIGHT
TZOFFSETFROM:-0800
TZOFFSETTO:-0700
TZNAME:PDT
DTSTART:20260308T100000
END:DAYLIGHT
BEGIN:STANDARD
TZOFFSETFROM:-0700
TZOFFSETTO:-0800
TZNAME:PST
DTSTART:20261101T090000
END:STANDARD
BEGIN:DAYLIGHT
TZOFFSETFROM:-0800
TZOFFSETTO:-0700
TZNAME:PDT
DTSTART:20270314T100000
END:DAYLIGHT
BEGIN:STANDARD
TZOFFSETFROM:-0700
TZOFFSETTO:-0800
TZNAME:PST
DTSTART:20271107T090000
END:STANDARD
END:VTIMEZONE
BEGIN:VEVENT
DTSTART;TZID=UTC:20260118T080000
DTEND;TZID=UTC:20260118T083000
DTSTAMP:20260423T174502
CREATED:20251106T084614Z
LAST-MODIFIED:20251227T032637Z
UID:10555-1768723200-1768725000@tobeboundless.com
SUMMARY:power stride
DESCRIPTION:Power Stride is a dynamic walking class that boosts energy and stamina\, builds bone density\, and strengthens posture. It blends rhythmic movement with resistance training to support cardiovascular health\, skeletal strength\, and longevity.
URL:https://tobeboundless.com/event/power-stride-2/
LOCATION:CA
END:VEVENT
BEGIN:VEVENT
DTSTART;TZID=UTC:20260118T083000
DTEND;TZID=UTC:20260118T090000
DTSTAMP:20260423T174502
CREATED:20251225T091738Z
LAST-MODIFIED:20251225T093646Z
UID:10980-1768725000-1768726800@tobeboundless.com
SUMMARY:brilliant & resilient
DESCRIPTION:Are your stiff shoulders keeping you from doing the things you love? This resilient upper body strength and mobility class is the perfect fix to chase those nagging aches and pains away before they become a real problem.  All you need is 30 minutes\, 2 times a week\, to get the job done.
URL:https://tobeboundless.com/event/brilliant-resilient-12/
LOCATION:3930 Utah St.\, San Diego\, Ca 92104\, 3930 Utah St\, San Diego\, CA\, 92104\, United States
ORGANIZER;CN="Boundless Women's Fitness":MAILTO:tobeboundless@gmail.com
END:VEVENT
BEGIN:VEVENT
DTSTART;TZID=UTC:20260118T090000
DTEND;TZID=UTC:20260118T093000
DTSTAMP:20260423T174502
CREATED:20250629T023653Z
LAST-MODIFIED:20251207T064156Z
UID:9571-1768726800-1768728600@tobeboundless.com
SUMMARY:baby bump Pilates
DESCRIPTION:Baby Bump builds strength and endurance during pregnancy and re-build your core strength after your baby is born.
URL:https://tobeboundless.com/event/baby-bump-pilates-5/
LOCATION:3930 Utah St.\, San Diego\, Ca 92104\, 3930 Utah St\, San Diego\, CA\, 92104\, United States
ORGANIZER;CN="Boundless Women's Fitness":MAILTO:tobeboundless@gmail.com
END:VEVENT
BEGIN:VEVENT
DTSTART;TZID=UTC:20260118T090000
DTEND;TZID=UTC:20260118T093000
DTSTAMP:20260423T174502
CREATED:20251027T052555Z
LAST-MODIFIED:20260324T072125Z
UID:10467-1768726800-1768728600@tobeboundless.com
SUMMARY:baby bump Pilates
DESCRIPTION:Baby Bump builds strength and endurance during pregnancy and re-build your core strength after your baby is born.
URL:https://tobeboundless.com/event/baby-bump-pilates-10/
LOCATION:3930 Utah St.\, San Diego\, Ca 92104\, 3930 Utah St\, San Diego\, CA\, 92104\, United States
ATTACH;FMTTYPE=image/jpeg:https://tobeboundless.com/wp-content/uploads/2024/07/20240229_180056-scaled.jpg
ORGANIZER;CN="Boundless Women's Fitness":MAILTO:tobeboundless@gmail.com
END:VEVENT
BEGIN:VEVENT
DTSTART;TZID=UTC:20260118T100000
DTEND;TZID=UTC:20260118T103000
DTSTAMP:20260423T174502
CREATED:20251222T095045Z
LAST-MODIFIED:20251222T095045Z
UID:10842-1768730400-1768732200@tobeboundless.com
SUMMARY:strong & lean
DESCRIPTION:Strong and lean build lean muscle without the bulk. Burn body fat with great results. This is the class that gives you boundless energy and keeps you comig back for more.
URL:https://tobeboundless.com/event/strong-lean-39/
LOCATION:CA
END:VEVENT
BEGIN:VEVENT
DTSTART;TZID=UTC:20260118T110000
DTEND;TZID=UTC:20260118T113000
DTSTAMP:20260423T174502
CREATED:20251106T073730Z
LAST-MODIFIED:20251123T061353Z
UID:10524-1768734000-1768735800@tobeboundless.com
SUMMARY:power & flow
DESCRIPTION:Power & Flow where Pilates meets strength training. This unique strength class combines pure power with an elegant flow to transform your body from head to toe.
URL:https://tobeboundless.com/event/power-flow-17/
LOCATION:3930 Utah St.\, San Diego\, Ca 92104\, 3930 Utah St\, San Diego\, CA\, 92104\, United States
ORGANIZER;CN="Boundless Women's Fitness":MAILTO:tobeboundless@gmail.com
END:VEVENT
BEGIN:VEVENT
DTSTART;TZID=America/Los_Angeles:20260118T113000
DTEND;TZID=America/Los_Angeles:20260118T120000
DTSTAMP:20260423T174502
CREATED:20251106T080831Z
LAST-MODIFIED:20251106T080831Z
UID:10544-1768735800-1768737600@tobeboundless.com
SUMMARY:skinny jeans workout
DESCRIPTION:Get back in your skinny jeans! This class combines varing levels of intensity with core conditioning to work every inch of your body. Feel confident wearing your skinny jeans (or shorts) and sleeveless tops year round.
URL:https://tobeboundless.com/event/skinny-jeans-workout-12/
LOCATION:3930 Utah St.\, San Diego\, Ca 92104\, 3930 Utah St\, San Diego\, CA\, 92104\, United States
ATTACH;FMTTYPE=image/jpeg:https://tobeboundless.com/wp-content/uploads/2023/11/skinny-jeans-workout-scaled.jpg
END:VEVENT
BEGIN:VEVENT
DTSTART;TZID=America/Los_Angeles:20260118T120000
DTEND;TZID=America/Los_Angeles:20260118T123000
DTSTAMP:20260423T174502
CREATED:20251025T041350Z
LAST-MODIFIED:20251225T081620Z
UID:10425-1768737600-1768739400@tobeboundless.com
SUMMARY:hips & splits
DESCRIPTION:Hips & Splits. Stiff hip got you down? This hip mobility class is the perfect “fix” to chase those nagging aches and pains away before they become a real problem. 30 minutes\, 2 times a week is recommended to get the job done.
URL:https://tobeboundless.com/event/hips-splits-6/
LOCATION:3930 Utah St.\, San Diego\, Ca 92104\, 3930 Utah St\, San Diego\, CA\, 92104\, United States
ORGANIZER;CN="Boundless Women's Fitness":MAILTO:tobeboundless@gmail.com
END:VEVENT
BEGIN:VEVENT
DTSTART;TZID=America/Los_Angeles:20260118T120000
DTEND;TZID=America/Los_Angeles:20260118T123000
DTSTAMP:20260423T174502
CREATED:20251225T084307Z
LAST-MODIFIED:20260204T183606Z
UID:10849-1768737600-1768739400@tobeboundless.com
SUMMARY:nurture & align
DESCRIPTION:Nurture & Align is a sacred space to soften\, restore\, and reconnect.\nThis gentle Pilates-based practice is designed to support hormonal balance and nervous system regulation through mindful movement\, breath\, and embodied presence. Whether you’re preparing to conceive\, healing from stress\, or simply seeking deeper alignment with your body’s rhythms\, Nurture & Align invites you to root into calm and bloom from within.
URL:https://tobeboundless.com/event/nurture-align-19/
LOCATION:3930 Utah St.\, San Diego\, Ca 92104\, 3930 Utah St\, San Diego\, CA\, 92104\, United States
ORGANIZER;CN="Boundless Women's Fitness":MAILTO:tobeboundless@gmail.com
END:VEVENT
BEGIN:VEVENT
DTSTART;TZID=America/Los_Angeles:20260118T160000
DTEND;TZID=America/Los_Angeles:20260118T163000
DTSTAMP:20260423T174502
CREATED:20251225T095525Z
LAST-MODIFIED:20251225T095525Z
UID:11027-1768752000-1768753800@tobeboundless.com
SUMMARY:Pilates magic
DESCRIPTION:Pilates magic combines core exercises fused with dynamic stretches to eliminate daily stiffness and muscle tension.
URL:https://tobeboundless.com/event/pilates-magic-27/
LOCATION:3930 Utah St.\, San Diego\, Ca 92104\, 3930 Utah St\, San Diego\, CA\, 92104\, United States
ATTACH;FMTTYPE=image/jpeg:https://tobeboundless.com/wp-content/uploads/2023/08/IMG_20181205_195956-1-scaled.jpg
END:VEVENT
BEGIN:VEVENT
DTSTART;TZID=UTC:20260118T163000
DTEND;TZID=UTC:20260118T170000
DTSTAMP:20260423T174502
CREATED:20251227T043858Z
LAST-MODIFIED:20251227T043858Z
UID:11262-1768753800-1768755600@tobeboundless.com
SUMMARY:Ooh La La Legs
DESCRIPTION:Build strength to last a lifetime and gorgeous legs all while improving brain power and bone health.
URL:https://tobeboundless.com/event/ooh-la-la-legs-23/
LOCATION:3930 Utah St.\, San Diego\, Ca 92104\, 3930 Utah St\, San Diego\, CA\, 92104\, United States
ORGANIZER;CN="Boundless Women's Fitness":MAILTO:tobeboundless@gmail.com
END:VEVENT
END:VCALENDAR