BEGIN:VCALENDAR
VERSION:2.0
PRODID:-//Boundless  - fitness studio for women in North Park, San Diego - ECPv6.15.20//NONSGML v1.0//EN
CALSCALE:GREGORIAN
METHOD:PUBLISH
X-WR-CALNAME:Boundless  - fitness studio for women in North Park, San Diego
X-ORIGINAL-URL:https://tobeboundless.com
X-WR-CALDESC:Events for Boundless  - fitness studio for women in North Park, San Diego
REFRESH-INTERVAL;VALUE=DURATION:PT1H
X-Robots-Tag:noindex
X-PUBLISHED-TTL:PT1H
BEGIN:VTIMEZONE
TZID:UTC
BEGIN:STANDARD
TZOFFSETFROM:+0000
TZOFFSETTO:+0000
TZNAME:UTC
DTSTART:20250101T000000
END:STANDARD
END:VTIMEZONE
BEGIN:VTIMEZONE
TZID:America/Los_Angeles
BEGIN:DAYLIGHT
TZOFFSETFROM:-0800
TZOFFSETTO:-0700
TZNAME:PDT
DTSTART:20250309T100000
END:DAYLIGHT
BEGIN:STANDARD
TZOFFSETFROM:-0700
TZOFFSETTO:-0800
TZNAME:PST
DTSTART:20251102T090000
END:STANDARD
BEGIN:DAYLIGHT
TZOFFSETFROM:-0800
TZOFFSETTO:-0700
TZNAME:PDT
DTSTART:20260308T100000
END:DAYLIGHT
BEGIN:STANDARD
TZOFFSETFROM:-0700
TZOFFSETTO:-0800
TZNAME:PST
DTSTART:20261101T090000
END:STANDARD
BEGIN:DAYLIGHT
TZOFFSETFROM:-0800
TZOFFSETTO:-0700
TZNAME:PDT
DTSTART:20270314T100000
END:DAYLIGHT
BEGIN:STANDARD
TZOFFSETFROM:-0700
TZOFFSETTO:-0800
TZNAME:PST
DTSTART:20271107T090000
END:STANDARD
END:VTIMEZONE
BEGIN:VEVENT
DTSTART;TZID=UTC:20260127T063000
DTEND;TZID=UTC:20260127T070000
DTSTAMP:20260423T164637
CREATED:20251207T063233Z
LAST-MODIFIED:20251227T035815Z
UID:10794-1769495400-1769497200@tobeboundless.com
SUMMARY:rise & stride
DESCRIPTION:Rise & Stride is the perfect intorduction to fitness for beginners who want to start with walk/run intervals or walking only. This supportive\, outdoor class combines fresh air\, accountability\, and community to help you build confidence and endurance at your own pace. Guided sessions make it easy to stay motivted while connecting with others who share  your goals. Whether you’re looking to improve  your health\, enjoy social  support\, or simply move more\, Rise & Stride offers a welcoming space to grow strong and stride forward.
URL:https://tobeboundless.com/event/rise-stride-4/
LOCATION:3930 Utah St.\, San Diego\, Ca 92104\, 3930 Utah St\, San Diego\, CA\, 92104\, United States
ORGANIZER;CN="Boundless Women's Fitness":MAILTO:tobeboundless@gmail.com
END:VEVENT
BEGIN:VEVENT
DTSTART;TZID=America/Los_Angeles:20260127T070000
DTEND;TZID=America/Los_Angeles:20260127T073000
DTSTAMP:20260423T164637
CREATED:20251227T061703Z
LAST-MODIFIED:20251227T061703Z
UID:11309-1769497200-1769499000@tobeboundless.com
SUMMARY:Hips & Splits
DESCRIPTION:Hips & Splits. Stiff hip got you down? This hip mobility class is the perfect “fix” to chase those nagging aches and pains away before they become a real problem. 30 minutes\, 2 times a week is recommended to get the job done.
URL:https://tobeboundless.com/event/hips-splits-29/
LOCATION:3930 Utah St.\, San Diego\, Ca 92104\, 3930 Utah St\, San Diego\, CA\, 92104\, United States
ORGANIZER;CN="Boundless Women's Fitness":MAILTO:tobeboundless@gmail.com
END:VEVENT
BEGIN:VEVENT
DTSTART;TZID=UTC:20260127T090000
DTEND;TZID=UTC:20260127T093000
DTSTAMP:20260423T164637
CREATED:20251228T085242Z
LAST-MODIFIED:20251228T085242Z
UID:11387-1769504400-1769506200@tobeboundless.com
SUMMARY:mindful movement
DESCRIPTION:Mindful Movement supports the regulation of your nervous system and the natural rhythm of your hormones. This class is a sanctuary for slowing down\, tuning in\, and restoring balance through soft\, intentional movement rooted in Pilates and somatic awareness.
URL:https://tobeboundless.com/event/mindful-movement-4/
LOCATION:3930 Utah St.\, San Diego\, Ca 92104\, 3930 Utah St\, San Diego\, CA\, 92104\, United States
ORGANIZER;CN="Boundless Women's Fitness":MAILTO:tobeboundless@gmail.com
END:VEVENT
BEGIN:VEVENT
DTSTART;TZID=America/Los_Angeles:20260127T093000
DTEND;TZID=America/Los_Angeles:20260127T100000
DTSTAMP:20260423T164637
CREATED:20251027T041635Z
LAST-MODIFIED:20251228T071541Z
UID:10458-1769506200-1769508000@tobeboundless.com
SUMMARY:total body workout
DESCRIPTION:Total Body Workout is the “perfect pick me” up to work every inch of your body. So if the daily grind has got you down\, this workout has everything you need to boost your mood and put that pep back into your step.
URL:https://tobeboundless.com/event/total-body-workout-12/
LOCATION:3930 Utah St.\, San Diego\, Ca 92104\, 3930 Utah St\, San Diego\, CA\, 92104\, United States
END:VEVENT
BEGIN:VEVENT
DTSTART;TZID=America/Los_Angeles:20260127T093000
DTEND;TZID=America/Los_Angeles:20260127T100000
DTSTAMP:20260423T164637
CREATED:20251228T072628Z
LAST-MODIFIED:20260228T082357Z
UID:11350-1769506200-1769508000@tobeboundless.com
SUMMARY:total body workout
DESCRIPTION:Total Body Workout is the “perfect pick me” up to work every inch of your body. So if the daily grind has got you down\, this workout has everything you need to boost your mood and put that pep back into your step.
URL:https://tobeboundless.com/event/total-body-workout-19/
LOCATION:3930 Utah St.\, San Diego\, Ca 92104\, 3930 Utah St\, San Diego\, CA\, 92104\, United States
END:VEVENT
BEGIN:VEVENT
DTSTART;TZID=UTC:20260127T100000
DTEND;TZID=UTC:20260127T103000
DTSTAMP:20260423T164637
CREATED:20240622T041843Z
LAST-MODIFIED:20251228T065832Z
UID:7881-1769508000-1769509800@tobeboundless.com
SUMMARY:mind over muscle
DESCRIPTION:Mind Over Muscle will have you feeling stronger\, breathing deeper\, standing taller and moving with more confidence at every step.
URL:https://tobeboundless.com/event/mind-over-muscle-10/
LOCATION:3930 Utah St.\, San Diego\, Ca 92104\, 3930 Utah St\, San Diego\, CA\, 92104\, United States
END:VEVENT
END:VCALENDAR