BEGIN:VCALENDAR
VERSION:2.0
PRODID:-//Boundless  - fitness studio for women in North Park, San Diego - ECPv6.15.20//NONSGML v1.0//EN
CALSCALE:GREGORIAN
METHOD:PUBLISH
X-ORIGINAL-URL:https://tobeboundless.com
X-WR-CALDESC:Events for Boundless  - fitness studio for women in North Park, San Diego
REFRESH-INTERVAL;VALUE=DURATION:PT1H
X-Robots-Tag:noindex
X-PUBLISHED-TTL:PT1H
BEGIN:VTIMEZONE
TZID:UTC
BEGIN:STANDARD
TZOFFSETFROM:+0000
TZOFFSETTO:+0000
TZNAME:UTC
DTSTART:20250101T000000
END:STANDARD
END:VTIMEZONE
BEGIN:VTIMEZONE
TZID:America/Los_Angeles
BEGIN:DAYLIGHT
TZOFFSETFROM:-0800
TZOFFSETTO:-0700
TZNAME:PDT
DTSTART:20250309T100000
END:DAYLIGHT
BEGIN:STANDARD
TZOFFSETFROM:-0700
TZOFFSETTO:-0800
TZNAME:PST
DTSTART:20251102T090000
END:STANDARD
BEGIN:DAYLIGHT
TZOFFSETFROM:-0800
TZOFFSETTO:-0700
TZNAME:PDT
DTSTART:20260308T100000
END:DAYLIGHT
BEGIN:STANDARD
TZOFFSETFROM:-0700
TZOFFSETTO:-0800
TZNAME:PST
DTSTART:20261101T090000
END:STANDARD
BEGIN:DAYLIGHT
TZOFFSETFROM:-0800
TZOFFSETTO:-0700
TZNAME:PDT
DTSTART:20270314T100000
END:DAYLIGHT
BEGIN:STANDARD
TZOFFSETFROM:-0700
TZOFFSETTO:-0800
TZNAME:PST
DTSTART:20271107T090000
END:STANDARD
END:VTIMEZONE
BEGIN:VEVENT
DTSTART;TZID=UTC:20260224T060000
DTEND;TZID=UTC:20260224T063000
DTSTAMP:20260423T152201
CREATED:20251227T055546Z
LAST-MODIFIED:20251227T055546Z
UID:11289-1771912800-1771914600@tobeboundless.com
SUMMARY:Ooh La La Legs
DESCRIPTION:Build strength to last a lifetime and gorgeous legs all while improving brain power and bone health.
URL:https://tobeboundless.com/event/ooh-la-la-legs-39/
LOCATION:3930 Utah St.\, San Diego\, Ca 92104\, 3930 Utah St\, San Diego\, CA\, 92104\, United States
ORGANIZER;CN="Boundless Women's Fitness":MAILTO:tobeboundless@gmail.com
END:VEVENT
BEGIN:VEVENT
DTSTART;TZID=UTC:20260224T063000
DTEND;TZID=UTC:20260224T070000
DTSTAMP:20260423T152201
CREATED:20251207T072122Z
LAST-MODIFIED:20251227T040544Z
UID:10814-1771914600-1771916400@tobeboundless.com
SUMMARY:rise & stride
DESCRIPTION:Rise & Stride is the perfect intorduction to fitness for beginners who want to start with walk/run intervals or walking only. This supportive\, outdoor class combines fresh air\, accountability\, and community to help you build confidence and endurance at your own pace. Guided sessions make it easy to stay motivted while connecting with others who share  your goals. Whether you’re looking to improve  your health\, enjoy social  support\, or simply move more\, Rise & Stride offers a welcoming space to grow strong and stride forward.
URL:https://tobeboundless.com/event/rise-stride-8/
LOCATION:3930 Utah St.\, San Diego\, Ca 92104\, 3930 Utah St\, San Diego\, CA\, 92104\, United States
ORGANIZER;CN="Boundless Women's Fitness":MAILTO:tobeboundless@gmail.com
END:VEVENT
BEGIN:VEVENT
DTSTART;TZID=America/Los_Angeles:20260224T070000
DTEND;TZID=America/Los_Angeles:20260224T073000
DTSTAMP:20260423T152201
CREATED:20251227T062001Z
LAST-MODIFIED:20251227T062001Z
UID:11310-1771916400-1771918200@tobeboundless.com
SUMMARY:Hips & Splits
DESCRIPTION:Hips & Splits. Stiff hip got you down? This hip mobility class is the perfect “fix” to chase those nagging aches and pains away before they become a real problem. 30 minutes\, 2 times a week is recommended to get the job done.
URL:https://tobeboundless.com/event/hips-splits-33/
LOCATION:3930 Utah St.\, San Diego\, Ca 92104\, 3930 Utah St\, San Diego\, CA\, 92104\, United States
ORGANIZER;CN="Boundless Women's Fitness":MAILTO:tobeboundless@gmail.com
END:VEVENT
BEGIN:VEVENT
DTSTART;TZID=America/Los_Angeles:20260224T093000
DTEND;TZID=America/Los_Angeles:20260224T100000
DTSTAMP:20260423T152201
CREATED:20251027T041910Z
LAST-MODIFIED:20251228T072253Z
UID:10454-1771925400-1771927200@tobeboundless.com
SUMMARY:total body workout
DESCRIPTION:Total Body Workout is the “perfect pick me” up to work every inch of your body. So if the daily grind has got you down\, this workout has everything you need to boost your mood and put that pep back into your step.
URL:https://tobeboundless.com/event/total-body-workout-15/
LOCATION:3930 Utah St.\, San Diego\, Ca 92104\, 3930 Utah St\, San Diego\, CA\, 92104\, United States
END:VEVENT
BEGIN:VEVENT
DTSTART;TZID=UTC:20260224T100000
DTEND;TZID=UTC:20260224T105500
DTSTAMP:20260423T152201
CREATED:20260204T064439Z
LAST-MODIFIED:20260204T075840Z
UID:11945-1771927200-1771930500@tobeboundless.com
SUMMARY:brilliant\, nimble & resilient
DESCRIPTION:A calm\, welcoming class where you can rebuild balance\, strength\, and confidence at a pace that feels right for your body. \nEach session focuses on practical\, everyday movements — stepping off curbs\, walking on uneven ground\, getting up from the floor\, staying steady during daily activities — so you can move through life feeling safer\, stronger\, and more independent.
URL:https://tobeboundless.com/event/brilliant-nimble-resilient-2/
LOCATION:3930 Utah St.\, San Diego\, Ca 92104\, 3930 Utah St\, San Diego\, CA\, 92104\, United States
ORGANIZER;CN="Boundless Women's Fitness":MAILTO:tobeboundless@gmail.com
END:VEVENT
BEGIN:VEVENT
DTSTART;TZID=UTC:20260224T103000
DTEND;TZID=UTC:20260224T110000
DTSTAMP:20260423T152201
CREATED:20251228T073530Z
LAST-MODIFIED:20251228T073540Z
UID:11363-1771929000-1771930800@tobeboundless.com
SUMMARY:defy impossible
DESCRIPTION:Stop fighting for strength. Build it. Defy Impossible targets the muscles women are rarely taught to activate — so you get stronger\, faster\, and with way more confidence. \n 
URL:https://tobeboundless.com/event/defy-impossible-16/
LOCATION:CA
END:VEVENT
BEGIN:VEVENT
DTSTART;TZID=UTC:20260224T120000
DTEND;TZID=UTC:20260224T123000
DTSTAMP:20260423T152201
CREATED:20260204T072643Z
LAST-MODIFIED:20260204T180643Z
UID:11957-1771934400-1771936200@tobeboundless.com
SUMMARY:core harmony
DESCRIPTION:Core Harmony supports the regulation of your nervous system and the natural rhythm of your hormones. This class is a sanctuary for slowing down\, tuning in\, and restoring balance through soft\, intentional movement rooted in Pilates and somatic awareness.
URL:https://tobeboundless.com/event/core-harmony-3/
LOCATION:3930 Utah St.\, San Diego\, Ca 92104\, 3930 Utah St\, San Diego\, CA\, 92104\, United States
ORGANIZER;CN="Boundless Women's Fitness":MAILTO:tobeboundless@gmail.com
END:VEVENT
END:VCALENDAR