BEGIN:VCALENDAR
VERSION:2.0
PRODID:-//Boundless  - fitness studio for women in North Park, San Diego - ECPv6.15.20//NONSGML v1.0//EN
CALSCALE:GREGORIAN
METHOD:PUBLISH
X-ORIGINAL-URL:https://tobeboundless.com
X-WR-CALDESC:Events for Boundless  - fitness studio for women in North Park, San Diego
REFRESH-INTERVAL;VALUE=DURATION:PT1H
X-Robots-Tag:noindex
X-PUBLISHED-TTL:PT1H
BEGIN:VTIMEZONE
TZID:UTC
BEGIN:STANDARD
TZOFFSETFROM:+0000
TZOFFSETTO:+0000
TZNAME:UTC
DTSTART:20250101T000000
END:STANDARD
END:VTIMEZONE
BEGIN:VTIMEZONE
TZID:America/Los_Angeles
BEGIN:DAYLIGHT
TZOFFSETFROM:-0800
TZOFFSETTO:-0700
TZNAME:PDT
DTSTART:20250309T100000
END:DAYLIGHT
BEGIN:STANDARD
TZOFFSETFROM:-0700
TZOFFSETTO:-0800
TZNAME:PST
DTSTART:20251102T090000
END:STANDARD
BEGIN:DAYLIGHT
TZOFFSETFROM:-0800
TZOFFSETTO:-0700
TZNAME:PDT
DTSTART:20260308T100000
END:DAYLIGHT
BEGIN:STANDARD
TZOFFSETFROM:-0700
TZOFFSETTO:-0800
TZNAME:PST
DTSTART:20261101T090000
END:STANDARD
BEGIN:DAYLIGHT
TZOFFSETFROM:-0800
TZOFFSETTO:-0700
TZNAME:PDT
DTSTART:20270314T100000
END:DAYLIGHT
BEGIN:STANDARD
TZOFFSETFROM:-0700
TZOFFSETTO:-0800
TZNAME:PST
DTSTART:20271107T090000
END:STANDARD
END:VTIMEZONE
BEGIN:VEVENT
DTSTART;TZID=UTC:20260421T060000
DTEND;TZID=UTC:20260421T063000
DTSTAMP:20260423T142055
CREATED:20260321T102853Z
LAST-MODIFIED:20260321T102853Z
UID:12306-1776751200-1776753000@tobeboundless.com
SUMMARY:Ooh La La Legs
DESCRIPTION:Build strength to last a lifetime and gorgeous legs all while improving brain power and bone health.
URL:https://tobeboundless.com/event/ooh-la-la-legs-57/
LOCATION:3930 Utah St.\, San Diego\, Ca 92104\, 3930 Utah St\, San Diego\, CA\, 92104\, United States
ORGANIZER;CN="Boundless Women's Fitness":MAILTO:tobeboundless@gmail.com
END:VEVENT
BEGIN:VEVENT
DTSTART;TZID=UTC:20260421T063000
DTEND;TZID=UTC:20260421T070000
DTSTAMP:20260423T142055
CREATED:20260322T011140Z
LAST-MODIFIED:20260322T011140Z
UID:12375-1776753000-1776754800@tobeboundless.com
SUMMARY:rise & stride
DESCRIPTION:Rise & Stride is the perfect intorduction to fitness for beginners who want to start with walk/run intervals or walking only. This supportive\, outdoor class combines fresh air\, accountability\, and community to help you build confidence and endurance at your own pace. Guided sessions make it easy to stay motivted while connecting with others who share  your goals. Whether you’re looking to improve  your health\, enjoy social  support\, or simply move more\, Rise & Stride offers a welcoming space to grow strong and stride forward.
URL:https://tobeboundless.com/event/rise-stride-33/
LOCATION:3930 Utah St.\, San Diego\, Ca 92104\, 3930 Utah St\, San Diego\, CA\, 92104\, United States
ORGANIZER;CN="Boundless Women's Fitness":MAILTO:tobeboundless@gmail.com
END:VEVENT
BEGIN:VEVENT
DTSTART;TZID=America/Los_Angeles:20260421T070000
DTEND;TZID=America/Los_Angeles:20260421T073000
DTSTAMP:20260423T142055
CREATED:20260322T011911Z
LAST-MODIFIED:20260322T011911Z
UID:12384-1776754800-1776756600@tobeboundless.com
SUMMARY:Hips & Splits
DESCRIPTION:Hips & Splits. Stiff hip got you down? This hip mobility class is the perfect “fix” to chase those nagging aches and pains away before they become a real problem. 30 minutes\, 2 times a week is recommended to get the job done.
URL:https://tobeboundless.com/event/hips-splits-49/
LOCATION:3930 Utah St.\, San Diego\, Ca 92104\, 3930 Utah St\, San Diego\, CA\, 92104\, United States
ORGANIZER;CN="Boundless Women's Fitness":MAILTO:tobeboundless@gmail.com
END:VEVENT
BEGIN:VEVENT
DTSTART;TZID=UTC:20260421T090000
DTEND;TZID=UTC:20260421T093000
DTSTAMP:20260423T142055
CREATED:20260322T012616Z
LAST-MODIFIED:20260322T012616Z
UID:12394-1776762000-1776763800@tobeboundless.com
SUMMARY:defy impossible
DESCRIPTION:Stop fighting for strength. Build it. Defy Impossible targets the muscles women are rarely taught to activate — so you get stronger\, faster\, and with way more confidence. \n 
URL:https://tobeboundless.com/event/defy-impossible-11/
LOCATION:CA
END:VEVENT
BEGIN:VEVENT
DTSTART;TZID=UTC:20260421T093000
DTEND;TZID=UTC:20260421T100000
DTSTAMP:20260423T142055
CREATED:20240611T073809Z
LAST-MODIFIED:20260228T072325Z
UID:7778-1776763800-1776765600@tobeboundless.com
SUMMARY:baby got back
DESCRIPTION:We’re lifting\, lengthening\, and stacking that spine like it’s hot. This class blends backbend basics with rock‑solid shoulder work to build your pull‑ups one rep at a time—slow\, smart\, and supported. We break it down so backbends feel doable\, your pull‑ups feel powerful\, and your confidence feels boundless.
URL:https://tobeboundless.com/event/baby-got-back-8/
LOCATION:3930 Utah St.\, San Diego\, Ca 92104\, 3930 Utah St\, San Diego\, CA\, 92104\, United States
ORGANIZER;CN="Boundless Women's Fitness":MAILTO:tobeboundless@gmail.com
END:VEVENT
BEGIN:VEVENT
DTSTART;TZID=UTC:20260421T100000
DTEND;TZID=UTC:20260421T105000
DTSTAMP:20260423T142055
CREATED:20260322T013522Z
LAST-MODIFIED:20260322T013522Z
UID:12415-1776765600-1776768600@tobeboundless.com
SUMMARY:brilliant\, nimble & resilient
DESCRIPTION:A calm\, welcoming class where you can rebuild balance\, strength\, and confidence at a pace that feels right for your body. \nEach session focuses on practical\, everyday movements — stepping off curbs\, walking on uneven ground\, getting up from the floor\, staying steady during daily activities — so you can move through life feeling safer\, stronger\, and more independent.
URL:https://tobeboundless.com/event/brilliant-nimble-resilient-11/
LOCATION:3930 Utah St.\, San Diego\, Ca 92104\, 3930 Utah St\, San Diego\, CA\, 92104\, United States
ORGANIZER;CN="Boundless Women's Fitness":MAILTO:tobeboundless@gmail.com
END:VEVENT
BEGIN:VEVENT
DTSTART;TZID=UTC:20260421T120000
DTEND;TZID=UTC:20260421T125000
DTSTAMP:20260423T142055
CREATED:20260322T013014Z
LAST-MODIFIED:20260322T013014Z
UID:12403-1776772800-1776775800@tobeboundless.com
SUMMARY:core harmony
DESCRIPTION:Core Harmony supports the regulation of your nervous system and the natural rhythm of your hormones. This class is a sanctuary for slowing down\, tuning in\, and restoring balance through soft\, intentional movement rooted in Pilates and somatic awareness.
URL:https://tobeboundless.com/event/core-harmony-11/
LOCATION:3930 Utah St.\, San Diego\, Ca 92104\, 3930 Utah St\, San Diego\, CA\, 92104\, United States
ORGANIZER;CN="Boundless Women's Fitness":MAILTO:tobeboundless@gmail.com
END:VEVENT
END:VCALENDAR