BEGIN:VCALENDAR
VERSION:2.0
PRODID:-//Boundless  - fitness studio for women in North Park, San Diego - ECPv6.15.20//NONSGML v1.0//EN
CALSCALE:GREGORIAN
METHOD:PUBLISH
X-ORIGINAL-URL:https://tobeboundless.com
X-WR-CALDESC:Events for Boundless  - fitness studio for women in North Park, San Diego
REFRESH-INTERVAL;VALUE=DURATION:PT1H
X-Robots-Tag:noindex
X-PUBLISHED-TTL:PT1H
BEGIN:VTIMEZONE
TZID:UTC
BEGIN:STANDARD
TZOFFSETFROM:+0000
TZOFFSETTO:+0000
TZNAME:UTC
DTSTART:20250101T000000
END:STANDARD
END:VTIMEZONE
BEGIN:VEVENT
DTSTART;TZID=UTC:20260505T060000
DTEND;TZID=UTC:20260505T063000
DTSTAMP:20260423T152200
CREATED:20260321T103013Z
LAST-MODIFIED:20260321T103013Z
UID:12304-1777960800-1777962600@tobeboundless.com
SUMMARY:Ooh La La Legs
DESCRIPTION:Build strength to last a lifetime and gorgeous legs all while improving brain power and bone health.
URL:https://tobeboundless.com/event/ooh-la-la-legs-59/
LOCATION:3930 Utah St.\, San Diego\, Ca 92104\, 3930 Utah St\, San Diego\, CA\, 92104\, United States
ORGANIZER;CN="Boundless Women's Fitness":MAILTO:tobeboundless@gmail.com
END:VEVENT
BEGIN:VEVENT
DTSTART;TZID=UTC:20260505T093000
DTEND;TZID=UTC:20260505T100000
DTSTAMP:20260423T152200
CREATED:20260228T075547Z
LAST-MODIFIED:20260228T075547Z
UID:12088-1777973400-1777975200@tobeboundless.com
SUMMARY:baby got back
DESCRIPTION:We’re lifting\, lengthening\, and stacking that spine like it’s hot. This class blends backbend basics with rock‑solid shoulder work to build your pull‑ups one rep at a time—slow\, smart\, and supported. We break it down so backbends feel doable\, your pull‑ups feel powerful\, and your confidence feels boundless.
URL:https://tobeboundless.com/event/baby-got-back-9/
LOCATION:3930 Utah St.\, San Diego\, Ca 92104\, 3930 Utah St\, San Diego\, CA\, 92104\, United States
ORGANIZER;CN="Boundless Women's Fitness":MAILTO:tobeboundless@gmail.com
END:VEVENT
END:VCALENDAR