BEGIN:VCALENDAR
VERSION:2.0
PRODID:-//Boundless  - fitness studio for women in North Park, San Diego - ECPv6.15.20//NONSGML v1.0//EN
CALSCALE:GREGORIAN
METHOD:PUBLISH
X-WR-CALNAME:Boundless  - fitness studio for women in North Park, San Diego
X-ORIGINAL-URL:https://tobeboundless.com
X-WR-CALDESC:Events for Boundless  - fitness studio for women in North Park, San Diego
REFRESH-INTERVAL;VALUE=DURATION:PT1H
X-Robots-Tag:noindex
X-PUBLISHED-TTL:PT1H
BEGIN:VTIMEZONE
TZID:America/Los_Angeles
BEGIN:DAYLIGHT
TZOFFSETFROM:-0800
TZOFFSETTO:-0700
TZNAME:PDT
DTSTART:20240310T100000
END:DAYLIGHT
BEGIN:STANDARD
TZOFFSETFROM:-0700
TZOFFSETTO:-0800
TZNAME:PST
DTSTART:20241103T090000
END:STANDARD
BEGIN:DAYLIGHT
TZOFFSETFROM:-0800
TZOFFSETTO:-0700
TZNAME:PDT
DTSTART:20250309T100000
END:DAYLIGHT
BEGIN:STANDARD
TZOFFSETFROM:-0700
TZOFFSETTO:-0800
TZNAME:PST
DTSTART:20251102T090000
END:STANDARD
BEGIN:DAYLIGHT
TZOFFSETFROM:-0800
TZOFFSETTO:-0700
TZNAME:PDT
DTSTART:20260308T100000
END:DAYLIGHT
BEGIN:STANDARD
TZOFFSETFROM:-0700
TZOFFSETTO:-0800
TZNAME:PST
DTSTART:20261101T090000
END:STANDARD
END:VTIMEZONE
BEGIN:VTIMEZONE
TZID:UTC
BEGIN:STANDARD
TZOFFSETFROM:+0000
TZOFFSETTO:+0000
TZNAME:UTC
DTSTART:20240101T000000
END:STANDARD
END:VTIMEZONE
BEGIN:VEVENT
DTSTART;TZID=America/Los_Angeles:20250511T100000
DTEND;TZID=America/Los_Angeles:20250511T105000
DTSTAMP:20260424T070550
CREATED:20250413T002124Z
LAST-MODIFIED:20250413T003127Z
UID:9187-1746957600-1746960600@tobeboundless.com
SUMMARY:prenatal Pilates
DESCRIPTION:Our prenatal Pilates classes are the best way to build core strength and balance while reducing mommy aches and muscle tension. Get fit at any stage of pregnancy and beyond.
URL:https://tobeboundless.com/event/prenatal-pilates-20/
LOCATION:3930 Utah St.\, San Diego\, Ca 92104\, 3930 Utah St\, San Diego\, CA\, 92104\, United States
ATTACH;FMTTYPE=image/jpeg:https://tobeboundless.com/wp-content/uploads/2024/07/20240229_180056-scaled.jpg
ORGANIZER;CN="Boundless Women's Fitness":MAILTO:tobeboundless@gmail.com
END:VEVENT
BEGIN:VEVENT
DTSTART;TZID=UTC:20250508T173000
DTEND;TZID=UTC:20250508T182000
DTSTAMP:20260424T070550
CREATED:20240922T005431Z
LAST-MODIFIED:20250413T004330Z
UID:8327-1746725400-1746728400@tobeboundless.com
SUMMARY:prenatal Pilates
DESCRIPTION:Build strength and endurance with prenatal Pilates during pregnancy and re-build your core strength\,easily after your baby is born.
URL:https://tobeboundless.com/event/prenatal-pilates-16/
LOCATION:3930 Utah St.\, San Diego\, Ca 92104\, 3930 Utah St\, San Diego\, CA\, 92104\, United States
ATTACH;FMTTYPE=image/jpeg:https://tobeboundless.com/wp-content/uploads/2024/07/20240229_180056-scaled.jpg
ORGANIZER;CN="Boundless Women's Fitness":MAILTO:tobeboundless@gmail.com
END:VEVENT
BEGIN:VEVENT
DTSTART;TZID=America/Los_Angeles:20250507T160000
DTEND;TZID=America/Los_Angeles:20250507T163000
DTSTAMP:20260424T070550
CREATED:20240629T082533Z
LAST-MODIFIED:20250329T044524Z
UID:7981-1746633600-1746635400@tobeboundless.com
SUMMARY:functional flexibility
DESCRIPTION:Functional Flexibility stops daily muscle aches & stiffness by building strength. If you can spare 30 minutes\, 2 times a week\, you’ll love the feeling.
URL:https://tobeboundless.com/event/functional-flexibility-4/
LOCATION:3930 Utah St.\, San Diego\, Ca 92104\, 3930 Utah St\, San Diego\, CA\, 92104\, United States
END:VEVENT
BEGIN:VEVENT
DTSTART;TZID=America/Los_Angeles:20250504T100000
DTEND;TZID=America/Los_Angeles:20250504T105000
DTSTAMP:20260424T070550
CREATED:20250412T234921Z
LAST-MODIFIED:20250413T003209Z
UID:9186-1746352800-1746355800@tobeboundless.com
SUMMARY:prenatal Pilates
DESCRIPTION:Our prenatal Pilates classes are the best way to build core strength and balance while reducing mommy aches and muscle tension. Get fit at any stage of pregnancy and beyond.
URL:https://tobeboundless.com/event/prenatal-pilates-19/
LOCATION:3930 Utah St.\, San Diego\, Ca 92104\, 3930 Utah St\, San Diego\, CA\, 92104\, United States
ATTACH;FMTTYPE=image/jpeg:https://tobeboundless.com/wp-content/uploads/2024/07/20240229_180056-scaled.jpg
ORGANIZER;CN="Boundless Women's Fitness":MAILTO:tobeboundless@gmail.com
END:VEVENT
BEGIN:VEVENT
DTSTART;TZID=UTC:20250501T173000
DTEND;TZID=UTC:20250501T182000
DTSTAMP:20260424T070550
CREATED:20240922T005511Z
LAST-MODIFIED:20250413T004207Z
UID:8326-1746120600-1746123600@tobeboundless.com
SUMMARY:prenatal Pilates
DESCRIPTION:Build strength and endurance with prenatal Pilates during pregnancy and re-build your core strength\, easily after your baby is born.
URL:https://tobeboundless.com/event/prenatal-pilates-15/
LOCATION:3930 Utah St.\, San Diego\, Ca 92104\, 3930 Utah St\, San Diego\, CA\, 92104\, United States
ATTACH;FMTTYPE=image/jpeg:https://tobeboundless.com/wp-content/uploads/2024/07/20240229_180056-scaled.jpg
ORGANIZER;CN="Boundless Women's Fitness":MAILTO:tobeboundless@gmail.com
END:VEVENT
BEGIN:VEVENT
DTSTART;TZID=America/Los_Angeles:20250430T160000
DTEND;TZID=America/Los_Angeles:20250430T163000
DTSTAMP:20260424T070550
CREATED:20240720T072310Z
LAST-MODIFIED:20250329T045247Z
UID:8060-1746028800-1746030600@tobeboundless.com
SUMMARY:functional flexibility
DESCRIPTION:Functional Flexibility stops daily muscle aches & stiffness by building strength. If you can spare 30 minutes\, 2 times a week\, you’ll love the feeling.
URL:https://tobeboundless.com/event/functional-flexibility-3/
LOCATION:3930 Utah St.\, San Diego\, Ca 92104\, 3930 Utah St\, San Diego\, CA\, 92104\, United States
END:VEVENT
BEGIN:VEVENT
DTSTART;TZID=UTC:20250424T173000
DTEND;TZID=UTC:20250424T182000
DTSTAMP:20260424T070550
CREATED:20241020T004807Z
LAST-MODIFIED:20250413T003809Z
UID:8552-1745515800-1745518800@tobeboundless.com
SUMMARY:prenatal Pilates
DESCRIPTION:Build strength and endurance with prenatal Pilates during pregnancy and re-build your core strength\, easily after your baby is born.
URL:https://tobeboundless.com/event/prenatal-pilates-8/
LOCATION:3930 Utah St.\, San Diego\, Ca 92104\, 3930 Utah St\, San Diego\, CA\, 92104\, United States
ATTACH;FMTTYPE=image/jpeg:https://tobeboundless.com/wp-content/uploads/2024/07/20240229_180056-scaled.jpg
ORGANIZER;CN="Boundless Women's Fitness":MAILTO:tobeboundless@gmail.com
END:VEVENT
BEGIN:VEVENT
DTSTART;TZID=America/Los_Angeles:20250423T160000
DTEND;TZID=America/Los_Angeles:20250423T163000
DTSTAMP:20260424T070550
CREATED:20241020T023334Z
LAST-MODIFIED:20250329T044340Z
UID:8584-1745424000-1745425800@tobeboundless.com
SUMMARY:functional flexibility
DESCRIPTION:Functional Flexibility stops daily muscle aches & stiffness by building strength. If you can spare 30 minutes\, 2 times a week\, you’ll love the feeling.
URL:https://tobeboundless.com/event/functional-flexibility-2/
LOCATION:3930 Utah St.\, San Diego\, Ca 92104\, 3930 Utah St\, San Diego\, CA\, 92104\, United States
END:VEVENT
BEGIN:VEVENT
DTSTART;TZID=UTC:20250417T173000
DTEND;TZID=UTC:20250417T182000
DTSTAMP:20260424T070550
CREATED:20241020T004929Z
LAST-MODIFIED:20250413T003329Z
UID:8551-1744911000-1744914000@tobeboundless.com
SUMMARY:prenatal Pilates
DESCRIPTION:Build strength and endurance during pregnancy and re-build your core strength after your baby is born with our prenatal Pilates class.
URL:https://tobeboundless.com/event/prenatal-pilates-6/
LOCATION:3930 Utah St.\, San Diego\, Ca 92104\, 3930 Utah St\, San Diego\, CA\, 92104\, United States
ATTACH;FMTTYPE=image/jpeg:https://tobeboundless.com/wp-content/uploads/2024/07/20240229_180056-scaled.jpg
ORGANIZER;CN="Boundless Women's Fitness":MAILTO:tobeboundless@gmail.com
END:VEVENT
BEGIN:VEVENT
DTSTART;TZID=America/Los_Angeles:20250416T160000
DTEND;TZID=America/Los_Angeles:20250416T163000
DTSTAMP:20260424T070550
CREATED:20240528T020332Z
LAST-MODIFIED:20250329T044214Z
UID:7616-1744819200-1744821000@tobeboundless.com
SUMMARY:fuctional flexibility
DESCRIPTION:Functional Flexibility stops daily muscle aches & stiffness by building strength. If you can spare 30 minutes\, 2 times a week\, you’ll love the feeling.
URL:https://tobeboundless.com/event/functional-flexibility-7/
LOCATION:3930 Utah St.\, San Diego\, Ca 92104\, 3930 Utah St\, San Diego\, CA\, 92104\, United States
END:VEVENT
BEGIN:VEVENT
DTSTART;TZID=America/Los_Angeles:20250410T173000
DTEND;TZID=America/Los_Angeles:20250410T182000
DTSTAMP:20260424T070550
CREATED:20241211T013545Z
LAST-MODIFIED:20250413T003249Z
UID:8617-1744306200-1744309200@tobeboundless.com
SUMMARY:prenatal Pilates
DESCRIPTION:Our prenatal Pilates classes are the best way to build core strength and balance while reducing mommy aches and muscle tension. Get fit at any stage of pregnancy and beyond.
URL:https://tobeboundless.com/event/prenatal-pilates/
LOCATION:3930 Utah St.\, San Diego\, Ca 92104\, 3930 Utah St\, San Diego\, CA\, 92104\, United States
ATTACH;FMTTYPE=image/jpeg:https://tobeboundless.com/wp-content/uploads/2024/07/20240229_180056-scaled.jpg
ORGANIZER;CN="Boundless Women's Fitness":MAILTO:tobeboundless@gmail.com
END:VEVENT
BEGIN:VEVENT
DTSTART;TZID=America/Los_Angeles:20250409T160000
DTEND;TZID=America/Los_Angeles:20250409T163000
DTSTAMP:20260424T070550
CREATED:20240527T224014Z
LAST-MODIFIED:20250329T044112Z
UID:7526-1744214400-1744216200@tobeboundless.com
SUMMARY:functional flexibility
DESCRIPTION:Functional Flexibility stops daily muscle aches & stiffness by building strength. If you can spare 30 minutes\, 2 times a week\, you’ll love the feeling.
URL:https://tobeboundless.com/event/functional-flexibility/
LOCATION:3930 Utah St.\, San Diego\, Ca 92104\, 3930 Utah St\, San Diego\, CA\, 92104\, United States
END:VEVENT
BEGIN:VEVENT
DTSTART;TZID=UTC:20250407T063000
DTEND;TZID=UTC:20250407T190000
DTSTAMP:20260424T070550
CREATED:20250329T072314Z
LAST-MODIFIED:20250329T072314Z
UID:9161-1744007400-1744052400@tobeboundless.com
SUMMARY:mobility & muscle
DESCRIPTION:
URL:https://tobeboundless.com/event/mobility-muscle/
LOCATION:3930 Utah St.\, San Diego\, Ca 92104\, 3930 Utah St\, San Diego\, CA\, 92104\, United States
ORGANIZER;CN="Boundless Women's Fitness":MAILTO:tobeboundless@gmail.com
END:VEVENT
BEGIN:VEVENT
DTSTART;TZID=UTC:20250403T173000
DTEND;TZID=UTC:20250403T182000
DTSTAMP:20260424T070550
CREATED:20241020T004849Z
LAST-MODIFIED:20250413T003426Z
UID:8553-1743701400-1743704400@tobeboundless.com
SUMMARY:prenatal Pilates
DESCRIPTION:Build strength and endurance with prenatal Pilates during pregnancy and re-build your core strength\, easily after your baby is born.
URL:https://tobeboundless.com/event/prenatal-pilates-7/
LOCATION:3930 Utah St.\, San Diego\, Ca 92104\, 3930 Utah St\, San Diego\, CA\, 92104\, United States
ATTACH;FMTTYPE=image/jpeg:https://tobeboundless.com/wp-content/uploads/2024/07/20240229_180056-scaled.jpg
ORGANIZER;CN="Boundless Women's Fitness":MAILTO:tobeboundless@gmail.com
END:VEVENT
BEGIN:VEVENT
DTSTART;TZID=America/Los_Angeles:20250402T160000
DTEND;TZID=America/Los_Angeles:20250402T163000
DTSTAMP:20260424T070550
CREATED:20240608T081136Z
LAST-MODIFIED:20250226T083416Z
UID:7687-1743609600-1743611400@tobeboundless.com
SUMMARY:functional flexibility
DESCRIPTION:Functional Flexibility stops daily muscle aches & stiffness by building strength. If you can spare 30 minutes\, 2 times a week\, you’ll love the feeling.
URL:https://tobeboundless.com/event/functional-flexibility-6/
LOCATION:3930 Utah St.\, San Diego\, Ca 92104\, 3930 Utah St\, San Diego\, CA\, 92104\, United States
END:VEVENT
BEGIN:VEVENT
DTSTART;TZID=UTC:20250330T120000
DTEND;TZID=UTC:20250330T140000
DTSTAMP:20260424T070550
CREATED:20250328T151504Z
LAST-MODIFIED:20250328T151959Z
UID:9128-1743336000-1743343200@tobeboundless.com
SUMMARY:acroyoga workshop
DESCRIPTION:Acroyoga is a fun-filled\, laugh-out-loud\, stretch class is guaranteed to eliminate stiff joint\, daily muscle aches and chase away the “blues”. \n  \n 
URL:https://tobeboundless.com/event/acroyoga-workshop/
LOCATION:3930 Utah St.\, San Diego\, Ca 92104\, 3930 Utah St\, San Diego\, CA\, 92104\, United States
ATTACH;FMTTYPE=image/jpeg:https://tobeboundless.com/wp-content/uploads/2022/10/acro-yoga-back-support-scaled.jpg
ORGANIZER;CN="Boundless Women's Fitness":MAILTO:tobeboundless@gmail.com
END:VEVENT
BEGIN:VEVENT
DTSTART;TZID=UTC:20250330T080000
DTEND;TZID=UTC:20250330T090000
DTSTAMP:20260424T070550
CREATED:20250302T071704Z
LAST-MODIFIED:20250302T071704Z
UID:9091-1743321600-1743325200@tobeboundless.com
SUMMARY:Urban Trek
DESCRIPTION:Discover the urban beauty of the Parks: Balboa Park\, North Park and South Park. It’s a walk and workout tour of our amazing neighborhoods. It gives you a chance to connect with your Boundless community. \n 
URL:https://tobeboundless.com/event/urban-trek/
LOCATION:3930 Utah St.\, San Diego\, Ca 92104\, 3930 Utah St\, San Diego\, CA\, 92104\, United States
ORGANIZER;CN="Boundless Women's Fitness":MAILTO:tobeboundless@gmail.com
END:VEVENT
BEGIN:VEVENT
DTSTART;TZID=UTC:20250220T173000
DTEND;TZID=UTC:20250220T182000
DTSTAMP:20260424T070550
CREATED:20240605T050939Z
LAST-MODIFIED:20250126T073510Z
UID:7643-1740072600-1740075600@tobeboundless.com
SUMMARY:prenatal Pilates
DESCRIPTION:Our prenatal Pilates classes are the best way to build core strength and balance while reducing mommy aches and muscle tension. Get fit at any stage of pregnany and beyond.
URL:https://tobeboundless.com/event/prenatal-pilates-2/
LOCATION:3930 Utah St.\, San Diego\, Ca 92104\, 3930 Utah St\, San Diego\, CA\, 92104\, United States
END:VEVENT
BEGIN:VEVENT
DTSTART;TZID=America/Los_Angeles:20250219T060000
DTEND;TZID=America/Los_Angeles:20250219T120000
DTSTAMP:20260424T070550
CREATED:20240526T070437Z
LAST-MODIFIED:20250125T014138Z
UID:7511-1739944800-1739966400@tobeboundless.com
SUMMARY:women’s outdoor hikes
DESCRIPTION:Our scenic women’s outdoor hiking groups explore San Diego’s beautiful backcountry. It’s a moving meditation for women who love the outdoors\, enjoy walking and communing with nature while connecting with new friends as they get in shape.
URL:https://tobeboundless.com/event/womens-outdoor-hikes/
LOCATION:3930 Utah St.\, San Diego\, Ca 92104\, 3930 Utah St\, San Diego\, CA\, 92104\, United States
ATTACH;FMTTYPE=image/jpeg:https://tobeboundless.com/wp-content/uploads/2024/04/IMG_20240105_095322848-scaled.jpg
END:VEVENT
BEGIN:VEVENT
DTSTART;TZID=UTC:20250203T163000
DTEND;TZID=UTC:20250203T172000
DTSTAMP:20260424T070550
CREATED:20240922T005557Z
LAST-MODIFIED:20250124T080322Z
UID:8325-1738600200-1738603200@tobeboundless.com
SUMMARY:preantal Pilates
DESCRIPTION:Build strength and endurance with prenatal Pilates during pregnancy and re-build your core strength\, easily after your baby is born.
URL:https://tobeboundless.com/event/prenatal-pilates-14/
LOCATION:3930 Utah St.\, San Diego\, Ca 92104\, 3930 Utah St\, San Diego\, CA\, 92104\, United States
ORGANIZER;CN="Boundless Women's Fitness":MAILTO:tobeboundless@gmail.com
END:VEVENT
BEGIN:VEVENT
DTSTART;TZID=UTC:20250203T090000
DTEND;TZID=UTC:20250203T095000
DTSTAMP:20260424T070550
CREATED:20241211T073543Z
LAST-MODIFIED:20250124T073142Z
UID:8632-1738573200-1738576200@tobeboundless.com
SUMMARY:baby & me - zen workout
DESCRIPTION:This unique Pilates and yoga class is the perfect opportunity to bond with your baby\, focus on strengthening your core\, safely\, toning muscles muscles\, increasing your flexibility\, and reducing your cortisol levels and connecting with other moms and their little one. Perfect for infants 0-3 months.
URL:https://tobeboundless.com/event/baby-me-piloga-a-zen-workout-for-peace-tranquility/
LOCATION:3930 Utah St.\, San Diego\, Ca 92104\, 3930 Utah St\, San Diego\, CA\, 92104\, United States
ORGANIZER;CN="Boundless Women's Fitness":MAILTO:tobeboundless@gmail.com
END:VEVENT
BEGIN:VEVENT
DTSTART;TZID=America/Los_Angeles:20250202T163000
DTEND;TZID=America/Los_Angeles:20250202T170000
DTSTAMP:20260424T070550
CREATED:20240608T080649Z
LAST-MODIFIED:20241126T134839Z
UID:7679-1738513800-1738515600@tobeboundless.com
SUMMARY:prehab
DESCRIPTION:Avoid surgery with Prehab. If you can spare 30 minutes\, 2 times a week\, then this class is your path to pain free living.
URL:https://tobeboundless.com/event/prehab-6/
LOCATION:3930 Utah St.\, San Diego\, Ca 92104\, 3930 Utah St\, San Diego\, CA\, 92104\, United States
ORGANIZER;CN="Boundless Women's Fitness":MAILTO:tobeboundless@gmail.com
END:VEVENT
BEGIN:VEVENT
DTSTART;TZID=America/Los_Angeles:20250129T160000
DTEND;TZID=America/Los_Angeles:20250129T163000
DTSTAMP:20260424T070550
CREATED:20240608T080040Z
LAST-MODIFIED:20241126T141958Z
UID:7671-1738166400-1738168200@tobeboundless.com
SUMMARY:prehab
DESCRIPTION:Avoid surgery with Prehab. If you can spare 30 minutes\, 2 times a week\, then this class is your path to pain free living.
URL:https://tobeboundless.com/event/prehab-5/
LOCATION:3930 Utah St.\, San Diego\, Ca 92104\, 3930 Utah St\, San Diego\, CA\, 92104\, United States
END:VEVENT
BEGIN:VEVENT
DTSTART;TZID=UTC:20250127T090000
DTEND;TZID=UTC:20250127T095000
DTSTAMP:20260424T070550
CREATED:20241211T074438Z
LAST-MODIFIED:20241224T233046Z
UID:8636-1737968400-1737971400@tobeboundless.com
SUMMARY:baby & me - zen workout
DESCRIPTION:This unique Pilates and yoga class is the perfect opportunity to bond with your baby\, focus on strengthening your core\, safely\, toning muscles muscles\, increasing your flexibility\, and reducing your cortisol levels and connecting with other moms and their little one. Perfect for infants 0-3 months.
URL:https://tobeboundless.com/event/baby-me-piloga-a-zen-workout-for-peace-and-tranquility/
LOCATION:3930 Utah St.\, San Diego\, Ca 92104\, 3930 Utah St\, San Diego\, CA\, 92104\, United States
ORGANIZER;CN="Boundless Women's Fitness":MAILTO:tobeboundless@gmail.com
END:VEVENT
BEGIN:VEVENT
DTSTART;TZID=America/Los_Angeles:20250122T180000
DTEND;TZID=America/Los_Angeles:20250122T183000
DTSTAMP:20260424T070550
CREATED:20240622T034418Z
LAST-MODIFIED:20241126T143208Z
UID:7856-1737568800-1737570600@tobeboundless.com
SUMMARY:lean body workout
DESCRIPTION:This body rock’n\, ab smoke’n\, low impact class melts belly fat and tones you to the core. Lean Body Workout gets you in great shape.
URL:https://tobeboundless.com/event/lean-body-workout-16/
LOCATION:3930 Utah St.\, San Diego\, Ca 92104\, 3930 Utah St\, San Diego\, CA\, 92104\, United States
ORGANIZER;CN="Boundless Women's Fitness":MAILTO:tobeboundless@gmail.com
END:VEVENT
BEGIN:VEVENT
DTSTART;TZID=America/Los_Angeles:20250122T160000
DTEND;TZID=America/Los_Angeles:20250122T163000
DTSTAMP:20260424T070550
CREATED:20240611T071845Z
LAST-MODIFIED:20241126T141855Z
UID:7755-1737561600-1737563400@tobeboundless.com
SUMMARY:prehab
DESCRIPTION:Avoid surgery with Prehab. If you can spare 30 minutes\, 2 times a week\, then this class is your path to pain free living.
URL:https://tobeboundless.com/event/prehab-9/
LOCATION:3930 Utah St.\, San Diego\, Ca 92104\, 3930 Utah St\, San Diego\, CA\, 92104\, United States
END:VEVENT
BEGIN:VEVENT
DTSTART;TZID=UTC:20250120T090000
DTEND;TZID=UTC:20250120T095000
DTSTAMP:20260424T070550
CREATED:20241211T074315Z
LAST-MODIFIED:20241224T233203Z
UID:8631-1737363600-1737366600@tobeboundless.com
SUMMARY:baby & me - zen workout
DESCRIPTION:This unique Pilates and yoga class is the perfect opportunity to bond with your baby\, focus on strengthening your core\, safely\, toning muscles muscles\, increasing your flexibility\, and reducing your cortisol levels and connecting with other moms and their little one. Perfect for infants 0-3 months.
URL:https://tobeboundless.com/event/baby-me-piloga-2/
LOCATION:3930 Utah St.\, San Diego\, Ca 92104\, 3930 Utah St\, San Diego\, CA\, 92104\, United States
ORGANIZER;CN="Boundless Women's Fitness":MAILTO:tobeboundless@gmail.com
END:VEVENT
BEGIN:VEVENT
DTSTART;TZID=UTC:20250115T180000
DTEND;TZID=UTC:20250115T183000
DTSTAMP:20260424T070550
CREATED:20240605T051506Z
LAST-MODIFIED:20241123T064616Z
UID:7648-1736964000-1736965800@tobeboundless.com
SUMMARY:lean body workout
DESCRIPTION:lean body workout is a strength class that builds your strength  as you trim your belly and tone your tighs.
URL:https://tobeboundless.com/event/lean-body-workout/
LOCATION:3930 Utah St.\, San Diego\, Ca 92104\, 3930 Utah St\, San Diego\, CA\, 92104\, United States
END:VEVENT
BEGIN:VEVENT
DTSTART;TZID=America/Los_Angeles:20250115T160000
DTEND;TZID=America/Los_Angeles:20250115T163000
DTSTAMP:20260424T070550
CREATED:20240611T074333Z
LAST-MODIFIED:20241126T141802Z
UID:7771-1736956800-1736958600@tobeboundless.com
SUMMARY:prehab
DESCRIPTION:Avoid surgery with Prehab. If you can spare 30 minutes\, 2 times a week\, then this class is your path to pain free living.
URL:https://tobeboundless.com/event/prehab-10/
LOCATION:3930 Utah St.\, San Diego\, Ca 92104\, 3930 Utah St\, San Diego\, CA\, 92104\, United States
END:VEVENT
BEGIN:VEVENT
DTSTART;TZID=UTC:20250113T090000
DTEND;TZID=UTC:20250113T095000
DTSTAMP:20260424T070550
CREATED:20241211T074054Z
LAST-MODIFIED:20241224T233356Z
UID:8630-1736758800-1736761800@tobeboundless.com
SUMMARY:baby & me - zen workout
DESCRIPTION:This unique Pilates and yoga class is the perfect opportunity to bond with your baby\, focus on strengthening your core\, safely\, toning muscles muscles\, increasing your flexibility\, and reducing your cortisol levels and connecting with other moms and their little one. 3-8 months.
URL:https://tobeboundless.com/event/baby-me-piloga/
LOCATION:3930 Utah St.\, San Diego\, Ca 92104\, 3930 Utah St\, San Diego\, CA\, 92104\, United States
ORGANIZER;CN="Boundless Women's Fitness":MAILTO:tobeboundless@gmail.com
END:VEVENT
END:VCALENDAR