BEGIN:VCALENDAR
VERSION:2.0
PRODID:-//Boundless  - fitness studio for women in North Park, San Diego - ECPv6.15.20//NONSGML v1.0//EN
CALSCALE:GREGORIAN
METHOD:PUBLISH
X-WR-CALNAME:Boundless  - fitness studio for women in North Park, San Diego
X-ORIGINAL-URL:https://tobeboundless.com
X-WR-CALDESC:Events for Boundless  - fitness studio for women in North Park, San Diego
REFRESH-INTERVAL;VALUE=DURATION:PT1H
X-Robots-Tag:noindex
X-PUBLISHED-TTL:PT1H
BEGIN:VTIMEZONE
TZID:UTC
BEGIN:STANDARD
TZOFFSETFROM:+0000
TZOFFSETTO:+0000
TZNAME:UTC
DTSTART:20240101T000000
END:STANDARD
END:VTIMEZONE
BEGIN:VTIMEZONE
TZID:America/Los_Angeles
BEGIN:DAYLIGHT
TZOFFSETFROM:-0800
TZOFFSETTO:-0700
TZNAME:PDT
DTSTART:20240310T100000
END:DAYLIGHT
BEGIN:STANDARD
TZOFFSETFROM:-0700
TZOFFSETTO:-0800
TZNAME:PST
DTSTART:20241103T090000
END:STANDARD
BEGIN:DAYLIGHT
TZOFFSETFROM:-0800
TZOFFSETTO:-0700
TZNAME:PDT
DTSTART:20250309T100000
END:DAYLIGHT
BEGIN:STANDARD
TZOFFSETFROM:-0700
TZOFFSETTO:-0800
TZNAME:PST
DTSTART:20251102T090000
END:STANDARD
BEGIN:DAYLIGHT
TZOFFSETFROM:-0800
TZOFFSETTO:-0700
TZNAME:PDT
DTSTART:20260308T100000
END:DAYLIGHT
BEGIN:STANDARD
TZOFFSETFROM:-0700
TZOFFSETTO:-0800
TZNAME:PST
DTSTART:20261101T090000
END:STANDARD
END:VTIMEZONE
BEGIN:VEVENT
DTSTART;TZID=UTC:20250828T123000
DTEND;TZID=UTC:20250828T130000
DTSTAMP:20260423T235457
CREATED:20250706T052335Z
LAST-MODIFIED:20250706T053025Z
UID:9588-1756384200-1756386000@tobeboundless.com
SUMMARY:hot mom bod workout
DESCRIPTION:Hot mom bod workout is the best way to build a strongr\, leaner\, fitter you post pregnancy.
URL:https://tobeboundless.com/event/hot-mom-bod-workout/
LOCATION:3930 Utah St.\, San Diego\, Ca 92104\, 3930 Utah St\, San Diego\, CA\, 92104\, United States
ORGANIZER;CN="Boundless Women's Fitness":MAILTO:tobeboundless@gmail.com
END:VEVENT
BEGIN:VEVENT
DTSTART;TZID=UTC:20250828T120000
DTEND;TZID=UTC:20250828T123000
DTSTAMP:20260423T235457
CREATED:20250629T014750Z
LAST-MODIFIED:20250629T014805Z
UID:9556-1756382400-1756384200@tobeboundless.com
SUMMARY:flat belly Pilates
DESCRIPTION:Flat Belly pilates combines mndfulness and intensity to flatten your belly.
URL:https://tobeboundless.com/event/flat-belly-pilates-9/
LOCATION:3930 Utah St.\, San Diego\, Ca 92104\, 3930 Utah St\, San Diego\, CA\, 92104\, United States
ORGANIZER;CN="Boundless Women's Fitness":MAILTO:tobeboundless@gmail.com
END:VEVENT
BEGIN:VEVENT
DTSTART;TZID=UTC:20250821T120000
DTEND;TZID=UTC:20250821T123000
DTSTAMP:20260423T235457
CREATED:20250629T014610Z
LAST-MODIFIED:20250629T014610Z
UID:9542-1755777600-1755779400@tobeboundless.com
SUMMARY:flat belly Pilates
DESCRIPTION:Flat Belly pilates combines mndfulness and intensity to flatten your belly.
URL:https://tobeboundless.com/event/flat-belly-pilates-8/
LOCATION:3930 Utah St.\, San Diego\, Ca 92104\, 3930 Utah St\, San Diego\, CA\, 92104\, United States
ORGANIZER;CN="Boundless Women's Fitness":MAILTO:tobeboundless@gmail.com
END:VEVENT
BEGIN:VEVENT
DTSTART;TZID=UTC:20250814T120000
DTEND;TZID=UTC:20250814T123000
DTSTAMP:20260423T235457
CREATED:20250629T014524Z
LAST-MODIFIED:20250629T014524Z
UID:9541-1755172800-1755174600@tobeboundless.com
SUMMARY:flat belly Pilates
DESCRIPTION:Flat Belly pilates combines mndfulness and intensity to flatten your belly.
URL:https://tobeboundless.com/event/flat-belly-pilates-7/
LOCATION:3930 Utah St.\, San Diego\, Ca 92104\, 3930 Utah St\, San Diego\, CA\, 92104\, United States
ORGANIZER;CN="Boundless Women's Fitness":MAILTO:tobeboundless@gmail.com
END:VEVENT
BEGIN:VEVENT
DTSTART;TZID=UTC:20250807T120000
DTEND;TZID=UTC:20250807T123000
DTSTAMP:20260423T235457
CREATED:20250706T044406Z
LAST-MODIFIED:20251027T050856Z
UID:9578-1754568000-1754569800@tobeboundless.com
SUMMARY:prenatal strength training
DESCRIPTION:Our prenatal classes are the best way to build strength while reducing mommy aches and muscle tension. Get fit at any stage of pregnancy and beyond.
URL:https://tobeboundless.com/event/prenatal-core-strength/
LOCATION:3930 Utah St.\, San Diego\, Ca 92104\, 3930 Utah St\, San Diego\, CA\, 92104\, United States
ATTACH;FMTTYPE=image/jpeg:https://tobeboundless.com/wp-content/uploads/2024/07/20240229_180056-scaled.jpg
END:VEVENT
BEGIN:VEVENT
DTSTART;TZID=UTC:20250807T120000
DTEND;TZID=UTC:20250807T123000
DTSTAMP:20260423T235457
CREATED:20250629T014433Z
LAST-MODIFIED:20250629T014433Z
UID:9544-1754568000-1754569800@tobeboundless.com
SUMMARY:flat belly Pilates
DESCRIPTION:Flat Belly pilates combines mndfulness and intensity to flatten your belly.
URL:https://tobeboundless.com/event/flat-belly-pilates-6/
LOCATION:3930 Utah St.\, San Diego\, Ca 92104\, 3930 Utah St\, San Diego\, CA\, 92104\, United States
ORGANIZER;CN="Boundless Women's Fitness":MAILTO:tobeboundless@gmail.com
END:VEVENT
BEGIN:VEVENT
DTSTART;TZID=UTC:20250731T120000
DTEND;TZID=UTC:20250731T123000
DTSTAMP:20260423T235457
CREATED:20250629T014333Z
LAST-MODIFIED:20250629T014333Z
UID:9543-1753963200-1753965000@tobeboundless.com
SUMMARY:flat belly Pilates
DESCRIPTION:Flat Belly pilates combines mndfulness and intensity to flatten your belly.
URL:https://tobeboundless.com/event/flat-belly-pilates-5/
LOCATION:3930 Utah St.\, San Diego\, Ca 92104\, 3930 Utah St\, San Diego\, CA\, 92104\, United States
ORGANIZER;CN="Boundless Women's Fitness":MAILTO:tobeboundless@gmail.com
END:VEVENT
BEGIN:VEVENT
DTSTART;TZID=UTC:20250727T093000
DTEND;TZID=UTC:20250727T100000
DTSTAMP:20260423T235457
CREATED:20240622T044502Z
LAST-MODIFIED:20250626T074829Z
UID:7893-1753608600-1753610400@tobeboundless.com
SUMMARY:prenatal core strength
DESCRIPTION:Our prenatal core strength classes are the best way to build strength and balance while reducing mommy aches and muscle tension. Get fit at any stage of pregnancy and beyond.
URL:https://tobeboundless.com/event/prenatal-pilates-13/
LOCATION:3930 Utah St.\, San Diego\, Ca 92104\, 3930 Utah St\, San Diego\, CA\, 92104\, United States
ATTACH;FMTTYPE=image/jpeg:https://tobeboundless.com/wp-content/uploads/2024/07/20240229_180056-scaled.jpg
END:VEVENT
BEGIN:VEVENT
DTSTART;TZID=UTC:20250724T120000
DTEND;TZID=UTC:20250724T123000
DTSTAMP:20260423T235457
CREATED:20250629T014240Z
LAST-MODIFIED:20250629T014255Z
UID:9546-1753358400-1753360200@tobeboundless.com
SUMMARY:flat belly Pilates
DESCRIPTION:Flat Belly pilates combines mndfulness and intensity to flatten your belly.
URL:https://tobeboundless.com/event/flat-belly-pilates-4/
LOCATION:3930 Utah St.\, San Diego\, Ca 92104\, 3930 Utah St\, San Diego\, CA\, 92104\, United States
ORGANIZER;CN="Boundless Women's Fitness":MAILTO:tobeboundless@gmail.com
END:VEVENT
BEGIN:VEVENT
DTSTART;TZID=UTC:20250721T063000
DTEND;TZID=UTC:20250721T070000
DTSTAMP:20260423T235457
CREATED:20250412T001828Z
LAST-MODIFIED:20250528T004917Z
UID:9180-1753079400-1753081200@tobeboundless.com
SUMMARY:strength circuit
DESCRIPTION:Strength Circuit is a fun and effective strength & stretch class that’ll ease you into your day and keep you strong all week long.
URL:https://tobeboundless.com/event/strength-circuit-9/
LOCATION:3930 Utah St.\, San Diego\, Ca 92104\, 3930 Utah St\, San Diego\, CA\, 92104\, United States
ATTACH;FMTTYPE=image/jpeg:https://tobeboundless.com/wp-content/uploads/2023/08/IMG_20181205_195956-1-scaled.jpg
ORGANIZER;CN="Boundless Women's Fitness":MAILTO:tobeboundless@gmail.com
END:VEVENT
BEGIN:VEVENT
DTSTART;TZID=UTC:20250720T093000
DTEND;TZID=UTC:20250720T100000
DTSTAMP:20260423T235457
CREATED:20240622T044251Z
LAST-MODIFIED:20250626T075308Z
UID:7896-1753003800-1753005600@tobeboundless.com
SUMMARY:prenatal core strength
DESCRIPTION:This prenatal core strength class is  the best way to build strength and balance while reducing mommy aches and muscle tension. Get fit at any stage of pregnancy and beyond.
URL:https://tobeboundless.com/event/prenatal-pilates-11/
LOCATION:3930 Utah St.\, San Diego\, Ca 92104\, 3930 Utah St\, San Diego\, CA\, 92104\, United States
ATTACH;FMTTYPE=image/jpeg:https://tobeboundless.com/wp-content/uploads/2024/07/20240229_180056-scaled.jpg
ORGANIZER;CN="Boundless Women's Fitness":MAILTO:tobeboundless@gmail.com
END:VEVENT
BEGIN:VEVENT
DTSTART;TZID=UTC:20250717T120000
DTEND;TZID=UTC:20250717T123000
DTSTAMP:20260423T235457
CREATED:20250629T014128Z
LAST-MODIFIED:20250629T014159Z
UID:9545-1752753600-1752755400@tobeboundless.com
SUMMARY:flat belly Pilates
DESCRIPTION:Flat Belly pilates combines mndfulness and intensity to flatten your belly.
URL:https://tobeboundless.com/event/flat-belly-pilates-3/
LOCATION:3930 Utah St.\, San Diego\, Ca 92104\, 3930 Utah St\, San Diego\, CA\, 92104\, United States
ORGANIZER;CN="Boundless Women's Fitness":MAILTO:tobeboundless@gmail.com
END:VEVENT
BEGIN:VEVENT
DTSTART;TZID=UTC:20250714T063000
DTEND;TZID=UTC:20250714T070000
DTSTAMP:20260423T235457
CREATED:20250412T001732Z
LAST-MODIFIED:20250528T004624Z
UID:9179-1752474600-1752476400@tobeboundless.com
SUMMARY:strength circuit
DESCRIPTION:Strength Circuit is a fun and effective strength & stretch class that’ll ease you into your day and keep you strong all week long.
URL:https://tobeboundless.com/event/strength-circuit-8/
LOCATION:3930 Utah St.\, San Diego\, Ca 92104\, 3930 Utah St\, San Diego\, CA\, 92104\, United States
ATTACH;FMTTYPE=image/jpeg:https://tobeboundless.com/wp-content/uploads/2025/04/IMG_2892.jpg
ORGANIZER;CN="Boundless Women's Fitness":MAILTO:tobeboundless@gmail.com
END:VEVENT
BEGIN:VEVENT
DTSTART;TZID=UTC:20250713T093000
DTEND;TZID=UTC:20250713T100000
DTSTAMP:20260423T235457
CREATED:20240622T044414Z
LAST-MODIFIED:20250626T075044Z
UID:7895-1752399000-1752400800@tobeboundless.com
SUMMARY:prenatal core strength
DESCRIPTION:Our prenatal classes are the best way to build core strength and balance while reducing mommy aches and muscle tension. Get fit at any stage of pregnancy and beyond.
URL:https://tobeboundless.com/event/prenatal-pilates-12/
LOCATION:3930 Utah St.\, San Diego\, Ca 92104\, 3930 Utah St\, San Diego\, CA\, 92104\, United States
ATTACH;FMTTYPE=image/jpeg:https://tobeboundless.com/wp-content/uploads/2024/07/20240229_180056-scaled.jpg
END:VEVENT
BEGIN:VEVENT
DTSTART;TZID=UTC:20250710T120000
DTEND;TZID=UTC:20250710T123000
DTSTAMP:20260423T235457
CREATED:20250629T014043Z
LAST-MODIFIED:20250629T014043Z
UID:9547-1752148800-1752150600@tobeboundless.com
SUMMARY:flat belly Pilates
DESCRIPTION:Flat Belly pilates combines mndfulness and intensity to flatten your belly.
URL:https://tobeboundless.com/event/flat-belly-pilates-2/
LOCATION:3930 Utah St.\, San Diego\, Ca 92104\, 3930 Utah St\, San Diego\, CA\, 92104\, United States
ORGANIZER;CN="Boundless Women's Fitness":MAILTO:tobeboundless@gmail.com
END:VEVENT
BEGIN:VEVENT
DTSTART;TZID=UTC:20250707T063000
DTEND;TZID=UTC:20250707T070000
DTSTAMP:20260423T235457
CREATED:20250412T001419Z
LAST-MODIFIED:20250528T004526Z
UID:9175-1751869800-1751871600@tobeboundless.com
SUMMARY:strength circuit
DESCRIPTION:Strength Circuit is a fun and effective strength & stretch class that’ll ease you into your day and keep you strong all week long.
URL:https://tobeboundless.com/event/strength-circuit-7/
LOCATION:3930 Utah St.\, San Diego\, Ca 92104\, 3930 Utah St\, San Diego\, CA\, 92104\, United States
ATTACH;FMTTYPE=image/jpeg:https://tobeboundless.com/wp-content/uploads/2024/08/20191113_191753-1-scaled.jpg
ORGANIZER;CN="Boundless Women's Fitness":MAILTO:tobeboundless@gmail.com
END:VEVENT
BEGIN:VEVENT
DTSTART;TZID=UTC:20250703T120000
DTEND;TZID=UTC:20250703T123000
DTSTAMP:20260423T235457
CREATED:20250629T013547Z
LAST-MODIFIED:20250629T013636Z
UID:9539-1751544000-1751545800@tobeboundless.com
SUMMARY:flat belly Pilates
DESCRIPTION:Flat Belly pilates combines mndfulness and intensity to flatten your belly.
URL:https://tobeboundless.com/event/flat-belly-pilates/
LOCATION:3930 Utah St.\, San Diego\, Ca 92104\, 3930 Utah St\, San Diego\, CA\, 92104\, United States
ORGANIZER;CN="Boundless Women's Fitness":MAILTO:tobeboundless@gmail.com
END:VEVENT
BEGIN:VEVENT
DTSTART;TZID=UTC:20250630T063000
DTEND;TZID=UTC:20250630T070000
DTSTAMP:20260423T235457
CREATED:20250412T001227Z
LAST-MODIFIED:20250528T004359Z
UID:9166-1751265000-1751266800@tobeboundless.com
SUMMARY:strength circuit
DESCRIPTION:Strength Circuit is a fun and effective strength & stretch class that’ll ease you into your day and keep you strong all week long.
URL:https://tobeboundless.com/event/strength-circuit-5/
LOCATION:3930 Utah St.\, San Diego\, Ca 92104\, 3930 Utah St\, San Diego\, CA\, 92104\, United States
ATTACH;FMTTYPE=image/jpeg:https://tobeboundless.com/wp-content/uploads/2023/08/IMG_20181205_195956-1-scaled.jpg
ORGANIZER;CN="Boundless Women's Fitness":MAILTO:tobeboundless@gmail.com
END:VEVENT
BEGIN:VEVENT
DTSTART;TZID=America/Los_Angeles:20250629T090000
DTEND;TZID=America/Los_Angeles:20250629T095000
DTSTAMP:20260423T235457
CREATED:20240622T044137Z
LAST-MODIFIED:20250531T063806Z
UID:7897-1751187600-1751190600@tobeboundless.com
SUMMARY:prenatal Pilates
DESCRIPTION:Our prenatal Pilates classes are the best way to build core strength and balance while reducing mommy aches and muscle tension. Get fit at any stage of pregnancy and beyond.
URL:https://tobeboundless.com/event/prenatal-pilates-10/
LOCATION:3930 Utah St.\, San Diego\, Ca 92104\, 3930 Utah St\, San Diego\, CA\, 92104\, United States
ORGANIZER;CN="Boundless Women's Fitness":MAILTO:tobeboundless@gmail.com
END:VEVENT
BEGIN:VEVENT
DTSTART;TZID=America/Los_Angeles:20250626T170000
DTEND;TZID=America/Los_Angeles:20250626T173000
DTSTAMP:20260423T235457
CREATED:20241020T010847Z
LAST-MODIFIED:20250531T033740Z
UID:8570-1750957200-1750959000@tobeboundless.com
SUMMARY:toned
DESCRIPTION:Toned is the “perfect pick me” up to work every inch of your body. So if the daily grind has got you down\, this workout has everything you need to boost your mood and put that pep back into your step.
URL:https://tobeboundless.com/event/toned/
LOCATION:3930 Utah St.\, San Diego\, Ca 92104\, 3930 Utah St\, San Diego\, CA\, 92104\, United States
END:VEVENT
BEGIN:VEVENT
DTSTART;TZID=UTC:20250623T063000
DTEND;TZID=UTC:20250623T070000
DTSTAMP:20260423T235457
CREATED:20250412T001132Z
LAST-MODIFIED:20250527T234315Z
UID:9168-1750660200-1750662000@tobeboundless.com
SUMMARY:strength circuit
DESCRIPTION:Strength Circuit is a fun and effective strength & stretch class that’ll ease you into your day and keep you strong all week long.
URL:https://tobeboundless.com/event/strength-circuit-4/
LOCATION:3930 Utah St.\, San Diego\, Ca 92104\, 3930 Utah St\, San Diego\, CA\, 92104\, United States
ATTACH;FMTTYPE=image/jpeg:https://tobeboundless.com/wp-content/uploads/2025/04/IMG_2892.jpg
ORGANIZER;CN="Boundless Women's Fitness":MAILTO:tobeboundless@gmail.com
END:VEVENT
BEGIN:VEVENT
DTSTART;TZID=America/Los_Angeles:20250622T150000
DTEND;TZID=America/Los_Angeles:20250622T155000
DTSTAMP:20260423T235457
CREATED:20240522T021845Z
LAST-MODIFIED:20250527T224635Z
UID:7498-1750604400-1750607400@tobeboundless.com
SUMMARY:thriving while pregnant
DESCRIPTION:Thriving While Pregnant is a mom-centered Free/No Cost prenatal Pilates program\, for Black women\, that offers a multi-faceted\, culturally sensitive\, community based approach to wellness\, that honors\, nurtures and supports mom and baby through all stages of pregnancy and beyond.
URL:https://tobeboundless.com/event/thriving-while-pregnant-3/
LOCATION:CA
ATTACH;FMTTYPE=image/jpeg:https://tobeboundless.com/wp-content/uploads/2025/01/logo-reduced-15.jpg
END:VEVENT
BEGIN:VEVENT
DTSTART;TZID=UTC:20250622T090000
DTEND;TZID=UTC:20250622T095000
DTSTAMP:20260423T235457
CREATED:20240622T044048Z
LAST-MODIFIED:20250531T063713Z
UID:7894-1750582800-1750585800@tobeboundless.com
SUMMARY:prenatal Pilates
DESCRIPTION:Our prenatal Pilates classes are the best way to build core strength and balance while reducing mommy aches and muscle tension. Get fit at any stage of pregnancy and beyond.
URL:https://tobeboundless.com/event/prenatal-pilates-9/
LOCATION:3930 Utah St.\, San Diego\, Ca 92104\, 3930 Utah St\, San Diego\, CA\, 92104\, United States
ATTACH;FMTTYPE=image/jpeg:https://tobeboundless.com/wp-content/uploads/2024/07/20240229_180056-scaled.jpg
ORGANIZER;CN="Boundless Women's Fitness":MAILTO:tobeboundless@gmail.com
END:VEVENT
BEGIN:VEVENT
DTSTART;TZID=America/Los_Angeles:20250620T060000
DTEND;TZID=America/Los_Angeles:20250620T120000
DTSTAMP:20260423T235457
CREATED:20240629T080403Z
LAST-MODIFIED:20250222T232334Z
UID:7962-1750399200-1750420800@tobeboundless.com
SUMMARY:women’s outdoor hikes
DESCRIPTION:Our scenic women’s outdoor hiking groups explore San Diego’s beautiful backcountry. It’s a moving meditation for women who love the outdoors\, enjoy walking and communing with nature while connecting with new friends as they get in shape.
URL:https://tobeboundless.com/event/womens-outdoor-hikes-6/
LOCATION:3930 Utah St.\, San Diego\, Ca 92104\, 3930 Utah St\, San Diego\, CA\, 92104\, United States
ATTACH;FMTTYPE=image/jpeg:https://tobeboundless.com/wp-content/uploads/2024/04/IMG_20240105_095322848-scaled.jpg
END:VEVENT
BEGIN:VEVENT
DTSTART;TZID=America/Los_Angeles:20250619T170000
DTEND;TZID=America/Los_Angeles:20250619T173000
DTSTAMP:20260423T235457
CREATED:20240720T072602Z
LAST-MODIFIED:20250531T033656Z
UID:8062-1750352400-1750354200@tobeboundless.com
SUMMARY:toned
DESCRIPTION:Toned is the “perfect pick me” up to work every inch of your body. So if the daily grind has got you down\, this workout has everything you need to boost your mood and put that pep back into your step.
URL:https://tobeboundless.com/event/toned-2/
LOCATION:3930 Utah St.\, San Diego\, Ca 92104\, 3930 Utah St\, San Diego\, CA\, 92104\, United States
END:VEVENT
BEGIN:VEVENT
DTSTART;TZID=UTC:20250616T063000
DTEND;TZID=UTC:20250616T070000
DTSTAMP:20260423T235457
CREATED:20250412T001027Z
LAST-MODIFIED:20250527T234037Z
UID:9169-1750055400-1750057200@tobeboundless.com
SUMMARY:strength circuit
DESCRIPTION:Strength Circuit is a fun and effective strength & stretch class that’ll ease you into your day and keep you strong all week long.
URL:https://tobeboundless.com/event/strength-circuit-3/
LOCATION:3930 Utah St.\, San Diego\, Ca 92104\, 3930 Utah St\, San Diego\, CA\, 92104\, United States
ATTACH;FMTTYPE=image/jpeg:https://tobeboundless.com/wp-content/uploads/2024/08/20191113_191753-1-scaled.jpg
ORGANIZER;CN="Boundless Women's Fitness":MAILTO:tobeboundless@gmail.com
END:VEVENT
BEGIN:VEVENT
DTSTART;TZID=America/Los_Angeles:20250615T150000
DTEND;TZID=America/Los_Angeles:20250615T155000
DTSTAMP:20260423T235457
CREATED:20240522T011435Z
LAST-MODIFIED:20250527T224320Z
UID:7482-1749999600-1750002600@tobeboundless.com
SUMMARY:thriving while pregnant
DESCRIPTION:Thriving While Pregnant is a mom-centered Free/No Cost prenatal Pilates program\, for Black women\, that offers a multi-faceted\, culturally sensitive\, community based approach to wellness\, that honors\, nurtures and supports mom and baby through all stages of pregnancy and beyond.
URL:https://tobeboundless.com/event/thriving-while-pregnant-2/
LOCATION:CA
ATTACH;FMTTYPE=application/pdf:https://tobeboundless.com/wp-content/uploads/2024/05/Prenatal-Pilates-Classes-2-2.pdf
END:VEVENT
BEGIN:VEVENT
DTSTART;TZID=UTC:20250615T090000
DTEND;TZID=UTC:20250615T095000
DTSTAMP:20260423T235457
CREATED:20240611T073957Z
LAST-MODIFIED:20250531T063610Z
UID:7776-1749978000-1749981000@tobeboundless.com
SUMMARY:prenatal Pilates
DESCRIPTION:Our prenatal Pilates classes are the best way to build core strength and balance while reducing mommy aches and muscle tension. Get fit at any stage of pregnancy and beyond.
URL:https://tobeboundless.com/event/prenatal-pilates-5/
LOCATION:3930 Utah St.\, San Diego\, Ca 92104\, 3930 Utah St\, San Diego\, CA\, 92104\, United States
ATTACH;FMTTYPE=image/jpeg:https://tobeboundless.com/wp-content/uploads/2024/07/20240229_180056-scaled.jpg
END:VEVENT
BEGIN:VEVENT
DTSTART;TZID=America/Los_Angeles:20250613T060000
DTEND;TZID=America/Los_Angeles:20250613T120000
DTSTAMP:20260423T235457
CREATED:20240629T080527Z
LAST-MODIFIED:20250222T232210Z
UID:7963-1749794400-1749816000@tobeboundless.com
SUMMARY:women’s outdoor hikes
DESCRIPTION:Our scenic women’s outdoor hiking groups explore San Diego’s beautiful backcountry. It’s a moving meditation for women who love the outdoors\, enjoy walking and communing with nature while connecting with new friends as they get in shape.
URL:https://tobeboundless.com/event/womens-outdoor-hikes-7/
LOCATION:3930 Utah St.\, San Diego\, Ca 92104\, 3930 Utah St\, San Diego\, CA\, 92104\, United States
ATTACH;FMTTYPE=image/jpeg:https://tobeboundless.com/wp-content/uploads/2024/04/IMG_20240105_095322848-scaled.jpg
END:VEVENT
BEGIN:VEVENT
DTSTART;TZID=America/Los_Angeles:20250612T170000
DTEND;TZID=America/Los_Angeles:20250612T173000
DTSTAMP:20260423T235457
CREATED:20240622T060525Z
LAST-MODIFIED:20250531T033505Z
UID:7933-1749747600-1749749400@tobeboundless.com
SUMMARY:toned
DESCRIPTION:Toned is the “perfect pick me” up to work every inch of your body. So if the daily grind has got you down\, this workout has everything you need to boost your mood and put that pep back into your step.
URL:https://tobeboundless.com/event/toned-3/
LOCATION:3930 Utah St.\, San Diego\, Ca 92104\, 3930 Utah St\, San Diego\, CA\, 92104\, United States
END:VEVENT
END:VCALENDAR