BEGIN:VCALENDAR
VERSION:2.0
PRODID:-//Boundless  - fitness studio for women in North Park, San Diego - ECPv6.15.20//NONSGML v1.0//EN
CALSCALE:GREGORIAN
METHOD:PUBLISH
X-WR-CALNAME:Boundless  - fitness studio for women in North Park, San Diego
X-ORIGINAL-URL:https://tobeboundless.com
X-WR-CALDESC:Events for Boundless  - fitness studio for women in North Park, San Diego
REFRESH-INTERVAL;VALUE=DURATION:PT1H
X-Robots-Tag:noindex
X-PUBLISHED-TTL:PT1H
BEGIN:VTIMEZONE
TZID:America/Los_Angeles
BEGIN:DAYLIGHT
TZOFFSETFROM:-0800
TZOFFSETTO:-0700
TZNAME:PDT
DTSTART:20250309T100000
END:DAYLIGHT
BEGIN:STANDARD
TZOFFSETFROM:-0700
TZOFFSETTO:-0800
TZNAME:PST
DTSTART:20251102T090000
END:STANDARD
BEGIN:DAYLIGHT
TZOFFSETFROM:-0800
TZOFFSETTO:-0700
TZNAME:PDT
DTSTART:20260308T100000
END:DAYLIGHT
BEGIN:STANDARD
TZOFFSETFROM:-0700
TZOFFSETTO:-0800
TZNAME:PST
DTSTART:20261101T090000
END:STANDARD
BEGIN:DAYLIGHT
TZOFFSETFROM:-0800
TZOFFSETTO:-0700
TZNAME:PDT
DTSTART:20270314T100000
END:DAYLIGHT
BEGIN:STANDARD
TZOFFSETFROM:-0700
TZOFFSETTO:-0800
TZNAME:PST
DTSTART:20271107T090000
END:STANDARD
END:VTIMEZONE
BEGIN:VTIMEZONE
TZID:UTC
BEGIN:STANDARD
TZOFFSETFROM:+0000
TZOFFSETTO:+0000
TZNAME:UTC
DTSTART:20250101T000000
END:STANDARD
END:VTIMEZONE
BEGIN:VEVENT
DTSTART;TZID=America/Los_Angeles:20260326T183000
DTEND;TZID=America/Los_Angeles:20260326T190000
DTSTAMP:20260423T174705
CREATED:20260321T233700Z
LAST-MODIFIED:20260321T234521Z
UID:12340-1774549800-1774551600@tobeboundless.com
SUMMARY:Pilates body
DESCRIPTION:Pilates body is a low-impact strength training class that’s guaranteed to wake-up your sleepy abs and lifts your little butt.
URL:https://tobeboundless.com/event/pilates-body-35/
LOCATION:3930 Utah St.\, San Diego\, Ca 92104\, 3930 Utah St\, San Diego\, CA\, 92104\, United States
END:VEVENT
BEGIN:VEVENT
DTSTART;TZID=UTC:20260326T180000
DTEND;TZID=UTC:20260326T183000
DTSTAMP:20260423T174705
CREATED:20251227T022336Z
LAST-MODIFIED:20251227T022336Z
UID:11234-1774548000-1774549800@tobeboundless.com
SUMMARY:Ooh La La Legs
DESCRIPTION:Build strength to last a lifetime and gorgeous legs all while improving brain power and bone health.
URL:https://tobeboundless.com/event/ooh-la-la-legs-22/
LOCATION:3930 Utah St.\, San Diego\, Ca 92104\, 3930 Utah St\, San Diego\, CA\, 92104\, United States
ORGANIZER;CN="Boundless Women's Fitness":MAILTO:tobeboundless@gmail.com
END:VEVENT
BEGIN:VEVENT
DTSTART;TZID=UTC:20260326T173000
DTEND;TZID=UTC:20260326T180000
DTSTAMP:20260423T174705
CREATED:20251226T104358Z
LAST-MODIFIED:20260304T070431Z
UID:11209-1774546200-1774548000@tobeboundless.com
SUMMARY:defy impossible
DESCRIPTION:Stop fighting for strength. Build it. Defy Impossible targets the muscles women are rarely taught to activate — so you get stronger\, faster\, and with way more confidence. \n 
URL:https://tobeboundless.com/event/defy-impossible-4/
LOCATION:3930 Utah St.\, San Diego\, Ca 92104\, 3930 Utah St\, San Diego\, CA\, 92104\, United States
ORGANIZER;CN="Boundless Women's Fitness":MAILTO:tobeboundless@gmail.com
END:VEVENT
BEGIN:VEVENT
DTSTART;TZID=America/Los_Angeles:20260326T170000
DTEND;TZID=America/Los_Angeles:20260326T173000
DTSTAMP:20260423T174705
CREATED:20260304T065512Z
LAST-MODIFIED:20260304T065537Z
UID:12205-1774544400-1774546200@tobeboundless.com
SUMMARY:total body workout
DESCRIPTION:Total Body Workout is the “perfect pick me” up to work every inch of your body. So if the daily grind has got you down\, this workout has everything you need to boost your mood and put that pep back into your step.
URL:https://tobeboundless.com/event/total-body-workout-23/
LOCATION:3930 Utah St.\, San Diego\, Ca 92104\, 3930 Utah St\, San Diego\, CA\, 92104\, United States
ORGANIZER;CN="Boundless Women's Fitness":MAILTO:tobeboundless@gmail.com
END:VEVENT
BEGIN:VEVENT
DTSTART;TZID=UTC:20260326T120000
DTEND;TZID=UTC:20260326T125000
DTSTAMP:20260423T174705
CREATED:20260301T085202Z
LAST-MODIFIED:20260301T085233Z
UID:12191-1774526400-1774529400@tobeboundless.com
SUMMARY:nurture & align
DESCRIPTION:Nurture & Align is a sacred space to soften\, restore\, and reconnect.\nThis gentle Pilates-based practice is designed to support hormonal balance and nervous system regulation through mindful movement\, breath\, and embodied presence. Whether you’re preparing to conceive\, healing from stress\, or simply seeking deeper alignment with your body’s rhythms\, Nurture & Align invites you to root into calm and bloom from within.
URL:https://tobeboundless.com/event/nurture-align-17/
LOCATION:3930 Utah St.\, San Diego\, Ca 92104\, 3930 Utah St\, San Diego\, CA\, 92104\, United States
ORGANIZER;CN="Boundless Women's Fitness":MAILTO:tobeboundless@gmail.com
END:VEVENT
BEGIN:VEVENT
DTSTART;TZID=UTC:20260326T100000
DTEND;TZID=UTC:20260326T105000
DTSTAMP:20260423T174705
CREATED:20251123T053845Z
LAST-MODIFIED:20260131T104440Z
UID:10679-1774519200-1774522200@tobeboundless.com
SUMMARY:brilliant\, nimble & resilient
DESCRIPTION:A calm\, welcoming class where you can rebuild balance\, strength\, and confidence at a pace that feels right for your body. \nEach session focuses on practical\, everyday movements — stepping off curbs\, walking on uneven ground\, getting up from the floor\, staying steady during daily activities — so you can move through life feeling safer\, stronger\, and more independent.
URL:https://tobeboundless.com/event/brilliant-resilient-5/
LOCATION:3930 Utah St.\, San Diego\, Ca 92104\, 3930 Utah St\, San Diego\, CA\, 92104\, United States
ORGANIZER;CN="Boundless Women's Fitness":MAILTO:tobeboundless@gmail.com
END:VEVENT
BEGIN:VEVENT
DTSTART;TZID=UTC:20260326T093000
DTEND;TZID=UTC:20260326T100000
DTSTAMP:20260423T174705
CREATED:20260301T083446Z
LAST-MODIFIED:20260301T083446Z
UID:12171-1774517400-1774519200@tobeboundless.com
SUMMARY:power & flow
DESCRIPTION:Where Pilates meets strength training. This unique strength class combines pure power with an elegant flow to transform your body from head to toe.
URL:https://tobeboundless.com/event/power-flow-44/
LOCATION:3930 Utah St.\, San Diego\, Ca 92104\, 3930 Utah St\, San Diego\, CA\, 92104\, United States
ORGANIZER;CN="Boundless Women's Fitness":MAILTO:tobeboundless@gmail.com
END:VEVENT
BEGIN:VEVENT
DTSTART;TZID=UTC:20260326T090000
DTEND;TZID=UTC:20260326T093000
DTSTAMP:20260423T174705
CREATED:20251123T030456Z
LAST-MODIFIED:20251226T085210Z
UID:10603-1774515600-1774517400@tobeboundless.com
SUMMARY:strong & lean
DESCRIPTION:Strong and lean build lean muscle without the bulk. Burn body fat with great results. This is the class that gives you boundless energy and keeps you comig back for more.
URL:https://tobeboundless.com/event/strong-lean-19/
LOCATION:CA
END:VEVENT
BEGIN:VEVENT
DTSTART;TZID=UTC:20260326T070000
DTEND;TZID=UTC:20260326T073000
DTSTAMP:20260423T174705
CREATED:20260301T080646Z
LAST-MODIFIED:20260301T080716Z
UID:12156-1774508400-1774510200@tobeboundless.com
SUMMARY:flip the script
DESCRIPTION:Flip The Script is your answer to the daily grind. This zen-strength calss is the perfect “pick me up” to work every inch of your body.
URL:https://tobeboundless.com/event/flip-the-script-26/
LOCATION:3930 Utah St.\, San Diego\, Ca 92104\, 3930 Utah St\, San Diego\, CA\, 92104\, United States
ORGANIZER;CN="Boundless Women's Fitness":MAILTO:tobeboundless@gmail.com
END:VEVENT
BEGIN:VEVENT
DTSTART;TZID=UTC:20260326T063000
DTEND;TZID=UTC:20260326T070000
DTSTAMP:20260423T174705
CREATED:20251226T043744Z
LAST-MODIFIED:20251226T043744Z
UID:11083-1774506600-1774508400@tobeboundless.com
SUMMARY:don't stop\, won't stop
DESCRIPTION:Unlock the power of movement that lasts a lifetime. If you want to keep your feet knees & hip joints strong\, flexible\, and pain free. This mobility-focused class will build resilience in your joints\, improve your balance\, and match your “no quit attitude”. Whether your chasing longevity\, preventing injury\, or you simply want to move with confidence\, this class is all about celebrating what your body can do.
URL:https://tobeboundless.com/event/dont-stop-wont-stop-24/
LOCATION:3930 Utah St.\, San Diego\, Ca 92104\, 3930 Utah St\, San Diego\, CA\, 92104\, United States
ORGANIZER;CN="Boundless Women's Fitness":MAILTO:tobeboundless@gmail.com
END:VEVENT
BEGIN:VEVENT
DTSTART;TZID=UTC:20260326T060000
DTEND;TZID=UTC:20260326T063000
DTSTAMP:20260423T174705
CREATED:20260301T074302Z
LAST-MODIFIED:20260301T074326Z
UID:12143-1774504800-1774506600@tobeboundless.com
SUMMARY:rise & stride
DESCRIPTION:Rise & Stride is the perfect intorduction to fitness for beginners who want to start with walk/run intervals or walking only. This supportive\, outdoor class combines fresh air\, accountability\, and community to help you build confidence and endurance at your own pace. Guided sessions make it easy to stay motivted while connecting with others who share  your goals. Whether you’re looking to improve  your health\, enjoy social  support\, or simply move more\, Rise & Stride offers a welcoming space to grow strong and stride forward.
URL:https://tobeboundless.com/event/rise-stride-25/
LOCATION:3930 Utah St.\, San Diego\, Ca 92104\, 3930 Utah St\, San Diego\, CA\, 92104\, United States
ORGANIZER;CN="Boundless Women's Fitness":MAILTO:tobeboundless@gmail.com
END:VEVENT
BEGIN:VEVENT
DTSTART;TZID=America/Los_Angeles:20260325T173000
DTEND;TZID=America/Los_Angeles:20260325T180000
DTSTAMP:20260423T174705
CREATED:20260301T070726Z
LAST-MODIFIED:20260301T070806Z
UID:12123-1774459800-1774461600@tobeboundless.com
SUMMARY:skinny jeans workout
DESCRIPTION:Get back in your skinny jeans! This class combines varing levels of intensity with core conditioning to work every inch of your body. Feel confident wearing your skinny jeans (or shorts) and sleeveless tops year round.
URL:https://tobeboundless.com/event/skinny-jeans-workout-27/
LOCATION:3930 Utah St.\, San Diego\, Ca 92104\, 3930 Utah St\, San Diego\, CA\, 92104\, United States
ATTACH;FMTTYPE=image/jpeg:https://tobeboundless.com/wp-content/uploads/2023/11/skinny-jeans-workout-scaled.jpg
END:VEVENT
BEGIN:VEVENT
DTSTART;TZID=America/Los_Angeles:20260325T170000
DTEND;TZID=America/Los_Angeles:20260325T173000
DTSTAMP:20260423T174705
CREATED:20260301T065249Z
LAST-MODIFIED:20260301T065249Z
UID:12109-1774458000-1774459800@tobeboundless.com
SUMMARY:hips & splits
DESCRIPTION:Hips & Splits. Stiff hip got you down? This hip mobility class is the perfect “fix” to chase those nagging aches and pains away before they become a real problem. 30 minutes\, 2 times a week is recommended to get the job done.
URL:https://tobeboundless.com/event/hips-splits-41/
LOCATION:3930 Utah St.\, San Diego\, Ca 92104\, 3930 Utah St\, San Diego\, CA\, 92104\, United States
ORGANIZER;CN="Boundless Women's Fitness":MAILTO:tobeboundless@gmail.com
END:VEVENT
BEGIN:VEVENT
DTSTART;TZID=UTC:20260325T163000
DTEND;TZID=UTC:20260325T170000
DTSTAMP:20260423T174705
CREATED:20260223T075226Z
LAST-MODIFIED:20260223T075242Z
UID:12067-1774456200-1774458000@tobeboundless.com
SUMMARY:form & function
DESCRIPTION:Focus on form and proper execution of each exercise to build real strenth that last a lifetime
URL:https://tobeboundless.com/event/form-function-40/
LOCATION:3930 Utah St.\, San Diego\, Ca 92104\, 3930 Utah St\, San Diego\, CA\, 92104\, United States
ORGANIZER;CN="Boundless Women's Fitness":MAILTO:tobeboundless@gmail.com
END:VEVENT
BEGIN:VEVENT
DTSTART;TZID=America/Los_Angeles:20260325T160000
DTEND;TZID=America/Los_Angeles:20260325T163000
DTSTAMP:20260423T174706
CREATED:20251028T104019Z
LAST-MODIFIED:20260221T084801Z
UID:10485-1774454400-1774456200@tobeboundless.com
SUMMARY:Pilates magic
DESCRIPTION:Pilates magic combines core exercises fused with dynamic stretches to eliminate daily stiffness and muscle tension.
URL:https://tobeboundless.com/event/pilates-magic-23/
LOCATION:3930 Utah St.\, San Diego\, Ca 92104\, 3930 Utah St\, San Diego\, CA\, 92104\, United States
ATTACH;FMTTYPE=image/jpeg:https://tobeboundless.com/wp-content/uploads/2023/08/IMG_20181205_195956-1-scaled.jpg
END:VEVENT
BEGIN:VEVENT
DTSTART;TZID=UTC:20260325T143000
DTEND;TZID=UTC:20260325T150000
DTSTAMP:20260423T174706
CREATED:20260221T020302Z
LAST-MODIFIED:20260221T084207Z
UID:12020-1774449000-1774450800@tobeboundless.com
SUMMARY:Ooh La La Legs
DESCRIPTION:Build strength to last a lifetime and gorgeous legs all while improving brain power and bone health.
URL:https://tobeboundless.com/event/ooh-la-la-legs-45/
LOCATION:3930 Utah St.\, San Diego\, Ca 92104\, 3930 Utah St\, San Diego\, CA\, 92104\, United States
ORGANIZER;CN="Boundless Women's Fitness":MAILTO:tobeboundless@gmail.com
END:VEVENT
BEGIN:VEVENT
DTSTART;TZID=America/Los_Angeles:20260325T140000
DTEND;TZID=America/Los_Angeles:20260325T143000
DTSTAMP:20260423T174706
CREATED:20240605T051216Z
LAST-MODIFIED:20251226T082959Z
UID:7646-1774447200-1774449000@tobeboundless.com
SUMMARY:hustle & flow
DESCRIPTION:hustle and flow is a 30 minute low impact workout\, high energy  strength and strength workout takes your core training to the next level.
URL:https://tobeboundless.com/event/hustle-flow/
LOCATION:3930 Utah St.\, San Diego\, Ca 92104\, 3930 Utah St\, San Diego\, CA\, 92104\, United States
END:VEVENT
BEGIN:VEVENT
DTSTART;TZID=UTC:20260324T120000
DTEND;TZID=UTC:20260324T125000
DTSTAMP:20260423T174706
CREATED:20260204T074104Z
LAST-MODIFIED:20260223T062011Z
UID:11958-1774353600-1774356600@tobeboundless.com
SUMMARY:core harmony
DESCRIPTION:Core Harmony supports the regulation of your nervous system and the natural rhythm of your hormones. This class is a sanctuary for slowing down\, tuning in\, and restoring balance through soft\, intentional movement rooted in Pilates and somatic awareness.
URL:https://tobeboundless.com/event/core-harmony-7/
LOCATION:3930 Utah St.\, San Diego\, Ca 92104\, 3930 Utah St\, San Diego\, CA\, 92104\, United States
ORGANIZER;CN="Boundless Women's Fitness":MAILTO:tobeboundless@gmail.com
END:VEVENT
BEGIN:VEVENT
DTSTART;TZID=UTC:20260324T100000
DTEND;TZID=UTC:20260324T105000
DTSTAMP:20260423T174706
CREATED:20260223T055735Z
LAST-MODIFIED:20260223T055852Z
UID:12041-1774346400-1774349400@tobeboundless.com
SUMMARY:brilliant\, nimble & resilient
DESCRIPTION:A calm\, welcoming class where you can rebuild balance\, strength\, and confidence at a pace that feels right for your body. \nEach session focuses on practical\, everyday movements — stepping off curbs\, walking on uneven ground\, getting up from the floor\, staying steady during daily activities — so you can move through life feeling safer\, stronger\, and more independent.
URL:https://tobeboundless.com/event/brilliant-nimble-resilient-9/
LOCATION:3930 Utah St.\, San Diego\, Ca 92104\, 3930 Utah St\, San Diego\, CA\, 92104\, United States
ORGANIZER;CN="Boundless Women's Fitness":MAILTO:tobeboundless@gmail.com
END:VEVENT
BEGIN:VEVENT
DTSTART;TZID=UTC:20260324T090000
DTEND;TZID=UTC:20260324T093000
DTSTAMP:20260423T174706
CREATED:20251228T073835Z
LAST-MODIFIED:20260223T053700Z
UID:11369-1774342800-1774344600@tobeboundless.com
SUMMARY:defy impossible
DESCRIPTION:Stop fighting for strength. Build it. Defy Impossible targets the muscles women are rarely taught to activate — so you get stronger\, faster\, and with way more confidence. \n 
URL:https://tobeboundless.com/event/defy-impossible-20/
LOCATION:CA
END:VEVENT
BEGIN:VEVENT
DTSTART;TZID=America/Los_Angeles:20260324T070000
DTEND;TZID=America/Los_Angeles:20260324T073000
DTSTAMP:20260423T174706
CREATED:20251227T062256Z
LAST-MODIFIED:20251227T062256Z
UID:11316-1774335600-1774337400@tobeboundless.com
SUMMARY:Hips & Splits
DESCRIPTION:Hips & Splits. Stiff hip got you down? This hip mobility class is the perfect “fix” to chase those nagging aches and pains away before they become a real problem. 30 minutes\, 2 times a week is recommended to get the job done.
URL:https://tobeboundless.com/event/hips-splits-37/
LOCATION:3930 Utah St.\, San Diego\, Ca 92104\, 3930 Utah St\, San Diego\, CA\, 92104\, United States
ORGANIZER;CN="Boundless Women's Fitness":MAILTO:tobeboundless@gmail.com
END:VEVENT
BEGIN:VEVENT
DTSTART;TZID=UTC:20260324T063000
DTEND;TZID=UTC:20260324T070000
DTSTAMP:20260423T174706
CREATED:20251207T072415Z
LAST-MODIFIED:20251227T041814Z
UID:10813-1774333800-1774335600@tobeboundless.com
SUMMARY:rise & stride
DESCRIPTION:Rise & Stride is the perfect intorduction to fitness for beginners who want to start with walk/run intervals or walking only. This supportive\, outdoor class combines fresh air\, accountability\, and community to help you build confidence and endurance at your own pace. Guided sessions make it easy to stay motivted while connecting with others who share  your goals. Whether you’re looking to improve  your health\, enjoy social  support\, or simply move more\, Rise & Stride offers a welcoming space to grow strong and stride forward.
URL:https://tobeboundless.com/event/rise-stride-9/
LOCATION:3930 Utah St.\, San Diego\, Ca 92104\, 3930 Utah St\, San Diego\, CA\, 92104\, United States
ORGANIZER;CN="Boundless Women's Fitness":MAILTO:tobeboundless@gmail.com
END:VEVENT
BEGIN:VEVENT
DTSTART;TZID=UTC:20260324T060000
DTEND;TZID=UTC:20260324T063000
DTSTAMP:20260423T174706
CREATED:20251227T060148Z
LAST-MODIFIED:20251227T060148Z
UID:11291-1774332000-1774333800@tobeboundless.com
SUMMARY:Ooh La La Legs
DESCRIPTION:Build strength to last a lifetime and gorgeous legs all while improving brain power and bone health.
URL:https://tobeboundless.com/event/ooh-la-la-legs-42/
LOCATION:3930 Utah St.\, San Diego\, Ca 92104\, 3930 Utah St\, San Diego\, CA\, 92104\, United States
ORGANIZER;CN="Boundless Women's Fitness":MAILTO:tobeboundless@gmail.com
END:VEVENT
BEGIN:VEVENT
DTSTART;TZID=UTC:20260323T183000
DTEND;TZID=UTC:20260323T193000
DTSTAMP:20260423T174706
CREATED:20260223T073624Z
LAST-MODIFIED:20260223T073624Z
UID:12048-1774290600-1774294200@tobeboundless.com
SUMMARY:restore your core
DESCRIPTION:Restore Your Core offers slow\, supportive movement that eases pelvic tension\, calms inflammation\, and helps you reconnect with your body without pushing past your capacity. This class blends gentle core work\, breath‑led mobility\, and nervous‑system soothing to help you feel lighter\, more grounded\, and more at ease. \nPerfect if you’re seeking: \n\nrelief from pelvic tension or bloating\nmovement that adapts to your energy\ngentle strength without overwhelm\na space where your experience is understood\n\nYou’ll leave feeling supported\, settled\, and more at home in your body.
URL:https://tobeboundless.com/event/restore-your-core-5/
LOCATION:3930 Utah St.\, San Diego\, Ca 92104\, 3930 Utah St\, San Diego\, CA\, 92104\, United States
END:VEVENT
BEGIN:VEVENT
DTSTART;TZID=America/Los_Angeles:20260323T180000
DTEND;TZID=America/Los_Angeles:20260323T183000
DTSTAMP:20260423T174706
CREATED:20251226T072547Z
LAST-MODIFIED:20251226T072547Z
UID:11142-1774288800-1774290600@tobeboundless.com
SUMMARY:hustle & flow
DESCRIPTION:hustle and flow is a 30 minute low impact workout\, high energy  strength and strength workout takes your core training to the next level.
URL:https://tobeboundless.com/event/hustle-flow-17/
LOCATION:3930 Utah St.\, San Diego\, Ca 92104\, 3930 Utah St\, San Diego\, CA\, 92104\, United States
END:VEVENT
BEGIN:VEVENT
DTSTART;TZID=UTC:20260323T173000
DTEND;TZID=UTC:20260323T180000
DTSTAMP:20260423T174706
CREATED:20251226T060031Z
LAST-MODIFIED:20251226T060031Z
UID:11130-1774287000-1774288800@tobeboundless.com
SUMMARY:strong & lean
DESCRIPTION:Strong and lean build lean muscle without the bulk. Burn body fat with great results. This is the class that gives you boundless energy and keeps you comig back for more.
URL:https://tobeboundless.com/event/strong-lean-50/
LOCATION:CA
END:VEVENT
BEGIN:VEVENT
DTSTART;TZID=UTC:20260323T170000
DTEND;TZID=UTC:20260323T173000
DTSTAMP:20260423T174706
CREATED:20251226T054126Z
LAST-MODIFIED:20251226T054126Z
UID:11122-1774285200-1774287000@tobeboundless.com
SUMMARY:flip the script
DESCRIPTION:Flip The Script is your answer to the daily grind. This zen-strength calss is the perfect “pick me up” to work every inch of your body.
URL:https://tobeboundless.com/event/flip-the-script-13/
LOCATION:3930 Utah St.\, San Diego\, Ca 92104\, 3930 Utah St\, San Diego\, CA\, 92104\, United States
ORGANIZER;CN="Boundless Women's Fitness":MAILTO:tobeboundless@gmail.com
END:VEVENT
BEGIN:VEVENT
DTSTART;TZID=UTC:20260323T110000
DTEND;TZID=UTC:20260323T113000
DTSTAMP:20260423T174706
CREATED:20251226T052513Z
LAST-MODIFIED:20251226T052513Z
UID:11110-1774263600-1774265400@tobeboundless.com
SUMMARY:power & flow
DESCRIPTION:Where Pilates meets strength training. This unique strength class combines pure power with an elegant flow to transform your body from head to toe.
URL:https://tobeboundless.com/event/power-flow-34/
LOCATION:3930 Utah St.\, San Diego\, Ca 92104\, 3930 Utah St\, San Diego\, CA\, 92104\, United States
ORGANIZER;CN="Boundless Women's Fitness":MAILTO:tobeboundless@gmail.com
END:VEVENT
BEGIN:VEVENT
DTSTART;TZID=UTC:20260323T100000
DTEND;TZID=UTC:20260323T103000
DTSTAMP:20260423T174706
CREATED:20251226T051118Z
LAST-MODIFIED:20251226T051118Z
UID:11096-1774260000-1774261800@tobeboundless.com
SUMMARY:form & function
DESCRIPTION:Focus on form and proper execution of each exercise to build real strenth that last a lifetime
URL:https://tobeboundless.com/event/form-function-35/
LOCATION:3930 Utah St.\, San Diego\, Ca 92104\, 3930 Utah St\, San Diego\, CA\, 92104\, United States
ORGANIZER;CN="Boundless Women's Fitness":MAILTO:tobeboundless@gmail.com
END:VEVENT
BEGIN:VEVENT
DTSTART;TZID=UTC:20260323T093000
DTEND;TZID=UTC:20260323T100000
DTSTAMP:20260423T174706
CREATED:20251226T041214Z
LAST-MODIFIED:20251226T041214Z
UID:11050-1774258200-1774260000@tobeboundless.com
SUMMARY:don't stop\, won't stop
DESCRIPTION:Unlock the power of movement that lasts a lifetime. If you want to keep your feet knees & hip joints strong\, flexible\, and pain free. This mobility-focused class will build resilience in your joints\, improve your balance\, and match your “no quit attitude”. Whether your chasing longevity\, preventing injury\, or you simply want to move with confidence\, this class is all about celebrating what your body can do.
URL:https://tobeboundless.com/event/dont-stop-wont-stop-12/
LOCATION:3930 Utah St.\, San Diego\, Ca 92104\, 3930 Utah St\, San Diego\, CA\, 92104\, United States
ORGANIZER;CN="Boundless Women's Fitness":MAILTO:tobeboundless@gmail.com
END:VEVENT
END:VCALENDAR