BEGIN:VCALENDAR
VERSION:2.0
PRODID:-//Boundless  - fitness studio for women in North Park, San Diego - ECPv6.15.20//NONSGML v1.0//EN
CALSCALE:GREGORIAN
METHOD:PUBLISH
X-WR-CALNAME:Boundless  - fitness studio for women in North Park, San Diego
X-ORIGINAL-URL:https://tobeboundless.com
X-WR-CALDESC:Events for Boundless  - fitness studio for women in North Park, San Diego
REFRESH-INTERVAL;VALUE=DURATION:PT1H
X-Robots-Tag:noindex
X-PUBLISHED-TTL:PT1H
BEGIN:VTIMEZONE
TZID:UTC
BEGIN:STANDARD
TZOFFSETFROM:+0000
TZOFFSETTO:+0000
TZNAME:UTC
DTSTART:20240101T000000
END:STANDARD
END:VTIMEZONE
BEGIN:VTIMEZONE
TZID:America/Los_Angeles
BEGIN:DAYLIGHT
TZOFFSETFROM:-0800
TZOFFSETTO:-0700
TZNAME:PDT
DTSTART:20240310T100000
END:DAYLIGHT
BEGIN:STANDARD
TZOFFSETFROM:-0700
TZOFFSETTO:-0800
TZNAME:PST
DTSTART:20241103T090000
END:STANDARD
BEGIN:DAYLIGHT
TZOFFSETFROM:-0800
TZOFFSETTO:-0700
TZNAME:PDT
DTSTART:20250309T100000
END:DAYLIGHT
BEGIN:STANDARD
TZOFFSETFROM:-0700
TZOFFSETTO:-0800
TZNAME:PST
DTSTART:20251102T090000
END:STANDARD
BEGIN:DAYLIGHT
TZOFFSETFROM:-0800
TZOFFSETTO:-0700
TZNAME:PDT
DTSTART:20260308T100000
END:DAYLIGHT
BEGIN:STANDARD
TZOFFSETFROM:-0700
TZOFFSETTO:-0800
TZNAME:PST
DTSTART:20261101T090000
END:STANDARD
END:VTIMEZONE
BEGIN:VEVENT
DTSTART;TZID=UTC:20251020T183000
DTEND;TZID=UTC:20251020T190000
DTSTAMP:20260423T223321
CREATED:20250913T092928Z
LAST-MODIFIED:20250913T092928Z
UID:10014-1760985000-1760986800@tobeboundless.com
SUMMARY:fit & fertile
DESCRIPTION:Fit & Fertile is more than physical conditioning—it’s a holistic approach to your reproductive journey.We cultivate an internal environment that supports conception\, hormonal balance\, and emotional well-being.
URL:https://tobeboundless.com/event/fit-fertile-4/
LOCATION:3930 Utah St.\, San Diego\, Ca 92104\, 3930 Utah St\, San Diego\, CA\, 92104\, United States
ORGANIZER;CN="Boundless Women's Fitness":MAILTO:tobeboundless@gmail.com
END:VEVENT
BEGIN:VEVENT
DTSTART;TZID=America/Los_Angeles:20251022T060000
DTEND;TZID=America/Los_Angeles:20251022T120000
DTSTAMP:20260423T223321
CREATED:20240629T082109Z
LAST-MODIFIED:20250831T081307Z
UID:7978-1761112800-1761134400@tobeboundless.com
SUMMARY:women’s outdoor hikes
DESCRIPTION:Our scenic women’s outdoor hiking groups explore San Diego’s beautiful backcountry. It’s a moving meditation for women who love the outdoors\, enjoy walking and communing with nature while connecting with new friends as they get in shape.
URL:https://tobeboundless.com/event/womens-outdoor-hikes-15/
LOCATION:3930 Utah St.\, San Diego\, Ca 92104\, 3930 Utah St\, San Diego\, CA\, 92104\, United States
ATTACH;FMTTYPE=image/jpeg:https://tobeboundless.com/wp-content/uploads/2024/04/IMG_20240105_095322848-scaled.jpg
END:VEVENT
BEGIN:VEVENT
DTSTART;TZID=America/Los_Angeles:20251022T170000
DTEND;TZID=America/Los_Angeles:20251022T173000
DTSTAMP:20260423T223321
CREATED:20250916T234837Z
LAST-MODIFIED:20250916T234837Z
UID:10060-1761152400-1761154200@tobeboundless.com
SUMMARY:happy hips
DESCRIPTION:Stiff hip got you down? This hip mobility class is the perfect “fix” to chase those nagging aches and pains away before they become a real problem. 30 minutes\, 2 times a week is recommended to get the job done.
URL:https://tobeboundless.com/event/happy-hips-8/
LOCATION:3930 Utah St.\, San Diego\, Ca 92104\, 3930 Utah St\, San Diego\, CA\, 92104\, United States
ORGANIZER;CN="Boundless Women's Fitness":MAILTO:tobeboundless@gmail.com
END:VEVENT
BEGIN:VEVENT
DTSTART;TZID=UTC:20251023T120000
DTEND;TZID=UTC:20251023T123000
DTSTAMP:20260423T223321
CREATED:20250706T044559Z
LAST-MODIFIED:20250928T044243Z
UID:9579-1761220800-1761222600@tobeboundless.com
SUMMARY:prenatal strength training
DESCRIPTION:Our prenatal classes are the best way to build strength while reducing mommy aches and muscle tension. Get fit at any stage of pregnancy and beyond.
URL:https://tobeboundless.com/event/prenatal-core-strength-3/
LOCATION:3930 Utah St.\, San Diego\, Ca 92104\, 3930 Utah St\, San Diego\, CA\, 92104\, United States
ATTACH;FMTTYPE=image/jpeg:https://tobeboundless.com/wp-content/uploads/2024/07/20240229_180056-scaled.jpg
END:VEVENT
BEGIN:VEVENT
DTSTART;TZID=UTC:20251023T173000
DTEND;TZID=UTC:20251023T180000
DTSTAMP:20260423T223321
CREATED:20250917T003430Z
LAST-MODIFIED:20250917T003430Z
UID:10074-1761240600-1761242400@tobeboundless.com
SUMMARY:ovulation nation
DESCRIPTION:Ovulation Nation is a fertility focused Pilates class that pairs your journey with intentional movement that resets your nervous system\, enhances circulation to your reproductive organs\, and reconnect you to your body’s innate wisdom.
URL:https://tobeboundless.com/event/ovulation-nation-4/
LOCATION:3930 Utah St.\, San Diego\, Ca 92104\, 3930 Utah St\, San Diego\, CA\, 92104\, United States
ORGANIZER;CN="Boundless Women's Fitness":MAILTO:tobeboundless@gmail.com
END:VEVENT
BEGIN:VEVENT
DTSTART;TZID=America/Los_Angeles:20251026T160000
DTEND;TZID=America/Los_Angeles:20251026T163000
DTSTAMP:20260423T223321
CREATED:20240612T010233Z
LAST-MODIFIED:20250913T122157Z
UID:7801-1761494400-1761496200@tobeboundless.com
SUMMARY:Pilates magic
DESCRIPTION:Pilates magic combines core exercises fused with dynamic stretches to eliminate daily stiffness and muscle tension.
URL:https://tobeboundless.com/event/pilates-magic-7/
LOCATION:3930 Utah St.\, San Diego\, Ca 92104\, 3930 Utah St\, San Diego\, CA\, 92104\, United States
ATTACH;FMTTYPE=image/jpeg:https://tobeboundless.com/wp-content/uploads/2023/08/IMG_20181205_195956-1-scaled.jpg
END:VEVENT
BEGIN:VEVENT
DTSTART;TZID=America/Los_Angeles:20251026T163000
DTEND;TZID=America/Los_Angeles:20251026T170000
DTSTAMP:20260423T223321
CREATED:20250917T012321Z
LAST-MODIFIED:20250917T012321Z
UID:10102-1761496200-1761498000@tobeboundless.com
SUMMARY:happy hips
DESCRIPTION:Stiff hip got you down? This hip mobility class is the perfect “fix” to chase those nagging aches and pains away before they become a real problem. 30 minutes\, 2 times a week is recommended to get the job done.
URL:https://tobeboundless.com/event/happy-hips-12/
LOCATION:3930 Utah St.\, San Diego\, Ca 92104\, 3930 Utah St\, San Diego\, CA\, 92104\, United States
ORGANIZER;CN="Boundless Women's Fitness":MAILTO:tobeboundless@gmail.com
END:VEVENT
BEGIN:VEVENT
DTSTART;TZID=UTC:20251027T183000
DTEND;TZID=UTC:20251027T190000
DTSTAMP:20260423T223321
CREATED:20250913T093025Z
LAST-MODIFIED:20250913T093025Z
UID:10015-1761589800-1761591600@tobeboundless.com
SUMMARY:fit & fertile
DESCRIPTION:Fit & Fertile is more than physical conditioning—it’s a holistic approach to your reproductive journey.We cultivate an internal environment that supports conception\, hormonal balance\, and emotional well-being.
URL:https://tobeboundless.com/event/fit-fertile-5/
LOCATION:3930 Utah St.\, San Diego\, Ca 92104\, 3930 Utah St\, San Diego\, CA\, 92104\, United States
ORGANIZER;CN="Boundless Women's Fitness":MAILTO:tobeboundless@gmail.com
END:VEVENT
BEGIN:VEVENT
DTSTART;TZID=America/Los_Angeles:20251029T060000
DTEND;TZID=America/Los_Angeles:20251029T120000
DTSTAMP:20260423T223321
CREATED:20240629T081704Z
LAST-MODIFIED:20250831T081412Z
UID:7970-1761717600-1761739200@tobeboundless.com
SUMMARY:women’s outdoor hikes
DESCRIPTION:Our scenic women’s outdoor hiking groups explore San Diego’s beautiful backcountry. It’s a moving meditation for women who love the outdoors\, enjoy walking and communing with nature while connecting with new friends as they get in shape.
URL:https://tobeboundless.com/event/womens-outdoor-hikes-14/
LOCATION:3930 Utah St.\, San Diego\, Ca 92104\, 3930 Utah St\, San Diego\, CA\, 92104\, United States
ATTACH;FMTTYPE=image/jpeg:https://tobeboundless.com/wp-content/uploads/2024/04/IMG_20240105_095322848-scaled.jpg
END:VEVENT
BEGIN:VEVENT
DTSTART;TZID=America/Los_Angeles:20251029T170000
DTEND;TZID=America/Los_Angeles:20251029T173000
DTSTAMP:20260423T223321
CREATED:20250916T234953Z
LAST-MODIFIED:20250916T235238Z
UID:10061-1761757200-1761759000@tobeboundless.com
SUMMARY:happy hips
DESCRIPTION:Stiff hip got you down? This hip mobility class is the perfect “fix” to chase those nagging aches and pains away before they become a real problem. 30 minutes\, 2 times a week is recommended to get the job done.
URL:https://tobeboundless.com/event/happy-hips-9/
LOCATION:3930 Utah St.\, San Diego\, Ca 92104\, 3930 Utah St\, San Diego\, CA\, 92104\, United States
ORGANIZER;CN="Boundless Women's Fitness":MAILTO:tobeboundless@gmail.com
END:VEVENT
BEGIN:VEVENT
DTSTART;TZID=UTC:20251030T120000
DTEND;TZID=UTC:20251030T123000
DTSTAMP:20260423T223321
CREATED:20250706T044448Z
LAST-MODIFIED:20250928T044319Z
UID:9580-1761825600-1761827400@tobeboundless.com
SUMMARY:prenatal strength training
DESCRIPTION:Our prenatal classes are the best way to build strength while reducing mommy aches and muscle tension. Get fit at any stage of pregnancy and beyond.
URL:https://tobeboundless.com/event/prenatal-core-strength-2/
LOCATION:3930 Utah St.\, San Diego\, Ca 92104\, 3930 Utah St\, San Diego\, CA\, 92104\, United States
ATTACH;FMTTYPE=image/jpeg:https://tobeboundless.com/wp-content/uploads/2024/07/20240229_180056-scaled.jpg
END:VEVENT
BEGIN:VEVENT
DTSTART;TZID=UTC:20251030T173000
DTEND;TZID=UTC:20251030T180000
DTSTAMP:20260423T223321
CREATED:20250917T004253Z
LAST-MODIFIED:20250917T004807Z
UID:10071-1761845400-1761847200@tobeboundless.com
SUMMARY:ovulation nation
DESCRIPTION:Ovulation Nation is a fertility focused Pilates class that pairs your journey with intentional movement that resets your nervous system\, enhances circulation to your reproductive organs\, and reconnect you to your body’s innate wisdom.
URL:https://tobeboundless.com/event/ovulation-nation-5/
LOCATION:3930 Utah St.\, San Diego\, Ca 92104\, 3930 Utah St\, San Diego\, CA\, 92104\, United States
ORGANIZER;CN="Boundless Women's Fitness":MAILTO:tobeboundless@gmail.com
END:VEVENT
BEGIN:VEVENT
DTSTART;TZID=America/Los_Angeles:20251030T183000
DTEND;TZID=America/Los_Angeles:20251030T190000
DTSTAMP:20260423T223321
CREATED:20250917T011104Z
LAST-MODIFIED:20250917T011104Z
UID:10097-1761849000-1761850800@tobeboundless.com
SUMMARY:Pilates body
DESCRIPTION:Pilates body is a low-impact\, strength training class that’s guaranteed to wake-up your sleepy abs and lifts your little butt.
URL:https://tobeboundless.com/event/pilates-body-22/
LOCATION:3930 Utah St.\, San Diego\, Ca 92104\, 3930 Utah St\, San Diego\, CA\, 92104\, United States
END:VEVENT
BEGIN:VEVENT
DTSTART;TZID=America/Los_Angeles:20251102T173000
DTEND;TZID=America/Los_Angeles:20251102T180000
DTSTAMP:20260423T223321
CREATED:20240612T011725Z
LAST-MODIFIED:20251028T103107Z
UID:7818-1762104600-1762106400@tobeboundless.com
SUMMARY:Pilates magic
DESCRIPTION:Pilates magic combines core exercises fused with dynamic stretches to eliminate daily stiffness and muscle tension.
URL:https://tobeboundless.com/event/pilates-magic-8/
LOCATION:3930 Utah St.\, San Diego\, Ca 92104\, 3930 Utah St\, San Diego\, CA\, 92104\, United States
ATTACH;FMTTYPE=image/jpeg:https://tobeboundless.com/wp-content/uploads/2023/08/IMG_20181205_195956-1-scaled.jpg
END:VEVENT
BEGIN:VEVENT
DTSTART;TZID=America/Los_Angeles:20251103T173000
DTEND;TZID=America/Los_Angeles:20251103T180000
DTSTAMP:20260423T223321
CREATED:20240611T072309Z
LAST-MODIFIED:20250928T050628Z
UID:7759-1762191000-1762192800@tobeboundless.com
SUMMARY:strong & lean
DESCRIPTION:Strong and lean build lean muscle without the bulk. Burn body fat with great results. This is the class that gives you boundless energy and keeps you comig back for more.
URL:https://tobeboundless.com/event/strong-lean-3/
LOCATION:CA
END:VEVENT
BEGIN:VEVENT
DTSTART;TZID=America/Los_Angeles:20251105T060000
DTEND;TZID=America/Los_Angeles:20251105T120000
DTSTAMP:20260423T223321
CREATED:20240629T081432Z
LAST-MODIFIED:20250913T100336Z
UID:7969-1762322400-1762344000@tobeboundless.com
SUMMARY:women’s outdoor hikes
DESCRIPTION:Our scenic women’s outdoor hiking groups explore San Diego’s beautiful backcountry. It’s a moving meditation for women who love the outdoors\, enjoy walking and communing with nature while connecting with new friends as they get in shape.
URL:https://tobeboundless.com/event/womens-outdoor-hikes-13/
LOCATION:3930 Utah St.\, San Diego\, Ca 92104\, 3930 Utah St\, San Diego\, CA\, 92104\, United States
ATTACH;FMTTYPE=image/jpeg:https://tobeboundless.com/wp-content/uploads/2024/04/IMG_20240105_095322848-scaled.jpg
END:VEVENT
BEGIN:VEVENT
DTSTART;TZID=America/Los_Angeles:20251105T140000
DTEND;TZID=America/Los_Angeles:20251105T143000
DTSTAMP:20260423T223321
CREATED:20240825T082243Z
LAST-MODIFIED:20251025T025746Z
UID:8239-1762351200-1762353000@tobeboundless.com
SUMMARY:postpartum Pilates
DESCRIPTION:Build a stronger\, toned & fit body post pregnancy. Our postpartum Pilates classes are the best way to rebuild core strength so you look and feel amazing as you keep up with your little one(s).
URL:https://tobeboundless.com/event/postpartum-pilates-3/
LOCATION:3930 Utah St.\, San Diego\, Ca 92104\, 3930 Utah St\, San Diego\, CA\, 92104\, United States
ORGANIZER;CN="Boundless Women's Fitness":MAILTO:tobeboundless@gmail.com
END:VEVENT
BEGIN:VEVENT
DTSTART;TZID=UTC:20251105T163000
DTEND;TZID=UTC:20251105T170000
DTSTAMP:20260423T223321
CREATED:20250706T061757Z
LAST-MODIFIED:20251025T034524Z
UID:9632-1762360200-1762362000@tobeboundless.com
SUMMARY:form and function
DESCRIPTION:Focus on form and the proper execusion of each exercise to build real strength that lasts a lifetime.
URL:https://tobeboundless.com/event/form-and-function-2/
LOCATION:3930 Utah St.\, San Diego\, Ca 92104\, 3930 Utah St\, San Diego\, CA\, 92104\, United States
ORGANIZER;CN="Boundless Women's Fitness":MAILTO:tobeboundless@gmail.com
END:VEVENT
BEGIN:VEVENT
DTSTART;TZID=America/Los_Angeles:20251106T183000
DTEND;TZID=America/Los_Angeles:20251106T190000
DTSTAMP:20260423T223321
CREATED:20250712T234453Z
LAST-MODIFIED:20251027T043751Z
UID:9656-1762453800-1762455600@tobeboundless.com
SUMMARY:Pilates body
DESCRIPTION:Pilates body is a low-impact strength training class that’s guaranteed to wake-up your sleepy abs and lifts your little butt.
URL:https://tobeboundless.com/event/pilates-body-10/
LOCATION:3930 Utah St.\, San Diego\, Ca 92104\, 3930 Utah St\, San Diego\, CA\, 92104\, United States
ORGANIZER;CN="Boundless Women's Fitness":MAILTO:tobeboundless@gmail.com
END:VEVENT
BEGIN:VEVENT
DTSTART;TZID=America/Los_Angeles:20251112T060000
DTEND;TZID=America/Los_Angeles:20251112T120000
DTSTAMP:20260423T223321
CREATED:20240629T081319Z
LAST-MODIFIED:20250913T100457Z
UID:7971-1762927200-1762948800@tobeboundless.com
SUMMARY:women’s outdoor hikes
DESCRIPTION:Our scenic women’s outdoor hiking groups explore San Diego’s beautiful backcountry. It’s a moving meditation for women who love the outdoors\, enjoy walking and communing with nature while connecting with new friends as they get in shape.
URL:https://tobeboundless.com/event/womens-outdoor-hikes-12/
LOCATION:3930 Utah St.\, San Diego\, Ca 92104\, 3930 Utah St\, San Diego\, CA\, 92104\, United States
ATTACH;FMTTYPE=image/jpeg:https://tobeboundless.com/wp-content/uploads/2024/04/IMG_20240105_095322848-scaled.jpg
END:VEVENT
BEGIN:VEVENT
DTSTART;TZID=America/Los_Angeles:20251112T140000
DTEND;TZID=America/Los_Angeles:20251112T143000
DTSTAMP:20260423T223321
CREATED:20240622T055951Z
LAST-MODIFIED:20251025T025843Z
UID:7926-1762956000-1762957800@tobeboundless.com
SUMMARY:postpartum Pilates
DESCRIPTION:Build a stronger\, toned & fit body post pregnancy. Our postpartum Pilates classes are the best way to rebuild core strength so you look and feel amazing as you keep up with your little one(s).
URL:https://tobeboundless.com/event/postpartum-pilates-2/
LOCATION:3930 Utah St.\, San Diego\, Ca 92104\, 3930 Utah St\, San Diego\, CA\, 92104\, United States
ORGANIZER;CN="Boundless Women's Fitness":MAILTO:tobeboundless@gmail.com
END:VEVENT
BEGIN:VEVENT
DTSTART;TZID=America/Los_Angeles:20251112T160000
DTEND;TZID=America/Los_Angeles:20251112T163000
DTSTAMP:20260423T223321
CREATED:20240720T072106Z
LAST-MODIFIED:20251025T033732Z
UID:8056-1762963200-1762965000@tobeboundless.com
SUMMARY:Pilates magic
DESCRIPTION:Pilates magic combines core exercises fused with dynamic stretches to eliminate daily stiffness and muscle tension.
URL:https://tobeboundless.com/event/pilates-magic-9/
LOCATION:3930 Utah St.\, San Diego\, Ca 92104\, 3930 Utah St\, San Diego\, CA\, 92104\, United States
ATTACH;FMTTYPE=image/jpeg:https://tobeboundless.com/wp-content/uploads/2023/08/IMG_20181205_195956-1-scaled.jpg
END:VEVENT
BEGIN:VEVENT
DTSTART;TZID=UTC:20251112T163000
DTEND;TZID=UTC:20251112T170000
DTSTAMP:20260423T223321
CREATED:20250706T061722Z
LAST-MODIFIED:20251025T034629Z
UID:9631-1762965000-1762966800@tobeboundless.com
SUMMARY:form and function
DESCRIPTION:Focus on form and the proper execusion of each exercise to build real strength that lasts a lifetime.
URL:https://tobeboundless.com/event/form-and-function/
LOCATION:3930 Utah St.\, San Diego\, Ca 92104\, 3930 Utah St\, San Diego\, CA\, 92104\, United States
ORGANIZER;CN="Boundless Women's Fitness":MAILTO:tobeboundless@gmail.com
END:VEVENT
BEGIN:VEVENT
DTSTART;TZID=America/Los_Angeles:20251112T170000
DTEND;TZID=America/Los_Angeles:20251112T173000
DTSTAMP:20260423T223321
CREATED:20251025T041041Z
LAST-MODIFIED:20251025T041106Z
UID:10420-1762966800-1762968600@tobeboundless.com
SUMMARY:Hips & Splits
DESCRIPTION:Hips & Splits. Stiff hip got you down? This hip mobility class is the perfect “fix” to chase those nagging aches and pains away before they become a real problem. 30 minutes\, 2 times a week is recommended to get the job done.
URL:https://tobeboundless.com/event/hips-splits-2/
LOCATION:3930 Utah St.\, San Diego\, Ca 92104\, 3930 Utah St\, San Diego\, CA\, 92104\, United States
ORGANIZER;CN="Boundless Women's Fitness":MAILTO:tobeboundless@gmail.com
END:VEVENT
BEGIN:VEVENT
DTSTART;TZID=America/Los_Angeles:20251119T060000
DTEND;TZID=America/Los_Angeles:20251119T120000
DTSTAMP:20260423T223321
CREATED:20240629T081143Z
LAST-MODIFIED:20250913T100646Z
UID:7972-1763532000-1763553600@tobeboundless.com
SUMMARY:women’s outdoor hikes
DESCRIPTION:Our scenic women’s outdoor hiking groups explore San Diego’s beautiful backcountry. It’s a moving meditation for women who love the outdoors\, enjoy walking and communing with nature while connecting with new friends as they get in shape.
URL:https://tobeboundless.com/event/womens-outdoor-hikes-11/
LOCATION:3930 Utah St.\, San Diego\, Ca 92104\, 3930 Utah St\, San Diego\, CA\, 92104\, United States
ATTACH;FMTTYPE=image/jpeg:https://tobeboundless.com/wp-content/uploads/2024/04/IMG_20240105_095322848-scaled.jpg
END:VEVENT
BEGIN:VEVENT
DTSTART;TZID=America/Los_Angeles:20251119T140000
DTEND;TZID=America/Los_Angeles:20251119T143000
DTSTAMP:20260423T223321
CREATED:20240622T055603Z
LAST-MODIFIED:20251025T025955Z
UID:7925-1763560800-1763562600@tobeboundless.com
SUMMARY:postpartum Pilates
DESCRIPTION:Build a stronger\, toned & fit body post pregnancy. Our postpartum Pilates classes are the best way to rebuild core strength so you look and feel amazing as keep up with your little one(s).
URL:https://tobeboundless.com/event/postpartum-pilates-6/
LOCATION:3930 Utah St.\, San Diego\, Ca 92104\, 3930 Utah St\, San Diego\, CA\, 92104\, United States
END:VEVENT
BEGIN:VEVENT
DTSTART;TZID=America/Los_Angeles:20251119T160000
DTEND;TZID=America/Los_Angeles:20251119T163000
DTSTAMP:20260423T223321
CREATED:20240527T224124Z
LAST-MODIFIED:20251025T033829Z
UID:7528-1763568000-1763569800@tobeboundless.com
SUMMARY:Pilates magic
DESCRIPTION:Pilates magic combines core exercises fused with dynamic stretches to eliminate daily stiffness and muscle tension.
URL:https://tobeboundless.com/event/pilates-magic/
LOCATION:3930 Utah St.\, San Diego\, Ca 92104\, 3930 Utah St\, San Diego\, CA\, 92104\, United States
ATTACH;FMTTYPE=image/jpeg:https://tobeboundless.com/wp-content/uploads/2023/08/IMG_20181205_195956-1-scaled.jpg
END:VEVENT
BEGIN:VEVENT
DTSTART;TZID=UTC:20251119T163000
DTEND;TZID=UTC:20251119T170000
DTSTAMP:20260423T223321
CREATED:20241211T062431Z
LAST-MODIFIED:20251025T034752Z
UID:8619-1763569800-1763571600@tobeboundless.com
SUMMARY:form and function
DESCRIPTION:Focus on form and the proper execusion of each exercise to build real strength that lasts a lifetime.
URL:https://tobeboundless.com/event/form-function-real-strength-3/
LOCATION:3930 Utah St.\, San Diego\, Ca 92104\, 3930 Utah St\, San Diego\, CA\, 92104\, United States
ORGANIZER;CN="Boundless Women's Fitness":MAILTO:tobeboundless@gmail.com
END:VEVENT
BEGIN:VEVENT
DTSTART;TZID=America/Los_Angeles:20251119T170000
DTEND;TZID=America/Los_Angeles:20251119T173000
DTSTAMP:20260423T223321
CREATED:20251025T041148Z
LAST-MODIFIED:20251025T041148Z
UID:10426-1763571600-1763573400@tobeboundless.com
SUMMARY:Hips & Splits
DESCRIPTION:Hips & Splits. Stiff hip got you down? This hip mobility class is the perfect “fix” to chase those nagging aches and pains away before they become a real problem. 30 minutes\, 2 times a week is recommended to get the job done.
URL:https://tobeboundless.com/event/hips-splits-3/
LOCATION:3930 Utah St.\, San Diego\, Ca 92104\, 3930 Utah St\, San Diego\, CA\, 92104\, United States
ORGANIZER;CN="Boundless Women's Fitness":MAILTO:tobeboundless@gmail.com
END:VEVENT
BEGIN:VEVENT
DTSTART;TZID=UTC:20251120T120000
DTEND;TZID=UTC:20251120T123000
DTSTAMP:20260423T223321
CREATED:20251020T050850Z
LAST-MODIFIED:20260204T184114Z
UID:10396-1763640000-1763641800@tobeboundless.com
SUMMARY:nurture & align
DESCRIPTION:Nurture & Align is a sacred space to soften\, restore\, and reconnect.\nThis gentle Pilates-based practice is designed to support hormonal balance and nervous system regulation through mindful movement\, breath\, and embodied presence. Whether you’re preparing to conceive\, healing from stress\, or simply seeking deeper alignment with your body’s rhythms\, Nurture & Align invites you to root into calm and bloom from within.
URL:https://tobeboundless.com/event/nurture-align-4/
LOCATION:3930 Utah St.\, San Diego\, Ca 92104\, 3930 Utah St\, San Diego\, CA\, 92104\, United States
ORGANIZER;CN="Boundless Women's Fitness":MAILTO:tobeboundless@gmail.com
END:VEVENT
END:VCALENDAR