BEGIN:VCALENDAR
VERSION:2.0
PRODID:-//Boundless  - fitness studio for women in North Park, San Diego - ECPv6.15.20//NONSGML v1.0//EN
CALSCALE:GREGORIAN
METHOD:PUBLISH
X-WR-CALNAME:Boundless  - fitness studio for women in North Park, San Diego
X-ORIGINAL-URL:https://tobeboundless.com
X-WR-CALDESC:Events for Boundless  - fitness studio for women in North Park, San Diego
REFRESH-INTERVAL;VALUE=DURATION:PT1H
X-Robots-Tag:noindex
X-PUBLISHED-TTL:PT1H
BEGIN:VTIMEZONE
TZID:America/Los_Angeles
BEGIN:DAYLIGHT
TZOFFSETFROM:-0800
TZOFFSETTO:-0700
TZNAME:PDT
DTSTART:20250309T100000
END:DAYLIGHT
BEGIN:STANDARD
TZOFFSETFROM:-0700
TZOFFSETTO:-0800
TZNAME:PST
DTSTART:20251102T090000
END:STANDARD
BEGIN:DAYLIGHT
TZOFFSETFROM:-0800
TZOFFSETTO:-0700
TZNAME:PDT
DTSTART:20260308T100000
END:DAYLIGHT
BEGIN:STANDARD
TZOFFSETFROM:-0700
TZOFFSETTO:-0800
TZNAME:PST
DTSTART:20261101T090000
END:STANDARD
BEGIN:DAYLIGHT
TZOFFSETFROM:-0800
TZOFFSETTO:-0700
TZNAME:PDT
DTSTART:20270314T100000
END:DAYLIGHT
BEGIN:STANDARD
TZOFFSETFROM:-0700
TZOFFSETTO:-0800
TZNAME:PST
DTSTART:20271107T090000
END:STANDARD
END:VTIMEZONE
BEGIN:VTIMEZONE
TZID:UTC
BEGIN:STANDARD
TZOFFSETFROM:+0000
TZOFFSETTO:+0000
TZNAME:UTC
DTSTART:20250101T000000
END:STANDARD
END:VTIMEZONE
BEGIN:VEVENT
DTSTART;TZID=America/Los_Angeles:20260520T140000
DTEND;TZID=America/Los_Angeles:20260520T143000
DTSTAMP:20260426T020333
CREATED:20251226T090453Z
LAST-MODIFIED:20260321T092632Z
UID:11149-1779285600-1779287400@tobeboundless.com
SUMMARY:hustle & flow
DESCRIPTION:Hustle & Flow is a 30 minute low impact\, high-energy\, strength training for women in perimenopause and menopause.
URL:https://tobeboundless.com/event/hustle-flow-19/
LOCATION:3930 Utah St.\, San Diego\, Ca 92104\, 3930 Utah St\, San Diego\, CA\, 92104\, United States
END:VEVENT
BEGIN:VEVENT
DTSTART;TZID=UTC:20260520T143000
DTEND;TZID=UTC:20260520T150000
DTSTAMP:20260426T020333
CREATED:20260321T094310Z
LAST-MODIFIED:20260321T094310Z
UID:12275-1779287400-1779289200@tobeboundless.com
SUMMARY:Ooh La La Legs
DESCRIPTION:Build strength to last a lifetime and gorgeous legs all while improving brain power and bone health.
URL:https://tobeboundless.com/event/ooh-la-la-legs-53/
LOCATION:3930 Utah St.\, San Diego\, Ca 92104\, 3930 Utah St\, San Diego\, CA\, 92104\, United States
ORGANIZER;CN="Boundless Women's Fitness":MAILTO:tobeboundless@gmail.com
END:VEVENT
BEGIN:VEVENT
DTSTART;TZID=America/Los_Angeles:20260520T160000
DTEND;TZID=America/Los_Angeles:20260520T163000
DTSTAMP:20260426T020333
CREATED:20260321T102305Z
LAST-MODIFIED:20260321T102305Z
UID:12283-1779292800-1779294600@tobeboundless.com
SUMMARY:Pilates magic
DESCRIPTION:Pilates magic combines core exercises fused with dynamic stretches to eliminate daily stiffness and muscle tension.
URL:https://tobeboundless.com/event/pilates-magic-45/
LOCATION:3930 Utah St.\, San Diego\, Ca 92104\, 3930 Utah St\, San Diego\, CA\, 92104\, United States
ATTACH;FMTTYPE=image/jpeg:https://tobeboundless.com/wp-content/uploads/2023/08/IMG_20181205_195956-1-scaled.jpg
END:VEVENT
BEGIN:VEVENT
DTSTART;TZID=UTC:20260524T100000
DTEND;TZID=UTC:20260524T103000
DTSTAMP:20260426T020333
CREATED:20260321T131819Z
LAST-MODIFIED:20260321T131819Z
UID:12320-1779616800-1779618600@tobeboundless.com
SUMMARY:power & flow
DESCRIPTION:Power & Flow where Pilates meets strength training. This unique strength class combines pure power with an elegant flow to transform your body from head to toe.
URL:https://tobeboundless.com/event/power-flow-56/
LOCATION:3930 Utah St.\, San Diego\, Ca 92104\, 3930 Utah St\, San Diego\, CA\, 92104\, United States
ORGANIZER;CN="Boundless Women's Fitness":MAILTO:tobeboundless@gmail.com
END:VEVENT
BEGIN:VEVENT
DTSTART;TZID=America/Los_Angeles:20260525T090000
DTEND;TZID=America/Los_Angeles:20260525T093000
DTSTAMP:20260426T020333
CREATED:20260426T003834Z
LAST-MODIFIED:20260426T003834Z
UID:12630-1779699600-1779701400@tobeboundless.com
SUMMARY:Pilates body
DESCRIPTION:Pilates body is a low-impact\, strength training class that’s guaranteed to wake-up your sleepy abs and lifts your little butt.
URL:https://tobeboundless.com/event/pilates-body-48/
LOCATION:3930 Utah St.\, San Diego\, Ca 92104\, 3930 Utah St\, San Diego\, CA\, 92104\, United States
END:VEVENT
BEGIN:VEVENT
DTSTART;TZID=UTC:20260525T093000
DTEND;TZID=UTC:20260525T100000
DTSTAMP:20260426T020333
CREATED:20260426T004739Z
LAST-MODIFIED:20260426T004802Z
UID:12654-1779701400-1779703200@tobeboundless.com
SUMMARY:don't stop\, won't stop
DESCRIPTION:Unlock the power of movement that lasts a lifetime. If you want to keep your feet knees & hip joints strong\, flexible\, and pain free. This mobility-focused class will build resilience in your joints\, improve your balance\, and match your “no quit attitude”. Whether your chasing longevity\, preventing injury\, or you simply want to move with confidence\, this class is all about celebrating what your body can do.
URL:https://tobeboundless.com/event/dont-stop-wont-stop-38/
LOCATION:3930 Utah St.\, San Diego\, Ca 92104\, 3930 Utah St\, San Diego\, CA\, 92104\, United States
ORGANIZER;CN="Boundless Women's Fitness":MAILTO:tobeboundless@gmail.com
END:VEVENT
BEGIN:VEVENT
DTSTART;TZID=UTC:20260525T100000
DTEND;TZID=UTC:20260525T103000
DTSTAMP:20260426T020333
CREATED:20260426T010019Z
LAST-MODIFIED:20260426T010019Z
UID:12674-1779703200-1779705000@tobeboundless.com
SUMMARY:form & function
DESCRIPTION:Focus on form and proper execution of each exercise to build real strenth that last a lifetime
URL:https://tobeboundless.com/event/form-function-53/
LOCATION:3930 Utah St.\, San Diego\, Ca 92104\, 3930 Utah St\, San Diego\, CA\, 92104\, United States
ORGANIZER;CN="Boundless Women's Fitness":MAILTO:tobeboundless@gmail.com
END:VEVENT
BEGIN:VEVENT
DTSTART;TZID=UTC:20260526T060000
DTEND;TZID=UTC:20260526T063000
DTSTAMP:20260426T020333
CREATED:20260321T105838Z
LAST-MODIFIED:20260321T130623Z
UID:12303-1779775200-1779777000@tobeboundless.com
SUMMARY:Ooh La La Legs
DESCRIPTION:Build strength to last a lifetime and gorgeous legs all while improving brain power and bone health.
URL:https://tobeboundless.com/event/ooh-la-la-legs-62/
LOCATION:3930 Utah St.\, San Diego\, Ca 92104\, 3930 Utah St\, San Diego\, CA\, 92104\, United States
ORGANIZER;CN="Boundless Women's Fitness":MAILTO:tobeboundless@gmail.com
END:VEVENT
BEGIN:VEVENT
DTSTART;TZID=UTC:20260526T093000
DTEND;TZID=UTC:20260526T100000
DTSTAMP:20260426T020333
CREATED:20260228T080318Z
LAST-MODIFIED:20260228T080409Z
UID:12091-1779787800-1779789600@tobeboundless.com
SUMMARY:baby got back
DESCRIPTION:We’re lifting\, lengthening\, and stacking that spine like it’s hot. This class blends backbend basics with rock‑solid shoulder work to build your pull‑ups one rep at a time—slow\, smart\, and supported. We break it down so backbends feel doable\, your pull‑ups feel powerful\, and your confidence feels boundless.
URL:https://tobeboundless.com/event/baby-got-back-12/
LOCATION:3930 Utah St.\, San Diego\, Ca 92104\, 3930 Utah St\, San Diego\, CA\, 92104\, United States
ORGANIZER;CN="Boundless Women's Fitness":MAILTO:tobeboundless@gmail.com
END:VEVENT
BEGIN:VEVENT
DTSTART;TZID=America/Los_Angeles:20260527T140000
DTEND;TZID=America/Los_Angeles:20260527T143000
DTSTAMP:20260426T020333
CREATED:20251226T072652Z
LAST-MODIFIED:20260321T092723Z
UID:11141-1779890400-1779892200@tobeboundless.com
SUMMARY:hustle & flow
DESCRIPTION:hustle and flow is a 30 minute low impact workout\, high energy  strength and strength workout takes your core training to the next level.
URL:https://tobeboundless.com/event/hustle-flow-18/
LOCATION:3930 Utah St.\, San Diego\, Ca 92104\, 3930 Utah St\, San Diego\, CA\, 92104\, United States
END:VEVENT
BEGIN:VEVENT
DTSTART;TZID=UTC:20260527T143000
DTEND;TZID=UTC:20260527T150000
DTSTAMP:20260426T020333
CREATED:20260321T094356Z
LAST-MODIFIED:20260321T094635Z
UID:12274-1779892200-1779894000@tobeboundless.com
SUMMARY:Ooh La La Legs
DESCRIPTION:Build strength to last a lifetime and gorgeous legs all while improving brain power and bone health.
URL:https://tobeboundless.com/event/ooh-la-la-legs-54/
LOCATION:3930 Utah St.\, San Diego\, Ca 92104\, 3930 Utah St\, San Diego\, CA\, 92104\, United States
ORGANIZER;CN="Boundless Women's Fitness":MAILTO:tobeboundless@gmail.com
END:VEVENT
BEGIN:VEVENT
DTSTART;TZID=America/Los_Angeles:20260527T160000
DTEND;TZID=America/Los_Angeles:20260527T163000
DTSTAMP:20260426T020333
CREATED:20260321T102405Z
LAST-MODIFIED:20260321T102405Z
UID:12300-1779897600-1779899400@tobeboundless.com
SUMMARY:Pilates magic
DESCRIPTION:Pilates magic combines core exercises fused with dynamic stretches to eliminate daily stiffness and muscle tension.
URL:https://tobeboundless.com/event/pilates-magic-46/
LOCATION:3930 Utah St.\, San Diego\, Ca 92104\, 3930 Utah St\, San Diego\, CA\, 92104\, United States
ATTACH;FMTTYPE=image/jpeg:https://tobeboundless.com/wp-content/uploads/2023/08/IMG_20181205_195956-1-scaled.jpg
END:VEVENT
BEGIN:VEVENT
DTSTART;TZID=UTC:20260531T100000
DTEND;TZID=UTC:20260531T103000
DTSTAMP:20260426T020333
CREATED:20260321T131903Z
LAST-MODIFIED:20260321T131903Z
UID:12318-1780221600-1780223400@tobeboundless.com
SUMMARY:power & flow
DESCRIPTION:Power & Flow where Pilates meets strength training. This unique strength class combines pure power with an elegant flow to transform your body from head to toe.
URL:https://tobeboundless.com/event/power-flow-57/
LOCATION:3930 Utah St.\, San Diego\, Ca 92104\, 3930 Utah St\, San Diego\, CA\, 92104\, United States
ORGANIZER;CN="Boundless Women's Fitness":MAILTO:tobeboundless@gmail.com
END:VEVENT
BEGIN:VEVENT
DTSTART;TZID=America/Los_Angeles:20260601T090000
DTEND;TZID=America/Los_Angeles:20260601T093000
DTSTAMP:20260426T020333
CREATED:20260426T003910Z
LAST-MODIFIED:20260426T003910Z
UID:12631-1780304400-1780306200@tobeboundless.com
SUMMARY:Pilates body
DESCRIPTION:Pilates body is a low-impact\, strength training class that’s guaranteed to wake-up your sleepy abs and lifts your little butt.
URL:https://tobeboundless.com/event/pilates-body-49/
LOCATION:3930 Utah St.\, San Diego\, Ca 92104\, 3930 Utah St\, San Diego\, CA\, 92104\, United States
END:VEVENT
BEGIN:VEVENT
DTSTART;TZID=UTC:20260601T093000
DTEND;TZID=UTC:20260601T100000
DTSTAMP:20260426T020333
CREATED:20260426T004837Z
LAST-MODIFIED:20260426T004837Z
UID:12651-1780306200-1780308000@tobeboundless.com
SUMMARY:don't stop\, won't stop
DESCRIPTION:Unlock the power of movement that lasts a lifetime. If you want to keep your feet knees & hip joints strong\, flexible\, and pain free. This mobility-focused class will build resilience in your joints\, improve your balance\, and match your “no quit attitude”. Whether your chasing longevity\, preventing injury\, or you simply want to move with confidence\, this class is all about celebrating what your body can do.
URL:https://tobeboundless.com/event/dont-stop-wont-stop-39/
LOCATION:3930 Utah St.\, San Diego\, Ca 92104\, 3930 Utah St\, San Diego\, CA\, 92104\, United States
ORGANIZER;CN="Boundless Women's Fitness":MAILTO:tobeboundless@gmail.com
END:VEVENT
BEGIN:VEVENT
DTSTART;TZID=UTC:20260601T100000
DTEND;TZID=UTC:20260601T103000
DTSTAMP:20260426T020333
CREATED:20260426T010131Z
LAST-MODIFIED:20260426T010131Z
UID:12671-1780308000-1780309800@tobeboundless.com
SUMMARY:form & function
DESCRIPTION:Focus on form and proper execution of each exercise to build real strenth that last a lifetime
URL:https://tobeboundless.com/event/form-function-54/
LOCATION:3930 Utah St.\, San Diego\, Ca 92104\, 3930 Utah St\, San Diego\, CA\, 92104\, United States
ORGANIZER;CN="Boundless Women's Fitness":MAILTO:tobeboundless@gmail.com
END:VEVENT
BEGIN:VEVENT
DTSTART;TZID=UTC:20260602T093000
DTEND;TZID=UTC:20260602T100000
DTSTAMP:20260426T020333
CREATED:20260228T080723Z
LAST-MODIFIED:20260228T080852Z
UID:12092-1780392600-1780394400@tobeboundless.com
SUMMARY:baby got back
DESCRIPTION:We’re lifting\, lengthening\, and stacking that spine like it’s hot. This class blends backbend basics with rock‑solid shoulder work to build your pull‑ups one rep at a time—slow\, smart\, and supported. We break it down so backbends feel doable\, your pull‑ups feel powerful\, and your confidence feels boundless.
URL:https://tobeboundless.com/event/baby-got-back-13/
LOCATION:3930 Utah St.\, San Diego\, Ca 92104\, 3930 Utah St\, San Diego\, CA\, 92104\, United States
ORGANIZER;CN="Boundless Women's Fitness":MAILTO:tobeboundless@gmail.com
END:VEVENT
BEGIN:VEVENT
DTSTART;TZID=America/Los_Angeles:20260608T090000
DTEND;TZID=America/Los_Angeles:20260608T093000
DTSTAMP:20260426T020333
CREATED:20260426T004045Z
LAST-MODIFIED:20260426T004045Z
UID:12628-1780909200-1780911000@tobeboundless.com
SUMMARY:Pilates body
DESCRIPTION:Pilates body is a low-impact\, strength training class that’s guaranteed to wake-up your sleepy abs and lifts your little butt.
URL:https://tobeboundless.com/event/pilates-body-50/
LOCATION:3930 Utah St.\, San Diego\, Ca 92104\, 3930 Utah St\, San Diego\, CA\, 92104\, United States
END:VEVENT
BEGIN:VEVENT
DTSTART;TZID=UTC:20260608T093000
DTEND;TZID=UTC:20260608T100000
DTSTAMP:20260426T020333
CREATED:20260426T005050Z
LAST-MODIFIED:20260426T005145Z
UID:12652-1780911000-1780912800@tobeboundless.com
SUMMARY:don't stop\, won't stop
DESCRIPTION:Unlock the power of movement that lasts a lifetime. If you want to keep your feet knees & hip joints strong\, flexible\, and pain free. This mobility-focused class will build resilience in your joints\, improve your balance\, and match your “no quit attitude”. Whether your chasing longevity\, preventing injury\, or you simply want to move with confidence\, this class is all about celebrating what your body can do.
URL:https://tobeboundless.com/event/dont-stop-wont-stop-40/
LOCATION:3930 Utah St.\, San Diego\, Ca 92104\, 3930 Utah St\, San Diego\, CA\, 92104\, United States
ORGANIZER;CN="Boundless Women's Fitness":MAILTO:tobeboundless@gmail.com
END:VEVENT
BEGIN:VEVENT
DTSTART;TZID=UTC:20260608T100000
DTEND;TZID=UTC:20260608T103000
DTSTAMP:20260426T020333
CREATED:20260426T010204Z
LAST-MODIFIED:20260426T010204Z
UID:12672-1780912800-1780914600@tobeboundless.com
SUMMARY:form & function
DESCRIPTION:Focus on form and proper execution of each exercise to build real strenth that last a lifetime
URL:https://tobeboundless.com/event/form-function-55/
LOCATION:3930 Utah St.\, San Diego\, Ca 92104\, 3930 Utah St\, San Diego\, CA\, 92104\, United States
ORGANIZER;CN="Boundless Women's Fitness":MAILTO:tobeboundless@gmail.com
END:VEVENT
BEGIN:VEVENT
DTSTART;TZID=America/Los_Angeles:20260615T090000
DTEND;TZID=America/Los_Angeles:20260615T093000
DTSTAMP:20260426T020333
CREATED:20260426T004129Z
LAST-MODIFIED:20260426T004129Z
UID:12629-1781514000-1781515800@tobeboundless.com
SUMMARY:Pilates body
DESCRIPTION:Pilates body is a low-impact\, strength training class that’s guaranteed to wake-up your sleepy abs and lifts your little butt.
URL:https://tobeboundless.com/event/pilates-body-51/
LOCATION:3930 Utah St.\, San Diego\, Ca 92104\, 3930 Utah St\, San Diego\, CA\, 92104\, United States
END:VEVENT
BEGIN:VEVENT
DTSTART;TZID=UTC:20260615T093000
DTEND;TZID=UTC:20260615T100000
DTSTAMP:20260426T020333
CREATED:20260426T005223Z
LAST-MODIFIED:20260426T005223Z
UID:12649-1781515800-1781517600@tobeboundless.com
SUMMARY:don't stop\, won't stop
DESCRIPTION:Unlock the power of movement that lasts a lifetime. If you want to keep your feet knees & hip joints strong\, flexible\, and pain free. This mobility-focused class will build resilience in your joints\, improve your balance\, and match your “no quit attitude”. Whether your chasing longevity\, preventing injury\, or you simply want to move with confidence\, this class is all about celebrating what your body can do.
URL:https://tobeboundless.com/event/dont-stop-wont-stop-41/
LOCATION:3930 Utah St.\, San Diego\, Ca 92104\, 3930 Utah St\, San Diego\, CA\, 92104\, United States
ORGANIZER;CN="Boundless Women's Fitness":MAILTO:tobeboundless@gmail.com
END:VEVENT
BEGIN:VEVENT
DTSTART;TZID=America/Los_Angeles:20260622T090000
DTEND;TZID=America/Los_Angeles:20260622T093000
DTSTAMP:20260426T020333
CREATED:20260426T004228Z
LAST-MODIFIED:20260426T004240Z
UID:12643-1782118800-1782120600@tobeboundless.com
SUMMARY:Pilates body
DESCRIPTION:Pilates body is a low-impact\, strength training class that’s guaranteed to wake-up your sleepy abs and lifts your little butt.
URL:https://tobeboundless.com/event/pilates-body-52/
LOCATION:3930 Utah St.\, San Diego\, Ca 92104\, 3930 Utah St\, San Diego\, CA\, 92104\, United States
END:VEVENT
BEGIN:VEVENT
DTSTART;TZID=UTC:20260622T093000
DTEND;TZID=UTC:20260622T100000
DTSTAMP:20260426T020333
CREATED:20260426T005258Z
LAST-MODIFIED:20260426T005334Z
UID:12650-1782120600-1782122400@tobeboundless.com
SUMMARY:don't stop\, won't stop
DESCRIPTION:Unlock the power of movement that lasts a lifetime. If you want to keep your feet knees & hip joints strong\, flexible\, and pain free. This mobility-focused class will build resilience in your joints\, improve your balance\, and match your “no quit attitude”. Whether your chasing longevity\, preventing injury\, or you simply want to move with confidence\, this class is all about celebrating what your body can do.
URL:https://tobeboundless.com/event/dont-stop-wont-stop-42/
LOCATION:3930 Utah St.\, San Diego\, Ca 92104\, 3930 Utah St\, San Diego\, CA\, 92104\, United States
ORGANIZER;CN="Boundless Women's Fitness":MAILTO:tobeboundless@gmail.com
END:VEVENT
BEGIN:VEVENT
DTSTART;TZID=America/Los_Angeles:20260629T090000
DTEND;TZID=America/Los_Angeles:20260629T093000
DTSTAMP:20260426T020333
CREATED:20260426T004320Z
LAST-MODIFIED:20260426T004320Z
UID:12642-1782723600-1782725400@tobeboundless.com
SUMMARY:Pilates body
DESCRIPTION:Pilates body is a low-impact\, strength training class that’s guaranteed to wake-up your sleepy abs and lifts your little butt.
URL:https://tobeboundless.com/event/pilates-body-53/
LOCATION:3930 Utah St.\, San Diego\, Ca 92104\, 3930 Utah St\, San Diego\, CA\, 92104\, United States
END:VEVENT
BEGIN:VEVENT
DTSTART;TZID=UTC:20260629T093000
DTEND;TZID=UTC:20260629T100000
DTSTAMP:20260426T020333
CREATED:20260426T005429Z
LAST-MODIFIED:20260426T005446Z
UID:12647-1782725400-1782727200@tobeboundless.com
SUMMARY:don't stop\, won't stop
DESCRIPTION:Unlock the power of movement that lasts a lifetime. If you want to keep your feet knees & hip joints strong\, flexible\, and pain free. This mobility-focused class will build resilience in your joints\, improve your balance\, and match your “no quit attitude”. Whether your chasing longevity\, preventing injury\, or you simply want to move with confidence\, this class is all about celebrating what your body can do.
URL:https://tobeboundless.com/event/dont-stop-wont-stop-43/
LOCATION:3930 Utah St.\, San Diego\, Ca 92104\, 3930 Utah St\, San Diego\, CA\, 92104\, United States
ORGANIZER;CN="Boundless Women's Fitness":MAILTO:tobeboundless@gmail.com
END:VEVENT
END:VCALENDAR