BEGIN:VCALENDAR
VERSION:2.0
PRODID:-//Boundless  - fitness studio for women in North Park, San Diego - ECPv6.15.20//NONSGML v1.0//EN
CALSCALE:GREGORIAN
METHOD:PUBLISH
X-WR-CALNAME:Boundless  - fitness studio for women in North Park, San Diego
X-ORIGINAL-URL:https://tobeboundless.com
X-WR-CALDESC:Events for Boundless  - fitness studio for women in North Park, San Diego
REFRESH-INTERVAL;VALUE=DURATION:PT1H
X-Robots-Tag:noindex
X-PUBLISHED-TTL:PT1H
BEGIN:VTIMEZONE
TZID:UTC
BEGIN:STANDARD
TZOFFSETFROM:+0000
TZOFFSETTO:+0000
TZNAME:UTC
DTSTART:20250101T000000
END:STANDARD
END:VTIMEZONE
BEGIN:VTIMEZONE
TZID:America/Los_Angeles
BEGIN:DAYLIGHT
TZOFFSETFROM:-0800
TZOFFSETTO:-0700
TZNAME:PDT
DTSTART:20250309T100000
END:DAYLIGHT
BEGIN:STANDARD
TZOFFSETFROM:-0700
TZOFFSETTO:-0800
TZNAME:PST
DTSTART:20251102T090000
END:STANDARD
BEGIN:DAYLIGHT
TZOFFSETFROM:-0800
TZOFFSETTO:-0700
TZNAME:PDT
DTSTART:20260308T100000
END:DAYLIGHT
BEGIN:STANDARD
TZOFFSETFROM:-0700
TZOFFSETTO:-0800
TZNAME:PST
DTSTART:20261101T090000
END:STANDARD
BEGIN:DAYLIGHT
TZOFFSETFROM:-0800
TZOFFSETTO:-0700
TZNAME:PDT
DTSTART:20270314T100000
END:DAYLIGHT
BEGIN:STANDARD
TZOFFSETFROM:-0700
TZOFFSETTO:-0800
TZNAME:PST
DTSTART:20271107T090000
END:STANDARD
END:VTIMEZONE
BEGIN:VEVENT
DTSTART;TZID=UTC:20260105T110000
DTEND;TZID=UTC:20260105T113000
DTSTAMP:20260423T185920
CREATED:20251106T073015Z
LAST-MODIFIED:20251123T062139Z
UID:10516-1767610800-1767612600@tobeboundless.com
SUMMARY:power & flow
DESCRIPTION:Power & Flow where Pilates meets strength training. This unique strength class combines pure power with an elegant flow to transform your body from head to toe.
URL:https://tobeboundless.com/event/power-flow-11/
LOCATION:3930 Utah St.\, San Diego\, Ca 92104\, 3930 Utah St\, San Diego\, CA\, 92104\, United States
ORGANIZER;CN="Boundless Women's Fitness":MAILTO:tobeboundless@gmail.com
END:VEVENT
BEGIN:VEVENT
DTSTART;TZID=UTC:20260105T110000
DTEND;TZID=UTC:20260105T113000
DTSTAMP:20260423T185920
CREATED:20251207T075243Z
LAST-MODIFIED:20260301T083143Z
UID:10829-1767610800-1767612600@tobeboundless.com
SUMMARY:power & flow
DESCRIPTION:Where Pilates meets strength training. This unique strength class combines pure power with an elegant flow to transform your body from head to toe.
URL:https://tobeboundless.com/event/power-flow-28/
LOCATION:3930 Utah St.\, San Diego\, Ca 92104\, 3930 Utah St\, San Diego\, CA\, 92104\, United States
ORGANIZER;CN="Boundless Women's Fitness":MAILTO:tobeboundless@gmail.com
END:VEVENT
BEGIN:VEVENT
DTSTART;TZID=UTC:20260105T170000
DTEND;TZID=UTC:20260105T173000
DTSTAMP:20260423T185920
CREATED:20250706T060155Z
LAST-MODIFIED:20251207T025152Z
UID:9617-1767632400-1767634200@tobeboundless.com
SUMMARY:flip the script
DESCRIPTION:Flip The Script is your answer to the daily grind. This zen-strength calss is the perfect “pick me up” to work every inch of your body.
URL:https://tobeboundless.com/event/flip-the-script-6/
LOCATION:3930 Utah St.\, San Diego\, Ca 92104\, 3930 Utah St\, San Diego\, CA\, 92104\, United States
ORGANIZER;CN="Boundless Women's Fitness":MAILTO:tobeboundless@gmail.com
END:VEVENT
BEGIN:VEVENT
DTSTART;TZID=UTC:20260105T173000
DTEND;TZID=UTC:20260105T180000
DTSTAMP:20260423T185920
CREATED:20250226T074750Z
LAST-MODIFIED:20251207T025516Z
UID:9081-1767634200-1767636000@tobeboundless.com
SUMMARY:strong & lean
DESCRIPTION:Strong and lean build lean muscle without the bulk. Burn body fat with great results. This is the class that gives you boundless energy and keeps you comig back for more.
URL:https://tobeboundless.com/event/strong-lean-11/
LOCATION:CA
END:VEVENT
BEGIN:VEVENT
DTSTART;TZID=America/Los_Angeles:20260105T180000
DTEND;TZID=America/Los_Angeles:20260105T183000
DTSTAMP:20260423T185920
CREATED:20250226T075909Z
LAST-MODIFIED:20251207T030212Z
UID:9087-1767636000-1767637800@tobeboundless.com
SUMMARY:hustle & flow
DESCRIPTION:hustle and flow is a 30 minute low impact workout\, high energy  strength and strength workout takes your core training to the next level.
URL:https://tobeboundless.com/event/hustle-flow-9/
LOCATION:3930 Utah St.\, San Diego\, Ca 92104\, 3930 Utah St\, San Diego\, CA\, 92104\, United States
END:VEVENT
BEGIN:VEVENT
DTSTART;TZID=UTC:20260106T060000
DTEND;TZID=UTC:20260106T063000
DTSTAMP:20260423T185920
CREATED:20251123T034355Z
LAST-MODIFIED:20251227T020916Z
UID:10632-1767679200-1767681000@tobeboundless.com
SUMMARY:Ooh La La Legs
DESCRIPTION:Build strength to last a lifetime and gorgeous legs all while improving brain power and bone health.
URL:https://tobeboundless.com/event/ooh-la-la-legs-2/
LOCATION:3930 Utah St.\, San Diego\, Ca 92104\, 3930 Utah St\, San Diego\, CA\, 92104\, United States
ORGANIZER;CN="Boundless Women's Fitness":MAILTO:tobeboundless@gmail.com
END:VEVENT
BEGIN:VEVENT
DTSTART;TZID=UTC:20260106T063000
DTEND;TZID=UTC:20260106T070000
DTSTAMP:20260423T185920
CREATED:20251207T062537Z
LAST-MODIFIED:20251227T035343Z
UID:10797-1767681000-1767682800@tobeboundless.com
SUMMARY:rise & stride
DESCRIPTION:Rise & Stride is the perfect intorduction to fitness for beginners who want to start with walk/run intervals or walking only. This supportive\, outdoor class combines fresh air\, accountability\, and community to help you build confidence and endurance at your own pace. Guided sessions make it easy to stay motivted while connecting with others who share  your goals. Whether you’re looking to improve  your health\, enjoy social  support\, or simply move more\, Rise & Stride offers a welcoming space to grow strong and stride forward.
URL:https://tobeboundless.com/event/rise-stride-2/
LOCATION:3930 Utah St.\, San Diego\, Ca 92104\, 3930 Utah St\, San Diego\, CA\, 92104\, United States
ORGANIZER;CN="Boundless Women's Fitness":MAILTO:tobeboundless@gmail.com
END:VEVENT
BEGIN:VEVENT
DTSTART;TZID=America/Los_Angeles:20260106T070000
DTEND;TZID=America/Los_Angeles:20260106T073000
DTSTAMP:20260423T185920
CREATED:20250831T082458Z
LAST-MODIFIED:20251227T061304Z
UID:9919-1767682800-1767684600@tobeboundless.com
SUMMARY:Hips & Splits
DESCRIPTION:Hips & Splits. Stiff hip got you down? This hip mobility class is the perfect “fix” to chase those nagging aches and pains away before they become a real problem. 30 minutes\, 2 times a week is recommended to get the job done.
URL:https://tobeboundless.com/event/hips-splits/
LOCATION:3930 Utah St.\, San Diego\, Ca 92104\, 3930 Utah St\, San Diego\, CA\, 92104\, United States
ORGANIZER;CN="Boundless Women's Fitness":MAILTO:tobeboundless@gmail.com
END:VEVENT
BEGIN:VEVENT
DTSTART;TZID=UTC:20260106T090000
DTEND;TZID=UTC:20260106T093000
DTSTAMP:20260423T185920
CREATED:20251228T083034Z
LAST-MODIFIED:20251228T083034Z
UID:11382-1767690000-1767691800@tobeboundless.com
SUMMARY:mindful movement
DESCRIPTION:Mindful Movement supports the regulation of your nervous system and the natural rhythm of your hormones. This class is a sanctuary for slowing down\, tuning in\, and restoring balance through soft\, intentional movement rooted in Pilates and somatic awareness.
URL:https://tobeboundless.com/event/mindful-movement/
LOCATION:3930 Utah St.\, San Diego\, Ca 92104\, 3930 Utah St\, San Diego\, CA\, 92104\, United States
ORGANIZER;CN="Boundless Women's Fitness":MAILTO:tobeboundless@gmail.com
END:VEVENT
BEGIN:VEVENT
DTSTART;TZID=America/Los_Angeles:20260106T093000
DTEND;TZID=America/Los_Angeles:20260106T100000
DTSTAMP:20260423T185920
CREATED:20250917T005352Z
LAST-MODIFIED:20251228T071203Z
UID:10082-1767691800-1767693600@tobeboundless.com
SUMMARY:total body workout
DESCRIPTION:Total Body Workout is the “perfect pick me” up to work every inch of your body. So if the daily grind has got you down\, this workout has everything you need to boost your mood and put that pep back into your step.
URL:https://tobeboundless.com/event/total-body-workout-9/
LOCATION:3930 Utah St.\, San Diego\, Ca 92104\, 3930 Utah St\, San Diego\, CA\, 92104\, United States
END:VEVENT
BEGIN:VEVENT
DTSTART;TZID=America/Los_Angeles:20260106T093000
DTEND;TZID=America/Los_Angeles:20260106T100000
DTSTAMP:20260423T185920
CREATED:20251228T072428Z
LAST-MODIFIED:20260228T081844Z
UID:11348-1767691800-1767693600@tobeboundless.com
SUMMARY:total body workout
DESCRIPTION:Total Body Workout is the “perfect pick me” up to work every inch of your body. So if the daily grind has got you down\, this workout has everything you need to boost your mood and put that pep back into your step.
URL:https://tobeboundless.com/event/total-body-workout-16/
LOCATION:3930 Utah St.\, San Diego\, Ca 92104\, 3930 Utah St\, San Diego\, CA\, 92104\, United States
END:VEVENT
BEGIN:VEVENT
DTSTART;TZID=America/Los_Angeles:20260106T100000
DTEND;TZID=America/Los_Angeles:20260106T103000
DTSTAMP:20260423T185920
CREATED:20240527T231609Z
LAST-MODIFIED:20251228T065514Z
UID:7540-1767693600-1767695400@tobeboundless.com
SUMMARY:mind over muscle
DESCRIPTION:Mind Over Muscle is a yoga class that’ll have you feeling stronger\, breathing deeper\, standing taller and moving with greater confidence. \n 
URL:https://tobeboundless.com/event/mind-over-muscle/
LOCATION:3930 Utah St.\, San Diego\, Ca 92104\, 3930 Utah St\, San Diego\, CA\, 92104\, United States
END:VEVENT
BEGIN:VEVENT
DTSTART;TZID=UTC:20260107T143000
DTEND;TZID=UTC:20260107T150000
DTSTAMP:20260423T185920
CREATED:20251123T035446Z
LAST-MODIFIED:20251123T035446Z
UID:10629-1767796200-1767798000@tobeboundless.com
SUMMARY:Ooh La La Legs
DESCRIPTION:Build strength to last a lifetime and gorgeous legs all while improving brain power and bone health.
URL:https://tobeboundless.com/event/ooh-la-la-legs-3/
LOCATION:3930 Utah St.\, San Diego\, Ca 92104\, 3930 Utah St\, San Diego\, CA\, 92104\, United States
ORGANIZER;CN="Boundless Women's Fitness":MAILTO:tobeboundless@gmail.com
END:VEVENT
BEGIN:VEVENT
DTSTART;TZID=America/Los_Angeles:20260107T160000
DTEND;TZID=America/Los_Angeles:20260107T163000
DTSTAMP:20260423T185920
CREATED:20250706T053916Z
LAST-MODIFIED:20251207T031727Z
UID:9606-1767801600-1767803400@tobeboundless.com
SUMMARY:Pilates magic
DESCRIPTION:Pilates magic combines core exercises fused with dynamic stretches to eliminate daily stiffness and muscle tension.
URL:https://tobeboundless.com/event/pilates-magic-12/
LOCATION:3930 Utah St.\, San Diego\, Ca 92104\, 3930 Utah St\, San Diego\, CA\, 92104\, United States
ATTACH;FMTTYPE=image/jpeg:https://tobeboundless.com/wp-content/uploads/2023/08/IMG_20181205_195956-1-scaled.jpg
END:VEVENT
BEGIN:VEVENT
DTSTART;TZID=UTC:20260107T163000
DTEND;TZID=UTC:20260107T170000
DTSTAMP:20260423T185920
CREATED:20251207T033050Z
LAST-MODIFIED:20251207T033115Z
UID:10756-1767803400-1767805200@tobeboundless.com
SUMMARY:form & function
DESCRIPTION:Focus on form and proper execution of each exercise to build real strenth that last a lifetime
URL:https://tobeboundless.com/event/form-function-24/
LOCATION:3930 Utah St.\, San Diego\, Ca 92104\, 3930 Utah St\, San Diego\, CA\, 92104\, United States
ORGANIZER;CN="Boundless Women's Fitness":MAILTO:tobeboundless@gmail.com
END:VEVENT
BEGIN:VEVENT
DTSTART;TZID=America/Los_Angeles:20260107T170000
DTEND;TZID=America/Los_Angeles:20260107T173000
DTSTAMP:20260423T185920
CREATED:20251207T044733Z
LAST-MODIFIED:20251222T085955Z
UID:10505-1767805200-1767807000@tobeboundless.com
SUMMARY:hips & splits
DESCRIPTION:Hips & Splits. Stiff hip got you down? This hip mobility class is the perfect “fix” to chase those nagging aches and pains away before they become a real problem. 30 minutes\, 2 times a week is recommended to get the job done.
URL:https://tobeboundless.com/event/hips-splits-16/
LOCATION:3930 Utah St.\, San Diego\, Ca 92104\, 3930 Utah St\, San Diego\, CA\, 92104\, United States
ORGANIZER;CN="Boundless Women's Fitness":MAILTO:tobeboundless@gmail.com
END:VEVENT
BEGIN:VEVENT
DTSTART;TZID=America/Los_Angeles:20260107T173000
DTEND;TZID=America/Los_Angeles:20260107T180000
DTSTAMP:20260423T185920
CREATED:20240508T090710Z
LAST-MODIFIED:20251207T051746Z
UID:7459-1767807000-1767808800@tobeboundless.com
SUMMARY:skinny jeans workout
DESCRIPTION:Get back in your skinny jeans! This class combines varing levels of intensity with core conditioning to work every inch of your body. Feel confident wearing your skinny jeans (or shorts) and sleeveless tops year round.
URL:https://tobeboundless.com/event/skinny-jeans-workout/
LOCATION:3930 Utah St.\, San Diego\, Ca 92104\, 3930 Utah St\, San Diego\, CA\, 92104\, United States
ATTACH;FMTTYPE=image/jpeg:https://tobeboundless.com/wp-content/uploads/2023/11/skinny-jeans-workout-scaled.jpg
END:VEVENT
BEGIN:VEVENT
DTSTART;TZID=UTC:20260108T070000
DTEND;TZID=UTC:20260108T073000
DTSTAMP:20260423T185920
CREATED:20251226T100335Z
LAST-MODIFIED:20251226T100408Z
UID:11120-1767855600-1767857400@tobeboundless.com
SUMMARY:flip the script
DESCRIPTION:Flip The Script is your answer to the daily grind. This zen-strength calss is the perfect “pick me up” to work every inch of your body.
URL:https://tobeboundless.com/event/flip-the-script-15/
LOCATION:3930 Utah St.\, San Diego\, Ca 92104\, 3930 Utah St\, San Diego\, CA\, 92104\, United States
ORGANIZER;CN="Boundless Women's Fitness":MAILTO:tobeboundless@gmail.com
END:VEVENT
BEGIN:VEVENT
DTSTART;TZID=UTC:20260108T090000
DTEND;TZID=UTC:20260108T093000
DTSTAMP:20260423T185920
CREATED:20251123T030227Z
LAST-MODIFIED:20251226T083757Z
UID:10605-1767862800-1767864600@tobeboundless.com
SUMMARY:strong & lean
DESCRIPTION:Strong and lean build lean muscle without the bulk. Burn body fat with great results. This is the class that gives you boundless energy and keeps you comig back for more.
URL:https://tobeboundless.com/event/strong-lean-17/
LOCATION:CA
END:VEVENT
BEGIN:VEVENT
DTSTART;TZID=UTC:20260108T100000
DTEND;TZID=UTC:20260108T103000
DTSTAMP:20260423T185920
CREATED:20251123T051448Z
LAST-MODIFIED:20251226T044511Z
UID:10665-1767866400-1767868200@tobeboundless.com
SUMMARY:form & function
DESCRIPTION:Focus on form and proper execution of each exercise to build real strenth that last a lifetime
URL:https://tobeboundless.com/event/form-function-16/
LOCATION:3930 Utah St.\, San Diego\, Ca 92104\, 3930 Utah St\, San Diego\, CA\, 92104\, United States
ORGANIZER;CN="Boundless Women's Fitness":MAILTO:tobeboundless@gmail.com
END:VEVENT
BEGIN:VEVENT
DTSTART;TZID=UTC:20260108T110000
DTEND;TZID=UTC:20260108T113000
DTSTAMP:20260423T185920
CREATED:20250917T010653Z
LAST-MODIFIED:20251123T055553Z
UID:10089-1767870000-1767871800@tobeboundless.com
SUMMARY:power & flow
DESCRIPTION:Where Pilates meets strength training. This unique strength class combines pure power with an elegant flow to transform your body from head to toe.
URL:https://tobeboundless.com/event/power-flow-9/
LOCATION:3930 Utah St.\, San Diego\, Ca 92104\, 3930 Utah St\, San Diego\, CA\, 92104\, United States
ORGANIZER;CN="Boundless Women's Fitness":MAILTO:tobeboundless@gmail.com
END:VEVENT
BEGIN:VEVENT
DTSTART;TZID=America/Los_Angeles:20260108T163000
DTEND;TZID=America/Los_Angeles:20260108T170000
DTSTAMP:20260423T185920
CREATED:20240612T012049Z
LAST-MODIFIED:20251226T101310Z
UID:7820-1767889800-1767891600@tobeboundless.com
SUMMARY:mind over muscle
DESCRIPTION:Mind Over Muscle is a yoga class that’ll have you feeling stronger\, breathing deeper\, standing taller and moving with greater confidence. \n 
URL:https://tobeboundless.com/event/mind-over-muscle-8/
LOCATION:3930 Utah St.\, San Diego\, Ca 92104\, 3930 Utah St\, San Diego\, CA\, 92104\, United States
END:VEVENT
BEGIN:VEVENT
DTSTART;TZID=America/Los_Angeles:20260108T170000
DTEND;TZID=America/Los_Angeles:20260108T173000
DTSTAMP:20260423T185920
CREATED:20250329T062049Z
LAST-MODIFIED:20251226T102036Z
UID:9154-1767891600-1767893400@tobeboundless.com
SUMMARY:total body workout
DESCRIPTION:Total Body Workout is the “perfect pick me” up to work every inch of your body. So if the daily grind has got you down\, this workout has everything you need to boost your mood and put that pep back into your step.
URL:https://tobeboundless.com/event/total-body-workout-5/
LOCATION:3930 Utah St.\, San Diego\, Ca 92104\, 3930 Utah St\, San Diego\, CA\, 92104\, United States
END:VEVENT
BEGIN:VEVENT
DTSTART;TZID=UTC:20260108T180000
DTEND;TZID=UTC:20260108T183000
DTSTAMP:20260423T185920
CREATED:20251123T033749Z
LAST-MODIFIED:20251227T021403Z
UID:10620-1767895200-1767897000@tobeboundless.com
SUMMARY:Ooh La La Legs
DESCRIPTION:Build strength to last a lifetime and gorgeous legs all while improving brain power and bone health.
URL:https://tobeboundless.com/event/ooh-la-la-legs/
LOCATION:3930 Utah St.\, San Diego\, Ca 92104\, 3930 Utah St\, San Diego\, CA\, 92104\, United States
ORGANIZER;CN="Boundless Women's Fitness":MAILTO:tobeboundless@gmail.com
END:VEVENT
BEGIN:VEVENT
DTSTART;TZID=America/Los_Angeles:20260108T183000
DTEND;TZID=America/Los_Angeles:20260108T190000
DTSTAMP:20260423T185920
CREATED:20251106T074800Z
LAST-MODIFIED:20251215T085236Z
UID:10529-1767897000-1767898800@tobeboundless.com
SUMMARY:Pilates body
DESCRIPTION:Pilates body is a low-impact strength training class that’s guaranteed to wake-up your sleepy abs and lifts your little butt.
URL:https://tobeboundless.com/event/pilates-body-26/
LOCATION:3930 Utah St.\, San Diego\, Ca 92104\, 3930 Utah St\, San Diego\, CA\, 92104\, United States
END:VEVENT
BEGIN:VEVENT
DTSTART;TZID=UTC:20260111T080000
DTEND;TZID=UTC:20260111T083000
DTSTAMP:20260423T185920
CREATED:20251106T084443Z
LAST-MODIFIED:20251227T025522Z
UID:10551-1768118400-1768120200@tobeboundless.com
SUMMARY:power stride
DESCRIPTION:Power Stride is a dynamic walking class that boosts energy and stamina\, builds bone density\, and strengthens posture. It blends rhythmic movement with resistance training to support cardiovascular health\, skeletal strength\, and longevity.
URL:https://tobeboundless.com/event/power-stride/
LOCATION:3930 Utah St.\, San Diego\, Ca 92104\, 3930 Utah St\, San Diego\, CA\, 92104\, United States
ORGANIZER;CN="Boundless Women's Fitness":MAILTO:tobeboundless@gmail.com
END:VEVENT
BEGIN:VEVENT
DTSTART;TZID=UTC:20260111T083000
DTEND;TZID=UTC:20260111T090000
DTSTAMP:20260423T185920
CREATED:20251225T091655Z
LAST-MODIFIED:20251225T093724Z
UID:10981-1768120200-1768122000@tobeboundless.com
SUMMARY:brilliant & resilient
DESCRIPTION:Are your stiff shoulders keeping you from doing the things you love? This resilient upper body strength and mobility class is the perfect fix to chase those nagging aches and pains away before they become a real problem.  All you need is 30 minutes\, 2 times a week\, to get the job done.
URL:https://tobeboundless.com/event/brilliant-resilient-11/
LOCATION:3930 Utah St.\, San Diego\, Ca 92104\, 3930 Utah St\, San Diego\, CA\, 92104\, United States
ORGANIZER;CN="Boundless Women's Fitness":MAILTO:tobeboundless@gmail.com
END:VEVENT
BEGIN:VEVENT
DTSTART;TZID=UTC:20260111T090000
DTEND;TZID=UTC:20260111T093000
DTSTAMP:20260423T185920
CREATED:20250629T023551Z
LAST-MODIFIED:20251207T064031Z
UID:9573-1768122000-1768123800@tobeboundless.com
SUMMARY:baby bump Pilates
DESCRIPTION:Baby Bump builds strength and endurance during pregnancy and re-build your core strength after your baby is born.
URL:https://tobeboundless.com/event/baby-bump-pilates-4/
LOCATION:3930 Utah St.\, San Diego\, Ca 92104\, 3930 Utah St\, San Diego\, CA\, 92104\, United States
ORGANIZER;CN="Boundless Women's Fitness":MAILTO:tobeboundless@gmail.com
END:VEVENT
BEGIN:VEVENT
DTSTART;TZID=UTC:20260111T100000
DTEND;TZID=UTC:20260111T103000
DTSTAMP:20260423T185920
CREATED:20251222T095010Z
LAST-MODIFIED:20251222T095010Z
UID:10841-1768125600-1768127400@tobeboundless.com
SUMMARY:strong & lean
DESCRIPTION:Strong and lean build lean muscle without the bulk. Burn body fat with great results. This is the class that gives you boundless energy and keeps you comig back for more.
URL:https://tobeboundless.com/event/strong-lean-38/
LOCATION:CA
END:VEVENT
BEGIN:VEVENT
DTSTART;TZID=UTC:20260111T110000
DTEND;TZID=UTC:20260111T113000
DTSTAMP:20260423T185920
CREATED:20251106T073537Z
LAST-MODIFIED:20251207T073817Z
UID:10511-1768129200-1768131000@tobeboundless.com
SUMMARY:power & flow
DESCRIPTION:Power & Flow where Pilates meets strength training. This unique strength class combines pure power with an elegant flow to transform your body from head to toe.
URL:https://tobeboundless.com/event/power-flow-16/
LOCATION:3930 Utah St.\, San Diego\, Ca 92104\, 3930 Utah St\, San Diego\, CA\, 92104\, United States
ORGANIZER;CN="Boundless Women's Fitness":MAILTO:tobeboundless@gmail.com
END:VEVENT
END:VCALENDAR