BEGIN:VCALENDAR
VERSION:2.0
PRODID:-//Boundless  - fitness studio for women in North Park, San Diego - ECPv6.15.20//NONSGML v1.0//EN
CALSCALE:GREGORIAN
METHOD:PUBLISH
X-WR-CALNAME:Boundless  - fitness studio for women in North Park, San Diego
X-ORIGINAL-URL:https://tobeboundless.com
X-WR-CALDESC:Events for Boundless  - fitness studio for women in North Park, San Diego
REFRESH-INTERVAL;VALUE=DURATION:PT1H
X-Robots-Tag:noindex
X-PUBLISHED-TTL:PT1H
BEGIN:VTIMEZONE
TZID:UTC
BEGIN:STANDARD
TZOFFSETFROM:+0000
TZOFFSETTO:+0000
TZNAME:UTC
DTSTART:20230101T000000
END:STANDARD
END:VTIMEZONE
BEGIN:VTIMEZONE
TZID:America/Los_Angeles
BEGIN:DAYLIGHT
TZOFFSETFROM:-0800
TZOFFSETTO:-0700
TZNAME:PDT
DTSTART:20230312T100000
END:DAYLIGHT
BEGIN:STANDARD
TZOFFSETFROM:-0700
TZOFFSETTO:-0800
TZNAME:PST
DTSTART:20231105T090000
END:STANDARD
BEGIN:DAYLIGHT
TZOFFSETFROM:-0800
TZOFFSETTO:-0700
TZNAME:PDT
DTSTART:20240310T100000
END:DAYLIGHT
BEGIN:STANDARD
TZOFFSETFROM:-0700
TZOFFSETTO:-0800
TZNAME:PST
DTSTART:20241103T090000
END:STANDARD
BEGIN:DAYLIGHT
TZOFFSETFROM:-0800
TZOFFSETTO:-0700
TZNAME:PDT
DTSTART:20250309T100000
END:DAYLIGHT
BEGIN:STANDARD
TZOFFSETFROM:-0700
TZOFFSETTO:-0800
TZNAME:PST
DTSTART:20251102T090000
END:STANDARD
END:VTIMEZONE
BEGIN:VEVENT
DTSTART;TZID=UTC:20241121T120000
DTEND;TZID=UTC:20241121T123000
DTSTAMP:20260424T155809
CREATED:20241020T005221Z
LAST-MODIFIED:20241020T005221Z
UID:8560-1732190400-1732192200@tobeboundless.com
SUMMARY:acroyoga
DESCRIPTION:Acroyoga is a fun-filled\, laugh-out-loud\, stretch class is guaranteed to eliminate stiff joint\, daily muscle aches and chase away the “blues”. \n 
URL:https://tobeboundless.com/event/acroyoga-12/
LOCATION:3930 Utah St.\, San Diego\, Ca 92104\, 3930 Utah St\, San Diego\, CA\, 92104\, United States
ATTACH;FMTTYPE=image/jpeg:https://tobeboundless.com/wp-content/uploads/2022/10/20200217_210312-1.jpg
ORGANIZER;CN="Boundless Women's Fitness":MAILTO:tobeboundless@gmail.com
END:VEVENT
BEGIN:VEVENT
DTSTART;TZID=America/Los_Angeles:20241120T180000
DTEND;TZID=America/Los_Angeles:20241120T183000
DTSTAMP:20260424T155809
CREATED:20240721T181134Z
LAST-MODIFIED:20241013T115922Z
UID:8103-1732125600-1732127400@tobeboundless.com
SUMMARY:lean body workout
DESCRIPTION:This body rock’n\, ab smoke’n\, low impact class melts belly fat and tones you to the core. Lean Body Workout gets you in great shape.
URL:https://tobeboundless.com/event/lean-body-workout-13/
LOCATION:3930 Utah St.\, San Diego\, Ca 92104\, 3930 Utah St\, San Diego\, CA\, 92104\, United States
ATTACH;FMTTYPE=image/jpeg:https://tobeboundless.com/wp-content/uploads/2023/11/The-Spanks-Workout.jpg
ORGANIZER;CN="Boundless Women's Fitness":MAILTO:tobeboundless@gmail.com
END:VEVENT
BEGIN:VEVENT
DTSTART;TZID=America/Los_Angeles:20241120T160000
DTEND;TZID=America/Los_Angeles:20241120T163000
DTSTAMP:20260424T155809
CREATED:20240608T075013Z
LAST-MODIFIED:20240926T080506Z
UID:7663-1732118400-1732120200@tobeboundless.com
SUMMARY:prehab
DESCRIPTION:Avoid surgery with Prehab. If you can spare 30 minutes\, 2 times a week\, then this class is your path to pain free living.
URL:https://tobeboundless.com/event/prehab-4/
LOCATION:3930 Utah St.\, San Diego\, Ca 92104\, 3930 Utah St\, San Diego\, CA\, 92104\, United States
END:VEVENT
BEGIN:VEVENT
DTSTART;TZID=America/Los_Angeles:20241118T103000
DTEND;TZID=America/Los_Angeles:20241118T110000
DTSTAMP:20260424T155809
CREATED:20240622T040533Z
LAST-MODIFIED:20241020T001519Z
UID:7871-1731925800-1731927600@tobeboundless.com
SUMMARY:pole yoga
DESCRIPTION:Pole yoga is the zen workout that tones you from head to toe. Flex\, stretch\, bend\, lift\, breathe\, twist and move your body in every posible direction.
URL:https://tobeboundless.com/event/pole-yoga-2-2/
LOCATION:3930 Utah St.\, San Diego\, Ca 92104\, 3930 Utah St\, San Diego\, CA\, 92104\, United States
END:VEVENT
BEGIN:VEVENT
DTSTART;TZID=America/Los_Angeles:20241117T173000
DTEND;TZID=America/Los_Angeles:20241117T180000
DTSTAMP:20260424T155809
CREATED:20240608T080251Z
LAST-MODIFIED:20241027T042432Z
UID:7674-1731864600-1731866400@tobeboundless.com
SUMMARY:Piloga
DESCRIPTION:Piloga is a Pilates/yoga mat class\, that uplifts & motivates. Piloga sculpts your upper body\, flatten\, your abs\, strengthens and firms up your legs.
URL:https://tobeboundless.com/event/piloga-4/
LOCATION:3930 Utah St.\, San Diego\, Ca 92104\, 3930 Utah St\, San Diego\, CA\, 92104\, United States
END:VEVENT
BEGIN:VEVENT
DTSTART;TZID=UTC:20241117T163000
DTEND;TZID=UTC:20241117T170000
DTSTAMP:20260424T155809
CREATED:20241020T012416Z
LAST-MODIFIED:20241027T043230Z
UID:8572-1731861000-1731862800@tobeboundless.com
SUMMARY:acroyoga
DESCRIPTION:Acroyoga is a fun-filled\, laugh-out-loud\, stretch class is guaranteed to eliminate stiff joint\, daily muscle aches and chase away the “blues”. \n 
URL:https://tobeboundless.com/event/acroyoga-15/
LOCATION:3930 Utah St.\, San Diego\, Ca 92104\, 3930 Utah St\, San Diego\, CA\, 92104\, United States
ATTACH;FMTTYPE=image/jpeg:https://tobeboundless.com/wp-content/uploads/2022/10/20200217_210312-1.jpg
ORGANIZER;CN="Boundless Women's Fitness":MAILTO:tobeboundless@gmail.com
END:VEVENT
BEGIN:VEVENT
DTSTART;TZID=America/Los_Angeles:20241114T183000
DTEND;TZID=America/Los_Angeles:20241114T190000
DTSTAMP:20260424T155809
CREATED:20240528T020723Z
LAST-MODIFIED:20241020T010217Z
UID:7618-1731609000-1731610800@tobeboundless.com
SUMMARY:pelvic floor strength & balance
DESCRIPTION:Pelvic Floor Strength and Balance is a low-impact\, strength training class that’s guaranteed to wake-up your sleepy abs and lifts your little butt.
URL:https://tobeboundless.com/event/pelvic-floor-7/
LOCATION:3930 Utah St.\, San Diego\, Ca 92104\, 3930 Utah St\, San Diego\, CA\, 92104\, United States
ORGANIZER;CN="Boundless Women's Fitness":MAILTO:tobeboundless@gmail.com
END:VEVENT
BEGIN:VEVENT
DTSTART;TZID=America/Los_Angeles:20241114T170000
DTEND;TZID=America/Los_Angeles:20241114T173000
DTSTAMP:20260424T155809
CREATED:20240527T232020Z
LAST-MODIFIED:20240925T052714Z
UID:7542-1731603600-1731605400@tobeboundless.com
SUMMARY:the spanks workout
DESCRIPTION:The Spanks Workout is the “perfect pick me” up to work every inch of your body. So if the daily grind has got you down\, this workout has everything you need to boost your mood and put that pep back into your step.
URL:https://tobeboundless.com/event/the-spanks-workout/
LOCATION:3930 Utah St.\, San Diego\, Ca 92104\, 3930 Utah St\, San Diego\, CA\, 92104\, United States
END:VEVENT
BEGIN:VEVENT
DTSTART;TZID=UTC:20241114T120000
DTEND;TZID=UTC:20241114T123000
DTSTAMP:20260424T155809
CREATED:20241020T005141Z
LAST-MODIFIED:20241020T005141Z
UID:8561-1731585600-1731587400@tobeboundless.com
SUMMARY:acroyoga
DESCRIPTION:Acroyoga is a fun-filled\, laugh-out-loud\, stretch class is guaranteed to eliminate stiff joint\, daily muscle aches and chase away the “blues”. \n 
URL:https://tobeboundless.com/event/acroyoga-11/
LOCATION:3930 Utah St.\, San Diego\, Ca 92104\, 3930 Utah St\, San Diego\, CA\, 92104\, United States
ATTACH;FMTTYPE=image/jpeg:https://tobeboundless.com/wp-content/uploads/2022/10/20200217_210312-1.jpg
ORGANIZER;CN="Boundless Women's Fitness":MAILTO:tobeboundless@gmail.com
END:VEVENT
BEGIN:VEVENT
DTSTART;TZID=America/Los_Angeles:20241111T103000
DTEND;TZID=America/Los_Angeles:20241111T110000
DTSTAMP:20260424T155809
CREATED:20240604T055744Z
LAST-MODIFIED:20241020T001436Z
UID:7635-1731321000-1731322800@tobeboundless.com
SUMMARY:pole yoga
DESCRIPTION:Pole yoga is the zen workout that tones you from head to toe. Flex\, stretch\, bend\, lift\, breathe\, twist and move your body in every posible direction.
URL:https://tobeboundless.com/event/pole-yoga-3/
LOCATION:3930 Utah St.\, San Diego\, Ca 92104\, 3930 Utah St\, San Diego\, CA\, 92104\, United States
END:VEVENT
BEGIN:VEVENT
DTSTART;TZID=America/Los_Angeles:20241110T173000
DTEND;TZID=America/Los_Angeles:20241110T180000
DTSTAMP:20260424T155809
CREATED:20240608T080859Z
LAST-MODIFIED:20241027T042354Z
UID:7682-1731259800-1731261600@tobeboundless.com
SUMMARY:Piloga
DESCRIPTION:Piloga is a Pilates/yoga mat class\, that uplifts & motivates. Piloga sculpts your upper body\, flatten\, your abs\, strengthens and firms up your legs.
URL:https://tobeboundless.com/event/piloga-3/
LOCATION:3930 Utah St.\, San Diego\, Ca 92104\, 3930 Utah St\, San Diego\, CA\, 92104\, United States
ORGANIZER;CN="Boundless Women's Fitness":MAILTO:tobeboundless@gmail.com
END:VEVENT
BEGIN:VEVENT
DTSTART;TZID=UTC:20241110T163000
DTEND;TZID=UTC:20241110T170000
DTSTAMP:20260424T155809
CREATED:20241020T013051Z
LAST-MODIFIED:20241027T043137Z
UID:8578-1731256200-1731258000@tobeboundless.com
SUMMARY:acroyoga
DESCRIPTION:Acroyoga is a fun-filled\, laugh-out-loud\, stretch class is guaranteed to eliminate stiff joint\, daily muscle aches and chase away the “blues”. \n 
URL:https://tobeboundless.com/event/acroyoga-17/
LOCATION:3930 Utah St.\, San Diego\, Ca 92104\, 3930 Utah St\, San Diego\, CA\, 92104\, United States
ATTACH;FMTTYPE=image/jpeg:https://tobeboundless.com/wp-content/uploads/2022/10/20200217_210312-1.jpg
ORGANIZER;CN="Boundless Women's Fitness":MAILTO:tobeboundless@gmail.com
END:VEVENT
BEGIN:VEVENT
DTSTART;TZID=America/Los_Angeles:20241107T183000
DTEND;TZID=America/Los_Angeles:20241107T190000
DTSTAMP:20260424T155809
CREATED:20240608T075141Z
LAST-MODIFIED:20240925T060507Z
UID:7665-1731004200-1731006000@tobeboundless.com
SUMMARY:pelvic floor strength & balance
DESCRIPTION:Pelvic Floor Strength & Balance is a low-impact\, strength training class that’s guaranteed to wake-up your sleepy abs and lifts your little butt.
URL:https://tobeboundless.com/event/pelvic-floor-6/
LOCATION:3930 Utah St.\, San Diego\, Ca 92104\, 3930 Utah St\, San Diego\, CA\, 92104\, United States
END:VEVENT
BEGIN:VEVENT
DTSTART;TZID=America/Los_Angeles:20241107T170000
DTEND;TZID=America/Los_Angeles:20241107T173000
DTSTAMP:20260424T155809
CREATED:20240612T005043Z
LAST-MODIFIED:20240925T052608Z
UID:7791-1730998800-1731000600@tobeboundless.com
SUMMARY:the spanks workout
DESCRIPTION:The Spanks Workout is the “perfect pick me” up to work every inch of your body. So if the daily grind has got you down\, this workout has everything you need to boost your mood and put that pep back into your step.
URL:https://tobeboundless.com/event/the-spanks-workout-2/
LOCATION:3930 Utah St.\, San Diego\, Ca 92104\, 3930 Utah St\, San Diego\, CA\, 92104\, United States
END:VEVENT
BEGIN:VEVENT
DTSTART;TZID=UTC:20241107T120000
DTEND;TZID=UTC:20241107T123000
DTSTAMP:20260424T155809
CREATED:20240928T065322Z
LAST-MODIFIED:20241013T122957Z
UID:8411-1730980800-1730982600@tobeboundless.com
SUMMARY:acroyoga
DESCRIPTION:Acroyoga is a fun-filled\, laugh-out-loud\, stretch class is guaranteed to eliminate daily muscle aches and chase away the “blues”. \n 
URL:https://tobeboundless.com/event/acroyoga-5/
LOCATION:3930 Utah St.\, San Diego\, Ca 92104\, 3930 Utah St\, San Diego\, CA\, 92104\, United States
ATTACH;FMTTYPE=image/jpeg:https://tobeboundless.com/wp-content/uploads/2022/10/20200217_210312-1.jpg
ORGANIZER;CN="Boundless Women's Fitness":MAILTO:tobeboundless@gmail.com
END:VEVENT
BEGIN:VEVENT
DTSTART;TZID=America/Los_Angeles:20241106T180000
DTEND;TZID=America/Los_Angeles:20241106T183000
DTSTAMP:20260424T155809
CREATED:20240526T052241Z
LAST-MODIFIED:20240921T061135Z
UID:7504-1730916000-1730917800@tobeboundless.com
SUMMARY:lean body workout
DESCRIPTION:This body rock’n\, ab smoke’n\, low impact class melts belly fat and tones you to the core. Lean Body Workout gets you in great shape.
URL:https://tobeboundless.com/event/lean-body-workout-17/
LOCATION:3930 Utah St.\, San Diego\, Ca 92104\, 3930 Utah St\, San Diego\, CA\, 92104\, United States
ATTACH;FMTTYPE=image/jpeg:https://tobeboundless.com/wp-content/uploads/2023/11/The-Spanks-Workout.jpg
ORGANIZER;CN="Boundless Women's Fitness":MAILTO:tobeboundless@gmail.com
END:VEVENT
BEGIN:VEVENT
DTSTART;TZID=America/Los_Angeles:20241104T103000
DTEND;TZID=America/Los_Angeles:20241104T110000
DTSTAMP:20260424T155809
CREATED:20240622T041145Z
LAST-MODIFIED:20241012T033417Z
UID:7873-1730716200-1730718000@tobeboundless.com
SUMMARY:pole yoga
DESCRIPTION:pole yoga is the zen workout that tones you from head to toe. Flex\, stretch\, bend\, lift\, breathe\, twist and move your body in every posible direction.
URL:https://tobeboundless.com/event/pole-yoga/
LOCATION:3930 Utah St.\, San Diego\, Ca 92104\, 3930 Utah St\, San Diego\, CA\, 92104\, United States
END:VEVENT
BEGIN:VEVENT
DTSTART;TZID=America/Los_Angeles:20241103T173000
DTEND;TZID=America/Los_Angeles:20241103T180000
DTSTAMP:20260424T155809
CREATED:20240629T082737Z
LAST-MODIFIED:20241027T042115Z
UID:7983-1730655000-1730656800@tobeboundless.com
SUMMARY:Piloga
DESCRIPTION:Piloga is the perfect union of core strength and mobility.
URL:https://tobeboundless.com/event/piloga/
LOCATION:3930 Utah St.\, San Diego\, Ca 92104\, 3930 Utah St\, San Diego\, CA\, 92104\, United States
END:VEVENT
BEGIN:VEVENT
DTSTART;TZID=UTC:20241103T163000
DTEND;TZID=UTC:20241103T170000
DTSTAMP:20260424T155809
CREATED:20240928T233118Z
LAST-MODIFIED:20241027T043317Z
UID:8435-1730651400-1730653200@tobeboundless.com
SUMMARY:acroyoga
DESCRIPTION:Acroyoga is a fun-filled\, laugh-out-loud\, stretch class is guaranteed to eliminate stiff joint\, daily muscle aches and chase away the “blues”. \n 
URL:https://tobeboundless.com/event/acroyoga-10/
LOCATION:3930 Utah St.\, San Diego\, Ca 92104\, 3930 Utah St\, San Diego\, CA\, 92104\, United States
ATTACH;FMTTYPE=image/jpeg:https://tobeboundless.com/wp-content/uploads/2022/10/20200217_210312-1.jpg
ORGANIZER;CN="Boundless Women's Fitness":MAILTO:tobeboundless@gmail.com
END:VEVENT
BEGIN:VEVENT
DTSTART;TZID=America/Los_Angeles:20241031T183000
DTEND;TZID=America/Los_Angeles:20241031T190000
DTSTAMP:20260424T155809
CREATED:20240527T233804Z
LAST-MODIFIED:20240925T060117Z
UID:7547-1730399400-1730401200@tobeboundless.com
SUMMARY:pelvic floor strength & balance
DESCRIPTION:Pelvic Floor Strength & Balance is a low-impact\, strength training class that’s guaranteed to wake-up your sleepy abs and lifts your little butt.
URL:https://tobeboundless.com/event/pelvic-floor-5/
LOCATION:3930 Utah St.\, San Diego\, Ca 92104\, 3930 Utah St\, San Diego\, CA\, 92104\, United States
ORGANIZER;CN="Boundless Women's Fitness":MAILTO:tobeboundless@gmail.com
END:VEVENT
BEGIN:VEVENT
DTSTART;TZID=America/Los_Angeles:20241031T170000
DTEND;TZID=America/Los_Angeles:20241031T173000
DTSTAMP:20260424T155809
CREATED:20240612T010936Z
LAST-MODIFIED:20240925T052334Z
UID:7805-1730394000-1730395800@tobeboundless.com
SUMMARY:the spanks workout
DESCRIPTION:The Spanks Workout is the “perfect pick me” up to work every inch of your body. So if the daily grind has got you down\, this workout has everything you need to boost your mood and put that pep back into your step.
URL:https://tobeboundless.com/event/the-spanks-workout-3/
LOCATION:3930 Utah St.\, San Diego\, Ca 92104\, 3930 Utah St\, San Diego\, CA\, 92104\, United States
END:VEVENT
BEGIN:VEVENT
DTSTART;TZID=America/Los_Angeles:20241028T103000
DTEND;TZID=America/Los_Angeles:20241028T110000
DTSTAMP:20260424T155809
CREATED:20240609T114118Z
LAST-MODIFIED:20240921T072052Z
UID:7697-1730111400-1730113200@tobeboundless.com
SUMMARY:Pole yoga
DESCRIPTION:Pole yoga is the zen workout that tones you from head to toe. Flex\, stretch\, bend\, lift\, breathe\, twist and move your body in every posible direction.
URL:https://tobeboundless.com/event/yoga-sculpt/
LOCATION:3930 Utah St.\, San Diego\, Ca 92104\, 3930 Utah St\, San Diego\, CA\, 92104\, United States
END:VEVENT
BEGIN:VEVENT
DTSTART;TZID=America/Los_Angeles:20241024T183000
DTEND;TZID=America/Los_Angeles:20241024T190000
DTSTAMP:20260424T155809
CREATED:20240608T080726Z
LAST-MODIFIED:20240925T055727Z
UID:7680-1729794600-1729796400@tobeboundless.com
SUMMARY:pelvic floor strength & balance
DESCRIPTION:Pelvic Floor Strength and Balance is a low-impact\, strength training class that’s guaranteed to wake-up your sleepy abs and lifts your little butt.
URL:https://tobeboundless.com/event/pelvic-floor-4/
LOCATION:3930 Utah St.\, San Diego\, Ca 92104\, 3930 Utah St\, San Diego\, CA\, 92104\, United States
ORGANIZER;CN="Boundless Women's Fitness":MAILTO:tobeboundless@gmail.com
END:VEVENT
BEGIN:VEVENT
DTSTART;TZID=America/Los_Angeles:20241024T170000
DTEND;TZID=America/Los_Angeles:20241024T173000
DTSTAMP:20260424T155809
CREATED:20240612T012224Z
LAST-MODIFIED:20240925T052146Z
UID:7822-1729789200-1729791000@tobeboundless.com
SUMMARY:the spanks workout
DESCRIPTION:The Spanks Workout is the “perfect pick me” up to work every inch of your body. So if the daily grind has got you down\, this workout has everything you need to boost your mood and put that pep back into your step.
URL:https://tobeboundless.com/event/the-spanks-workout-5/
LOCATION:3930 Utah St.\, San Diego\, Ca 92104\, 3930 Utah St\, San Diego\, CA\, 92104\, United States
END:VEVENT
BEGIN:VEVENT
DTSTART;TZID=America/Los_Angeles:20241021T103000
DTEND;TZID=America/Los_Angeles:20241021T110000
DTSTAMP:20260424T155809
CREATED:20240622T040916Z
LAST-MODIFIED:20240921T072021Z
UID:7874-1729506600-1729508400@tobeboundless.com
SUMMARY:pole yoga
DESCRIPTION:Pole yoga is the zen workout that tones you from head to toe. Flex\, stretch\, bend\, lift\, breathe\, twist and move your body in every posible direction.
URL:https://tobeboundless.com/event/yoga/
LOCATION:3930 Utah St.\, San Diego\, Ca 92104\, 3930 Utah St\, San Diego\, CA\, 92104\, United States
END:VEVENT
BEGIN:VEVENT
DTSTART;TZID=America/Los_Angeles:20241014T103000
DTEND;TZID=America/Los_Angeles:20241014T110000
DTSTAMP:20260424T155809
CREATED:20240622T041007Z
LAST-MODIFIED:20240921T071949Z
UID:7872-1728901800-1728903600@tobeboundless.com
SUMMARY:pole yoga
DESCRIPTION:Pole yoga is the zen workout that tones you from head to toe. Flex\, stretch\, bend\, lift\, breathe\, twist and move your body in every posible direction.
URL:https://tobeboundless.com/event/pole-yoga-2/
LOCATION:3930 Utah St.\, San Diego\, Ca 92104\, 3930 Utah St\, San Diego\, CA\, 92104\, United States
END:VEVENT
BEGIN:VEVENT
DTSTART;TZID=UTC:20241013T173000
DTEND;TZID=UTC:20241013T180000
DTSTAMP:20260424T155809
CREATED:20240926T071430Z
LAST-MODIFIED:20240928T202431Z
UID:8370-1728840600-1728842400@tobeboundless.com
SUMMARY:acroyoga
DESCRIPTION:This into to Acroyoga class is a fun-filled\, laugh-out-loud\, stretch session guaranteed to eliminate stiff joints\, daily muscle aches and chase away the “blues”.
URL:https://tobeboundless.com/event/acroyoga-2/
LOCATION:3930 Utah St.\, San Diego\, Ca 92104\, 3930 Utah St\, San Diego\, CA\, 92104\, United States
ORGANIZER;CN="Boundless Women's Fitness":MAILTO:tobeboundless@gmail.com
END:VEVENT
BEGIN:VEVENT
DTSTART;TZID=UTC:20240930T100000
DTEND;TZID=UTC:20240930T103000
DTSTAMP:20260424T155809
CREATED:20240622T034540Z
LAST-MODIFIED:20240824T055115Z
UID:7858-1727690400-1727692200@tobeboundless.com
SUMMARY:feel the burn
DESCRIPTION:Feel the burn is a body rock’n\, ab smoke’n\, low impact class melts away belly fat and tones you to the core.
URL:https://tobeboundless.com/event/feel-the-burn-7/
LOCATION:CA
END:VEVENT
BEGIN:VEVENT
DTSTART;TZID=America/Los_Angeles:20240926T183000
DTEND;TZID=America/Los_Angeles:20240926T190000
DTSTAMP:20260424T155809
CREATED:20240612T005311Z
LAST-MODIFIED:20240825T080655Z
UID:7793-1727375400-1727377200@tobeboundless.com
SUMMARY:swimsuit ready workout
DESCRIPTION:Swimsuit Ready Workout is a low-impact\, high energy\, strength training class that’s guaranteed to wake-up your sleepy abs and lifts your little butt.
URL:https://tobeboundless.com/event/swimsuit-ready-workout-7/
LOCATION:3930 Utah St.\, San Diego\, Ca 92104\, 3930 Utah St\, San Diego\, CA\, 92104\, United States
END:VEVENT
BEGIN:VEVENT
DTSTART;TZID=America/Los_Angeles:20240925T180000
DTEND;TZID=America/Los_Angeles:20240925T183000
DTSTAMP:20260424T155809
CREATED:20240522T021414Z
LAST-MODIFIED:20240825T073418Z
UID:7495-1727287200-1727289000@tobeboundless.com
SUMMARY:feel the burn
DESCRIPTION:Build lean muscle without the bulk. Burn body fat with great results. Feel The Burn gives you boundless energy & keeps you coming back for more.
URL:https://tobeboundless.com/event/feel-the-burn-3/
LOCATION:CA
ATTACH;FMTTYPE=image/jpeg:https://tobeboundless.com/wp-content/uploads/2023/11/The-Spanks-Workout.jpg
END:VEVENT
END:VCALENDAR