BEGIN:VCALENDAR
VERSION:2.0
PRODID:-//Boundless  - fitness studio for women in North Park, San Diego - ECPv6.15.20//NONSGML v1.0//EN
CALSCALE:GREGORIAN
METHOD:PUBLISH
X-WR-CALNAME:Boundless  - fitness studio for women in North Park, San Diego
X-ORIGINAL-URL:https://tobeboundless.com
X-WR-CALDESC:Events for Boundless  - fitness studio for women in North Park, San Diego
REFRESH-INTERVAL;VALUE=DURATION:PT1H
X-Robots-Tag:noindex
X-PUBLISHED-TTL:PT1H
BEGIN:VTIMEZONE
TZID:America/Los_Angeles
BEGIN:DAYLIGHT
TZOFFSETFROM:-0800
TZOFFSETTO:-0700
TZNAME:PDT
DTSTART:20250309T100000
END:DAYLIGHT
BEGIN:STANDARD
TZOFFSETFROM:-0700
TZOFFSETTO:-0800
TZNAME:PST
DTSTART:20251102T090000
END:STANDARD
BEGIN:DAYLIGHT
TZOFFSETFROM:-0800
TZOFFSETTO:-0700
TZNAME:PDT
DTSTART:20260308T100000
END:DAYLIGHT
BEGIN:STANDARD
TZOFFSETFROM:-0700
TZOFFSETTO:-0800
TZNAME:PST
DTSTART:20261101T090000
END:STANDARD
BEGIN:DAYLIGHT
TZOFFSETFROM:-0800
TZOFFSETTO:-0700
TZNAME:PDT
DTSTART:20270314T100000
END:DAYLIGHT
BEGIN:STANDARD
TZOFFSETFROM:-0700
TZOFFSETTO:-0800
TZNAME:PST
DTSTART:20271107T090000
END:STANDARD
END:VTIMEZONE
BEGIN:VTIMEZONE
TZID:UTC
BEGIN:STANDARD
TZOFFSETFROM:+0000
TZOFFSETTO:+0000
TZNAME:UTC
DTSTART:20250101T000000
END:STANDARD
END:VTIMEZONE
BEGIN:VEVENT
DTSTART;TZID=America/Los_Angeles:20260208T110000
DTEND;TZID=America/Los_Angeles:20260208T113000
DTSTAMP:20260423T201607
CREATED:20251225T085626Z
LAST-MODIFIED:20260204T174602Z
UID:10832-1770548400-1770550200@tobeboundless.com
SUMMARY:skinny jeans workout
DESCRIPTION:Get back in your skinny jeans! This class combines varing levels of intensity with core conditioning to work every inch of your body. Feel confident wearing your skinny jeans (or shorts) and sleeveless tops year round.
URL:https://tobeboundless.com/event/skinny-jeans-workout-18/
LOCATION:3930 Utah St.\, San Diego\, Ca 92104\, 3930 Utah St\, San Diego\, CA\, 92104\, United States
ATTACH;FMTTYPE=image/jpeg:https://tobeboundless.com/wp-content/uploads/2023/11/skinny-jeans-workout-scaled.jpg
END:VEVENT
BEGIN:VEVENT
DTSTART;TZID=America/Los_Angeles:20260208T113000
DTEND;TZID=America/Los_Angeles:20260208T120000
DTSTAMP:20260423T201607
CREATED:20251028T105405Z
LAST-MODIFIED:20260204T173841Z
UID:10496-1770550200-1770552000@tobeboundless.com
SUMMARY:hips & splits
DESCRIPTION:Hips & Splits. Stiff hip got you down? This hip mobility class is the perfect “fix” to chase those nagging aches and pains away before they become a real problem. 30 minutes\, 2 times a week is recommended to get the job done.
URL:https://tobeboundless.com/event/hips-splits-9/
LOCATION:3930 Utah St.\, San Diego\, Ca 92104\, 3930 Utah St\, San Diego\, CA\, 92104\, United States
ORGANIZER;CN="Boundless Women's Fitness":MAILTO:tobeboundless@gmail.com
END:VEVENT
BEGIN:VEVENT
DTSTART;TZID=America/Los_Angeles:20260208T120000
DTEND;TZID=America/Los_Angeles:20260208T123000
DTSTAMP:20260423T201607
CREATED:20251225T084555Z
LAST-MODIFIED:20260204T172940Z
UID:10943-1770552000-1770553800@tobeboundless.com
SUMMARY:nurture & align
DESCRIPTION:Nurture & Align is a sacred space to soften\, restore\, and reconnect.\nThis gentle Pilates-based practice is designed to support hormonal balance and nervous system regulation through mindful movement\, breath\, and embodied presence. Whether you’re preparing to conceive\, healing from stress\, or simply seeking deeper alignment with your body’s rhythms\, Nurture & Align invites you to root into calm and bloom from within.
URL:https://tobeboundless.com/event/nurture-align-22/
LOCATION:3930 Utah St.\, San Diego\, Ca 92104\, 3930 Utah St\, San Diego\, CA\, 92104\, United States
ORGANIZER;CN="Boundless Women's Fitness":MAILTO:tobeboundless@gmail.com
END:VEVENT
BEGIN:VEVENT
DTSTART;TZID=America/Los_Angeles:20260208T160000
DTEND;TZID=America/Los_Angeles:20260208T163000
DTSTAMP:20260423T201607
CREATED:20251225T095713Z
LAST-MODIFIED:20251225T095713Z
UID:11029-1770566400-1770568200@tobeboundless.com
SUMMARY:Pilates magic
DESCRIPTION:Pilates magic combines core exercises fused with dynamic stretches to eliminate daily stiffness and muscle tension.
URL:https://tobeboundless.com/event/pilates-magic-30/
LOCATION:3930 Utah St.\, San Diego\, Ca 92104\, 3930 Utah St\, San Diego\, CA\, 92104\, United States
ATTACH;FMTTYPE=image/jpeg:https://tobeboundless.com/wp-content/uploads/2023/08/IMG_20181205_195956-1-scaled.jpg
END:VEVENT
BEGIN:VEVENT
DTSTART;TZID=UTC:20260208T163000
DTEND;TZID=UTC:20260208T170000
DTSTAMP:20260423T201607
CREATED:20251227T044135Z
LAST-MODIFIED:20251227T044350Z
UID:11264-1770568200-1770570000@tobeboundless.com
SUMMARY:Ooh La La Legs
DESCRIPTION:Build strength to last a lifetime and gorgeous legs all while improving brain power and bone health.
URL:https://tobeboundless.com/event/ooh-la-la-legs-26/
LOCATION:3930 Utah St.\, San Diego\, Ca 92104\, 3930 Utah St\, San Diego\, CA\, 92104\, United States
ORGANIZER;CN="Boundless Women's Fitness":MAILTO:tobeboundless@gmail.com
END:VEVENT
BEGIN:VEVENT
DTSTART;TZID=America/Los_Angeles:20260209T090000
DTEND;TZID=America/Los_Angeles:20260209T093000
DTSTAMP:20260423T201607
CREATED:20250820T055457Z
LAST-MODIFIED:20251222T100718Z
UID:9815-1770627600-1770629400@tobeboundless.com
SUMMARY:Pilates body
DESCRIPTION:Pilates body is a low-impact strength training class that’s guaranteed to wake-up your sleepy abs and lifts your little butt.
URL:https://tobeboundless.com/event/pilates-body-12/
LOCATION:3930 Utah St.\, San Diego\, Ca 92104\, 3930 Utah St\, San Diego\, CA\, 92104\, United States
END:VEVENT
BEGIN:VEVENT
DTSTART;TZID=UTC:20260209T093000
DTEND;TZID=UTC:20260209T100000
DTSTAMP:20260423T201607
CREATED:20251226T040734Z
LAST-MODIFIED:20251226T040734Z
UID:11054-1770629400-1770631200@tobeboundless.com
SUMMARY:don't stop\, won't stop
DESCRIPTION:Unlock the power of movement that lasts a lifetime. If you want to keep your feet knees & hip joints strong\, flexible\, and pain free. This mobility-focused class will build resilience in your joints\, improve your balance\, and match your “no quit attitude”. Whether your chasing longevity\, preventing injury\, or you simply want to move with confidence\, this class is all about celebrating what your body can do.
URL:https://tobeboundless.com/event/dont-stop-wont-stop-6/
LOCATION:3930 Utah St.\, San Diego\, Ca 92104\, 3930 Utah St\, San Diego\, CA\, 92104\, United States
ORGANIZER;CN="Boundless Women's Fitness":MAILTO:tobeboundless@gmail.com
END:VEVENT
BEGIN:VEVENT
DTSTART;TZID=UTC:20260209T100000
DTEND;TZID=UTC:20260209T103000
DTSTAMP:20260423T201607
CREATED:20251027T034759Z
LAST-MODIFIED:20251226T050619Z
UID:10435-1770631200-1770633000@tobeboundless.com
SUMMARY:form & function
DESCRIPTION:Focus on form and proper execution of each exercise to build real strenth that last a lifetime
URL:https://tobeboundless.com/event/form-function-13/
LOCATION:3930 Utah St.\, San Diego\, Ca 92104\, 3930 Utah St\, San Diego\, CA\, 92104\, United States
ORGANIZER;CN="Boundless Women's Fitness":MAILTO:tobeboundless@gmail.com
END:VEVENT
BEGIN:VEVENT
DTSTART;TZID=UTC:20260209T110000
DTEND;TZID=UTC:20260209T113000
DTSTAMP:20260423T201607
CREATED:20250917T010238Z
LAST-MODIFIED:20251123T064058Z
UID:10090-1770634800-1770636600@tobeboundless.com
SUMMARY:power & flow
DESCRIPTION:Power & Flow is where Pilates meets strength training. This unique strength class combines pure power with an elegant flow to transform your body from head to toe.
URL:https://tobeboundless.com/event/power-flow-7/
LOCATION:3930 Utah St.\, San Diego\, Ca 92104\, 3930 Utah St\, San Diego\, CA\, 92104\, United States
ORGANIZER;CN="Boundless Women's Fitness":MAILTO:tobeboundless@gmail.com
END:VEVENT
BEGIN:VEVENT
DTSTART;TZID=UTC:20260209T170000
DTEND;TZID=UTC:20260209T173000
DTSTAMP:20260423T201607
CREATED:20251025T020303Z
LAST-MODIFIED:20251226T053108Z
UID:10410-1770656400-1770658200@tobeboundless.com
SUMMARY:flip the script
DESCRIPTION:Flip The Script is your answer to the daily grind. This zen-strength calss is the perfect “pick me up” to work every inch of your body.
URL:https://tobeboundless.com/event/flip-the-script-9/
LOCATION:3930 Utah St.\, San Diego\, Ca 92104\, 3930 Utah St\, San Diego\, CA\, 92104\, United States
ORGANIZER;CN="Boundless Women's Fitness":MAILTO:tobeboundless@gmail.com
END:VEVENT
BEGIN:VEVENT
DTSTART;TZID=UTC:20260209T173000
DTEND;TZID=UTC:20260209T180000
DTSTAMP:20260423T201607
CREATED:20251207T025930Z
LAST-MODIFIED:20251207T025930Z
UID:10737-1770658200-1770660000@tobeboundless.com
SUMMARY:strong & lean
DESCRIPTION:Strong and lean build lean muscle without the bulk. Burn body fat with great results. This is the class that gives you boundless energy and keeps you comig back for more.
URL:https://tobeboundless.com/event/strong-lean-33/
LOCATION:CA
END:VEVENT
BEGIN:VEVENT
DTSTART;TZID=America/Los_Angeles:20260209T180000
DTEND;TZID=America/Los_Angeles:20260209T183000
DTSTAMP:20260423T201607
CREATED:20251207T030641Z
LAST-MODIFIED:20251207T030641Z
UID:10748-1770660000-1770661800@tobeboundless.com
SUMMARY:hustle & flow
DESCRIPTION:hustle and flow is a 30 minute low impact workout\, high energy  strength and strength workout takes your core training to the next level.
URL:https://tobeboundless.com/event/hustle-flow-11/
LOCATION:3930 Utah St.\, San Diego\, Ca 92104\, 3930 Utah St\, San Diego\, CA\, 92104\, United States
END:VEVENT
BEGIN:VEVENT
DTSTART;TZID=UTC:20260210T060000
DTEND;TZID=UTC:20260210T063000
DTSTAMP:20260423T201607
CREATED:20251227T055301Z
LAST-MODIFIED:20251227T055315Z
UID:11287-1770703200-1770705000@tobeboundless.com
SUMMARY:Ooh La La Legs
DESCRIPTION:Build strength to last a lifetime and gorgeous legs all while improving brain power and bone health.
URL:https://tobeboundless.com/event/ooh-la-la-legs-37/
LOCATION:3930 Utah St.\, San Diego\, Ca 92104\, 3930 Utah St\, San Diego\, CA\, 92104\, United States
ORGANIZER;CN="Boundless Women's Fitness":MAILTO:tobeboundless@gmail.com
END:VEVENT
BEGIN:VEVENT
DTSTART;TZID=UTC:20260210T063000
DTEND;TZID=UTC:20260210T070000
DTSTAMP:20260423T201607
CREATED:20251207T071929Z
LAST-MODIFIED:20251227T040145Z
UID:10812-1770705000-1770706800@tobeboundless.com
SUMMARY:rise & stride
DESCRIPTION:Rise & Stride is the perfect intorduction to fitness for beginners who want to start with walk/run intervals or walking only. This supportive\, outdoor class combines fresh air\, accountability\, and community to help you build confidence and endurance at your own pace. Guided sessions make it easy to stay motivted while connecting with others who share  your goals. Whether you’re looking to improve  your health\, enjoy social  support\, or simply move more\, Rise & Stride offers a welcoming space to grow strong and stride forward.
URL:https://tobeboundless.com/event/rise-stride-6/
LOCATION:3930 Utah St.\, San Diego\, Ca 92104\, 3930 Utah St\, San Diego\, CA\, 92104\, United States
ORGANIZER;CN="Boundless Women's Fitness":MAILTO:tobeboundless@gmail.com
END:VEVENT
BEGIN:VEVENT
DTSTART;TZID=America/Los_Angeles:20260210T070000
DTEND;TZID=America/Los_Angeles:20260210T073000
DTSTAMP:20260423T201607
CREATED:20251227T061823Z
LAST-MODIFIED:20251227T061823Z
UID:11311-1770706800-1770708600@tobeboundless.com
SUMMARY:Hips & Splits
DESCRIPTION:Hips & Splits. Stiff hip got you down? This hip mobility class is the perfect “fix” to chase those nagging aches and pains away before they become a real problem. 30 minutes\, 2 times a week is recommended to get the job done.
URL:https://tobeboundless.com/event/hips-splits-31/
LOCATION:3930 Utah St.\, San Diego\, Ca 92104\, 3930 Utah St\, San Diego\, CA\, 92104\, United States
ORGANIZER;CN="Boundless Women's Fitness":MAILTO:tobeboundless@gmail.com
END:VEVENT
BEGIN:VEVENT
DTSTART;TZID=America/Los_Angeles:20260210T093000
DTEND;TZID=America/Los_Angeles:20260210T100000
DTSTAMP:20260423T201607
CREATED:20251027T041812Z
LAST-MODIFIED:20251228T071732Z
UID:10456-1770715800-1770717600@tobeboundless.com
SUMMARY:total body workout
DESCRIPTION:Total Body Workout is the “perfect pick me” up to work every inch of your body. So if the daily grind has got you down\, this workout has everything you need to boost your mood and put that pep back into your step.
URL:https://tobeboundless.com/event/total-body-workout-14/
LOCATION:3930 Utah St.\, San Diego\, Ca 92104\, 3930 Utah St\, San Diego\, CA\, 92104\, United States
END:VEVENT
BEGIN:VEVENT
DTSTART;TZID=UTC:20260210T100000
DTEND;TZID=UTC:20260210T103000
DTSTAMP:20260423T201607
CREATED:20251225T091612Z
LAST-MODIFIED:20260204T182146Z
UID:10979-1770717600-1770719400@tobeboundless.com
SUMMARY:brilliant\, nimble & resilient
DESCRIPTION:A calm\, welcoming class where you can rebuild balance\, strength\, and confidence at a pace that feels right for your body. \nEach session focuses on practical\, everyday movements — stepping off curbs\, walking on uneven ground\, getting up from the floor\, staying steady during daily activities — so you can move through life feeling safer\, stronger\, and more independent.
URL:https://tobeboundless.com/event/brilliant-resilient-10/
LOCATION:3930 Utah St.\, San Diego\, Ca 92104\, 3930 Utah St\, San Diego\, CA\, 92104\, United States
ORGANIZER;CN="Boundless Women's Fitness":MAILTO:tobeboundless@gmail.com
END:VEVENT
BEGIN:VEVENT
DTSTART;TZID=UTC:20260210T103000
DTEND;TZID=UTC:20260210T110000
DTSTAMP:20260423T201607
CREATED:20251228T073335Z
LAST-MODIFIED:20251228T073335Z
UID:11360-1770719400-1770721200@tobeboundless.com
SUMMARY:defy impossible
DESCRIPTION:Stop fighting for strength. Build it. Defy Impossible targets the muscles women are rarely taught to activate — so you get stronger\, faster\, and with way more confidence. \n 
URL:https://tobeboundless.com/event/defy-impossible-14/
LOCATION:CA
END:VEVENT
BEGIN:VEVENT
DTSTART;TZID=UTC:20260210T120000
DTEND;TZID=UTC:20260210T123000
DTSTAMP:20260423T201607
CREATED:20251228T085506Z
LAST-MODIFIED:20260204T180509Z
UID:11390-1770724800-1770726600@tobeboundless.com
SUMMARY:core harmony
DESCRIPTION:Core Harmony supports the regulation of your nervous system and the natural rhythm of your hormones. This class is a sanctuary for slowing down\, tuning in\, and restoring balance through soft\, intentional movement rooted in Pilates and somatic awareness.
URL:https://tobeboundless.com/event/core-harmony/
LOCATION:3930 Utah St.\, San Diego\, Ca 92104\, 3930 Utah St\, San Diego\, CA\, 92104\, United States
ORGANIZER;CN="Boundless Women's Fitness":MAILTO:tobeboundless@gmail.com
END:VEVENT
BEGIN:VEVENT
DTSTART;TZID=UTC:20260211T143000
DTEND;TZID=UTC:20260211T150000
DTSTAMP:20260423T201607
CREATED:20251123T044402Z
LAST-MODIFIED:20251123T044402Z
UID:10625-1770820200-1770822000@tobeboundless.com
SUMMARY:Ooh La La Legs
DESCRIPTION:Build strength to last a lifetime and gorgeous legs all while improving brain power and bone health.
URL:https://tobeboundless.com/event/ooh-la-la-legs-8/
LOCATION:3930 Utah St.\, San Diego\, Ca 92104\, 3930 Utah St\, San Diego\, CA\, 92104\, United States
ORGANIZER;CN="Boundless Women's Fitness":MAILTO:tobeboundless@gmail.com
END:VEVENT
BEGIN:VEVENT
DTSTART;TZID=America/Los_Angeles:20260211T160000
DTEND;TZID=America/Los_Angeles:20260211T163000
DTSTAMP:20260423T201607
CREATED:20251028T103157Z
LAST-MODIFIED:20251207T032427Z
UID:10478-1770825600-1770827400@tobeboundless.com
SUMMARY:Pilates magic
DESCRIPTION:Pilates magic combines core exercises fused with dynamic stretches to eliminate daily stiffness and muscle tension.
URL:https://tobeboundless.com/event/pilates-magic-17/
LOCATION:3930 Utah St.\, San Diego\, Ca 92104\, 3930 Utah St\, San Diego\, CA\, 92104\, United States
ATTACH;FMTTYPE=image/jpeg:https://tobeboundless.com/wp-content/uploads/2023/08/IMG_20181205_195956-1-scaled.jpg
END:VEVENT
BEGIN:VEVENT
DTSTART;TZID=UTC:20260211T163000
DTEND;TZID=UTC:20260211T170000
DTSTAMP:20260423T201607
CREATED:20251207T042914Z
LAST-MODIFIED:20251207T043008Z
UID:10763-1770827400-1770829200@tobeboundless.com
SUMMARY:form & function
DESCRIPTION:Focus on form and proper execution of each exercise to build real strenth that last a lifetime
URL:https://tobeboundless.com/event/form-function-29/
LOCATION:3930 Utah St.\, San Diego\, Ca 92104\, 3930 Utah St\, San Diego\, CA\, 92104\, United States
ORGANIZER;CN="Boundless Women's Fitness":MAILTO:tobeboundless@gmail.com
END:VEVENT
BEGIN:VEVENT
DTSTART;TZID=America/Los_Angeles:20260211T170000
DTEND;TZID=America/Los_Angeles:20260211T173000
DTSTAMP:20260423T201607
CREATED:20251207T050653Z
LAST-MODIFIED:20251222T085412Z
UID:10774-1770829200-1770831000@tobeboundless.com
SUMMARY:hips & splits
DESCRIPTION:Hips & Splits. Stiff hip got you down? This hip mobility class is the perfect “fix” to chase those nagging aches and pains away before they become a real problem. 30 minutes\, 2 times a week is recommended to get the job done.
URL:https://tobeboundless.com/event/hips-splits-20/
LOCATION:3930 Utah St.\, San Diego\, Ca 92104\, 3930 Utah St\, San Diego\, CA\, 92104\, United States
ORGANIZER;CN="Boundless Women's Fitness":MAILTO:tobeboundless@gmail.com
END:VEVENT
BEGIN:VEVENT
DTSTART;TZID=America/Los_Angeles:20260211T173000
DTEND;TZID=America/Los_Angeles:20260211T180000
DTSTAMP:20260423T201607
CREATED:20251207T053351Z
LAST-MODIFIED:20251207T053351Z
UID:10787-1770831000-1770832800@tobeboundless.com
SUMMARY:skinny jeans workout
DESCRIPTION:Get back in your skinny jeans! This class combines varing levels of intensity with core conditioning to work every inch of your body. Feel confident wearing your skinny jeans (or shorts) and sleeveless tops year round.
URL:https://tobeboundless.com/event/skinny-jeans-workout-14/
LOCATION:3930 Utah St.\, San Diego\, Ca 92104\, 3930 Utah St\, San Diego\, CA\, 92104\, United States
ATTACH;FMTTYPE=image/jpeg:https://tobeboundless.com/wp-content/uploads/2023/11/skinny-jeans-workout-scaled.jpg
END:VEVENT
BEGIN:VEVENT
DTSTART;TZID=UTC:20260212T060000
DTEND;TZID=UTC:20260212T063000
DTSTAMP:20260423T201607
CREATED:20251226T095605Z
LAST-MODIFIED:20251226T095605Z
UID:11181-1770876000-1770877800@tobeboundless.com
SUMMARY:rise & stride
DESCRIPTION:Rise & Stride is the perfect intorduction to fitness for beginners who want to start with walk/run intervals or walking only. This supportive\, outdoor class combines fresh air\, accountability\, and community to help you build confidence and endurance at your own pace. Guided sessions make it easy to stay motivted while connecting with others who share  your goals. Whether you’re looking to improve  your health\, enjoy social  support\, or simply move more\, Rise & Stride offers a welcoming space to grow strong and stride forward.
URL:https://tobeboundless.com/event/rise-stride-18/
LOCATION:3930 Utah St.\, San Diego\, Ca 92104\, 3930 Utah St\, San Diego\, CA\, 92104\, United States
ORGANIZER;CN="Boundless Women's Fitness":MAILTO:tobeboundless@gmail.com
END:VEVENT
BEGIN:VEVENT
DTSTART;TZID=UTC:20260212T063000
DTEND;TZID=UTC:20260212T070000
DTSTAMP:20260423T201607
CREATED:20251226T043026Z
LAST-MODIFIED:20251226T043026Z
UID:11075-1770877800-1770879600@tobeboundless.com
SUMMARY:don't stop\, won't stop
DESCRIPTION:Unlock the power of movement that lasts a lifetime. If you want to keep your feet knees & hip joints strong\, flexible\, and pain free. This mobility-focused class will build resilience in your joints\, improve your balance\, and match your “no quit attitude”. Whether your chasing longevity\, preventing injury\, or you simply want to move with confidence\, this class is all about celebrating what your body can do.
URL:https://tobeboundless.com/event/dont-stop-wont-stop-18/
LOCATION:3930 Utah St.\, San Diego\, Ca 92104\, 3930 Utah St\, San Diego\, CA\, 92104\, United States
ORGANIZER;CN="Boundless Women's Fitness":MAILTO:tobeboundless@gmail.com
END:VEVENT
BEGIN:VEVENT
DTSTART;TZID=UTC:20260212T070000
DTEND;TZID=UTC:20260212T073000
DTSTAMP:20260423T201607
CREATED:20251226T100753Z
LAST-MODIFIED:20251226T100753Z
UID:11195-1770879600-1770881400@tobeboundless.com
SUMMARY:flip the script
DESCRIPTION:Flip The Script is your answer to the daily grind. This zen-strength calss is the perfect “pick me up” to work every inch of your body.
URL:https://tobeboundless.com/event/flip-the-script-20/
LOCATION:3930 Utah St.\, San Diego\, Ca 92104\, 3930 Utah St\, San Diego\, CA\, 92104\, United States
ORGANIZER;CN="Boundless Women's Fitness":MAILTO:tobeboundless@gmail.com
END:VEVENT
BEGIN:VEVENT
DTSTART;TZID=UTC:20260212T090000
DTEND;TZID=UTC:20260212T093000
DTSTAMP:20260423T201607
CREATED:20251123T050901Z
LAST-MODIFIED:20251123T050901Z
UID:10645-1770886800-1770888600@tobeboundless.com
SUMMARY:strong & lean
DESCRIPTION:Strong and lean build lean muscle without the bulk. Burn body fat with great results. This is the class that gives you boundless energy and keeps you comig back for more.
URL:https://tobeboundless.com/event/strong-lean-27/
LOCATION:CA
END:VEVENT
BEGIN:VEVENT
DTSTART;TZID=UTC:20260212T093000
DTEND;TZID=UTC:20260212T100000
DTSTAMP:20260423T201607
CREATED:20251123T051858Z
LAST-MODIFIED:20260131T073328Z
UID:10660-1770888600-1770890400@tobeboundless.com
SUMMARY:form & function
DESCRIPTION:Focus on form and proper execution of each exercise to build real strenth that last a lifetime
URL:https://tobeboundless.com/event/form-function-21/
LOCATION:3930 Utah St.\, San Diego\, Ca 92104\, 3930 Utah St\, San Diego\, CA\, 92104\, United States
ORGANIZER;CN="Boundless Women's Fitness":MAILTO:tobeboundless@gmail.com
END:VEVENT
BEGIN:VEVENT
DTSTART;TZID=UTC:20260212T100000
DTEND;TZID=UTC:20260212T103000
DTSTAMP:20260423T201607
CREATED:20251123T054040Z
LAST-MODIFIED:20260204T181819Z
UID:10678-1770890400-1770892200@tobeboundless.com
SUMMARY:brilliant\, nimble & resilient
DESCRIPTION:A calm\, welcoming class where you can rebuild balance\, strength\, and confidence at a pace that feels right for your body. \nEach session focuses on practical\, everyday movements — stepping off curbs\, walking on uneven ground\, getting up from the floor\, staying steady during daily activities — so you can move through life feeling safer\, stronger\, and more independent.
URL:https://tobeboundless.com/event/brilliant-resilient-7/
LOCATION:3930 Utah St.\, San Diego\, Ca 92104\, 3930 Utah St\, San Diego\, CA\, 92104\, United States
ORGANIZER;CN="Boundless Women's Fitness":MAILTO:tobeboundless@gmail.com
END:VEVENT
END:VCALENDAR