BEGIN:VCALENDAR
VERSION:2.0
PRODID:-//Boundless  - fitness studio for women in North Park, San Diego - ECPv6.15.20//NONSGML v1.0//EN
CALSCALE:GREGORIAN
METHOD:PUBLISH
X-ORIGINAL-URL:https://tobeboundless.com
X-WR-CALDESC:Events for Boundless  - fitness studio for women in North Park, San Diego
REFRESH-INTERVAL;VALUE=DURATION:PT1H
X-Robots-Tag:noindex
X-PUBLISHED-TTL:PT1H
BEGIN:VTIMEZONE
TZID:America/Los_Angeles
BEGIN:DAYLIGHT
TZOFFSETFROM:-0800
TZOFFSETTO:-0700
TZNAME:PDT
DTSTART:20250309T100000
END:DAYLIGHT
BEGIN:STANDARD
TZOFFSETFROM:-0700
TZOFFSETTO:-0800
TZNAME:PST
DTSTART:20251102T090000
END:STANDARD
BEGIN:DAYLIGHT
TZOFFSETFROM:-0800
TZOFFSETTO:-0700
TZNAME:PDT
DTSTART:20260308T100000
END:DAYLIGHT
BEGIN:STANDARD
TZOFFSETFROM:-0700
TZOFFSETTO:-0800
TZNAME:PST
DTSTART:20261101T090000
END:STANDARD
BEGIN:DAYLIGHT
TZOFFSETFROM:-0800
TZOFFSETTO:-0700
TZNAME:PDT
DTSTART:20270314T100000
END:DAYLIGHT
BEGIN:STANDARD
TZOFFSETFROM:-0700
TZOFFSETTO:-0800
TZNAME:PST
DTSTART:20271107T090000
END:STANDARD
END:VTIMEZONE
BEGIN:VTIMEZONE
TZID:UTC
BEGIN:STANDARD
TZOFFSETFROM:+0000
TZOFFSETTO:+0000
TZNAME:UTC
DTSTART:20250101T000000
END:STANDARD
END:VTIMEZONE
BEGIN:VEVENT
DTSTART;TZID=America/Los_Angeles:20260129T163000
DTEND;TZID=America/Los_Angeles:20260129T170000
DTSTAMP:20260424T000224
CREATED:20240622T061739Z
LAST-MODIFIED:20251226T101540Z
UID:7939-1769704200-1769706000@tobeboundless.com
SUMMARY:mind over muscle
DESCRIPTION:Mind Over Muscle is a yoga class that’ll have you feeling stronger\, breathing deeper\, standing taller and moving with greater confidence. \n 
URL:https://tobeboundless.com/event/mind-over-muscle-14/
LOCATION:3930 Utah St.\, San Diego\, Ca 92104\, 3930 Utah St\, San Diego\, CA\, 92104\, United States
END:VEVENT
BEGIN:VEVENT
DTSTART;TZID=America/Los_Angeles:20260129T170000
DTEND;TZID=America/Los_Angeles:20260129T173000
DTSTAMP:20260424T000224
CREATED:20250329T055638Z
LAST-MODIFIED:20251226T102240Z
UID:9149-1769706000-1769707800@tobeboundless.com
SUMMARY:total body workout
DESCRIPTION:Total Body Workout is the “perfect pick me” up to work every inch of your body. So if the daily grind has got you down\, this workout has everything you need to boost your mood and put that pep back into your step.
URL:https://tobeboundless.com/event/total-body-workout-2/
LOCATION:3930 Utah St.\, San Diego\, Ca 92104\, 3930 Utah St\, San Diego\, CA\, 92104\, United States
END:VEVENT
BEGIN:VEVENT
DTSTART;TZID=UTC:20260129T180000
DTEND;TZID=UTC:20260129T183000
DTSTAMP:20260424T000224
CREATED:20251227T021707Z
LAST-MODIFIED:20251227T021707Z
UID:11227-1769709600-1769711400@tobeboundless.com
SUMMARY:Ooh La La Legs
DESCRIPTION:Build strength to last a lifetime and gorgeous legs all while improving brain power and bone health.
URL:https://tobeboundless.com/event/ooh-la-la-legs-14/
LOCATION:3930 Utah St.\, San Diego\, Ca 92104\, 3930 Utah St\, San Diego\, CA\, 92104\, United States
ORGANIZER;CN="Boundless Women's Fitness":MAILTO:tobeboundless@gmail.com
END:VEVENT
BEGIN:VEVENT
DTSTART;TZID=America/Los_Angeles:20260129T183000
DTEND;TZID=America/Los_Angeles:20260129T190000
DTSTAMP:20260424T000224
CREATED:20251106T075204Z
LAST-MODIFIED:20251215T084039Z
UID:10527-1769711400-1769713200@tobeboundless.com
SUMMARY:Pilates body
DESCRIPTION:Pilates body is a low-impact strength training class that’s guaranteed to wake-up your sleepy abs and lifts your little butt.
URL:https://tobeboundless.com/event/pilates-body-28/
LOCATION:3930 Utah St.\, San Diego\, Ca 92104\, 3930 Utah St\, San Diego\, CA\, 92104\, United States
END:VEVENT
BEGIN:VEVENT
DTSTART;TZID=UTC:20260201T090000
DTEND;TZID=UTC:20260201T093000
DTSTAMP:20260424T000224
CREATED:20251207T065154Z
LAST-MODIFIED:20251207T065154Z
UID:10801-1769936400-1769938200@tobeboundless.com
SUMMARY:baby bump Pilates
DESCRIPTION:Baby Bump builds strength and endurance during pregnancy and re-build your core strength after your baby is born.
URL:https://tobeboundless.com/event/baby-bump-pilates-11/
LOCATION:3930 Utah St.\, San Diego\, Ca 92104\, 3930 Utah St\, San Diego\, CA\, 92104\, United States
ORGANIZER;CN="Boundless Women's Fitness":MAILTO:tobeboundless@gmail.com
END:VEVENT
BEGIN:VEVENT
DTSTART;TZID=UTC:20260201T100000
DTEND;TZID=UTC:20260201T103000
DTSTAMP:20260424T000224
CREATED:20251222T095245Z
LAST-MODIFIED:20251222T095245Z
UID:10915-1769940000-1769941800@tobeboundless.com
SUMMARY:strong & lean
DESCRIPTION:Strong and lean build lean muscle without the bulk. Burn body fat with great results. This is the class that gives you boundless energy and keeps you comig back for more.
URL:https://tobeboundless.com/event/strong-lean-41/
LOCATION:CA
END:VEVENT
BEGIN:VEVENT
DTSTART;TZID=UTC:20260201T110000
DTEND;TZID=UTC:20260201T113000
DTSTAMP:20260424T000224
CREATED:20251020T063149Z
LAST-MODIFIED:20251123T064928Z
UID:10407-1769943600-1769945400@tobeboundless.com
SUMMARY:power & flow
DESCRIPTION:Power & Flow where Pilates meets strength training. This unique strength class combines pure power with an elegant flow to transform your body from head to toe.
URL:https://tobeboundless.com/event/power-flow-10/
LOCATION:3930 Utah St.\, San Diego\, Ca 92104\, 3930 Utah St\, San Diego\, CA\, 92104\, United States
ORGANIZER;CN="Boundless Women's Fitness":MAILTO:tobeboundless@gmail.com
END:VEVENT
BEGIN:VEVENT
DTSTART;TZID=America/Los_Angeles:20260201T113000
DTEND;TZID=America/Los_Angeles:20260201T120000
DTSTAMP:20260424T000224
CREATED:20251225T085331Z
LAST-MODIFIED:20251225T085331Z
UID:10833-1769945400-1769947200@tobeboundless.com
SUMMARY:skinny jeans workout
DESCRIPTION:Get back in your skinny jeans! This class combines varing levels of intensity with core conditioning to work every inch of your body. Feel confident wearing your skinny jeans (or shorts) and sleeveless tops year round.
URL:https://tobeboundless.com/event/skinny-jeans-workout-17/
LOCATION:3930 Utah St.\, San Diego\, Ca 92104\, 3930 Utah St\, San Diego\, CA\, 92104\, United States
ATTACH;FMTTYPE=image/jpeg:https://tobeboundless.com/wp-content/uploads/2023/11/skinny-jeans-workout-scaled.jpg
END:VEVENT
BEGIN:VEVENT
DTSTART;TZID=America/Los_Angeles:20260201T120000
DTEND;TZID=America/Los_Angeles:20260201T123000
DTSTAMP:20260424T000224
CREATED:20251028T105537Z
LAST-MODIFIED:20251225T081822Z
UID:10495-1769947200-1769949000@tobeboundless.com
SUMMARY:hips & splits
DESCRIPTION:Hips & Splits. Stiff hip got you down? This hip mobility class is the perfect “fix” to chase those nagging aches and pains away before they become a real problem. 30 minutes\, 2 times a week is recommended to get the job done.
URL:https://tobeboundless.com/event/hips-splits-11/
LOCATION:3930 Utah St.\, San Diego\, Ca 92104\, 3930 Utah St\, San Diego\, CA\, 92104\, United States
ORGANIZER;CN="Boundless Women's Fitness":MAILTO:tobeboundless@gmail.com
END:VEVENT
BEGIN:VEVENT
DTSTART;TZID=America/Los_Angeles:20260201T160000
DTEND;TZID=America/Los_Angeles:20260201T163000
DTSTAMP:20260424T000224
CREATED:20251225T095637Z
LAST-MODIFIED:20251225T095637Z
UID:11025-1769961600-1769963400@tobeboundless.com
SUMMARY:Pilates magic
DESCRIPTION:Pilates magic combines core exercises fused with dynamic stretches to eliminate daily stiffness and muscle tension.
URL:https://tobeboundless.com/event/pilates-magic-29/
LOCATION:3930 Utah St.\, San Diego\, Ca 92104\, 3930 Utah St\, San Diego\, CA\, 92104\, United States
ATTACH;FMTTYPE=image/jpeg:https://tobeboundless.com/wp-content/uploads/2023/08/IMG_20181205_195956-1-scaled.jpg
END:VEVENT
BEGIN:VEVENT
DTSTART;TZID=UTC:20260201T163000
DTEND;TZID=UTC:20260201T170000
DTSTAMP:20260424T000224
CREATED:20251227T044054Z
LAST-MODIFIED:20251227T044054Z
UID:11265-1769963400-1769965200@tobeboundless.com
SUMMARY:Ooh La La Legs
DESCRIPTION:Build strength to last a lifetime and gorgeous legs all while improving brain power and bone health.
URL:https://tobeboundless.com/event/ooh-la-la-legs-25/
LOCATION:3930 Utah St.\, San Diego\, Ca 92104\, 3930 Utah St\, San Diego\, CA\, 92104\, United States
ORGANIZER;CN="Boundless Women's Fitness":MAILTO:tobeboundless@gmail.com
END:VEVENT
BEGIN:VEVENT
DTSTART;TZID=America/Los_Angeles:20260202T090000
DTEND;TZID=America/Los_Angeles:20260202T093000
DTSTAMP:20260424T000224
CREATED:20250820T054704Z
LAST-MODIFIED:20251222T100622Z
UID:9655-1770022800-1770024600@tobeboundless.com
SUMMARY:Pilates body
DESCRIPTION:Pilates body is a low-impact strength training class that’s guaranteed to wake-up your sleepy abs and lifts your little butt.
URL:https://tobeboundless.com/event/pilates-body-11/
LOCATION:3930 Utah St.\, San Diego\, Ca 92104\, 3930 Utah St\, San Diego\, CA\, 92104\, United States
END:VEVENT
BEGIN:VEVENT
DTSTART;TZID=UTC:20260202T093000
DTEND;TZID=UTC:20260202T100000
DTSTAMP:20260424T000224
CREATED:20251226T040704Z
LAST-MODIFIED:20251226T040704Z
UID:11058-1770024600-1770026400@tobeboundless.com
SUMMARY:don't stop\, won't stop
DESCRIPTION:Unlock the power of movement that lasts a lifetime. If you want to keep your feet knees & hip joints strong\, flexible\, and pain free. This mobility-focused class will build resilience in your joints\, improve your balance\, and match your “no quit attitude”. Whether your chasing longevity\, preventing injury\, or you simply want to move with confidence\, this class is all about celebrating what your body can do.
URL:https://tobeboundless.com/event/dont-stop-wont-stop-5/
LOCATION:3930 Utah St.\, San Diego\, Ca 92104\, 3930 Utah St\, San Diego\, CA\, 92104\, United States
ORGANIZER;CN="Boundless Women's Fitness":MAILTO:tobeboundless@gmail.com
END:VEVENT
BEGIN:VEVENT
DTSTART;TZID=UTC:20260202T100000
DTEND;TZID=UTC:20260202T103000
DTSTAMP:20260424T000224
CREATED:20251027T034637Z
LAST-MODIFIED:20251226T050529Z
UID:10434-1770026400-1770028200@tobeboundless.com
SUMMARY:form & function
DESCRIPTION:Focus on form and proper execution of each exercise to build real strenth that last a lifetime
URL:https://tobeboundless.com/event/form-function-12/
LOCATION:3930 Utah St.\, San Diego\, Ca 92104\, 3930 Utah St\, San Diego\, CA\, 92104\, United States
ORGANIZER;CN="Boundless Women's Fitness":MAILTO:tobeboundless@gmail.com
END:VEVENT
BEGIN:VEVENT
DTSTART;TZID=UTC:20260202T110000
DTEND;TZID=UTC:20260202T113000
DTSTAMP:20260424T000224
CREATED:20250823T072412Z
LAST-MODIFIED:20251123T063955Z
UID:9832-1770030000-1770031800@tobeboundless.com
SUMMARY:power & flow
DESCRIPTION:Where Pilates meets strength training. This unique strength class combines pure power with an elegant flow to transform your body from head to toe.
URL:https://tobeboundless.com/event/power-flow-6/
LOCATION:3930 Utah St.\, San Diego\, Ca 92104\, 3930 Utah St\, San Diego\, CA\, 92104\, United States
ORGANIZER;CN="Boundless Women's Fitness":MAILTO:tobeboundless@gmail.com
END:VEVENT
BEGIN:VEVENT
DTSTART;TZID=UTC:20260202T170000
DTEND;TZID=UTC:20260202T173000
DTSTAMP:20260424T000224
CREATED:20251025T025032Z
LAST-MODIFIED:20251226T053039Z
UID:10409-1770051600-1770053400@tobeboundless.com
SUMMARY:flip the script
DESCRIPTION:Flip The Script is your answer to the daily grind. This zen-strength calss is the perfect “pick me up” to work every inch of your body.
URL:https://tobeboundless.com/event/flip-the-script-10/
LOCATION:3930 Utah St.\, San Diego\, Ca 92104\, 3930 Utah St\, San Diego\, CA\, 92104\, United States
ORGANIZER;CN="Boundless Women's Fitness":MAILTO:tobeboundless@gmail.com
END:VEVENT
BEGIN:VEVENT
DTSTART;TZID=UTC:20260202T173000
DTEND;TZID=UTC:20260202T180000
DTSTAMP:20260424T000224
CREATED:20251207T025834Z
LAST-MODIFIED:20251207T025834Z
UID:10736-1770053400-1770055200@tobeboundless.com
SUMMARY:strong & lean
DESCRIPTION:Strong and lean build lean muscle without the bulk. Burn body fat with great results. This is the class that gives you boundless energy and keeps you comig back for more.
URL:https://tobeboundless.com/event/strong-lean-32/
LOCATION:CA
END:VEVENT
BEGIN:VEVENT
DTSTART;TZID=America/Los_Angeles:20260202T180000
DTEND;TZID=America/Los_Angeles:20260202T183000
DTSTAMP:20260424T000224
CREATED:20251207T030543Z
LAST-MODIFIED:20251207T030557Z
UID:10749-1770055200-1770057000@tobeboundless.com
SUMMARY:hustle & flow
DESCRIPTION:hustle and flow is a 30 minute low impact workout\, high energy  strength and strength workout takes your core training to the next level.
URL:https://tobeboundless.com/event/hustle-flow-10/
LOCATION:3930 Utah St.\, San Diego\, Ca 92104\, 3930 Utah St\, San Diego\, CA\, 92104\, United States
END:VEVENT
BEGIN:VEVENT
DTSTART;TZID=UTC:20260203T060000
DTEND;TZID=UTC:20260203T063000
DTSTAMP:20260424T000224
CREATED:20251227T055148Z
LAST-MODIFIED:20251227T055213Z
UID:11288-1770098400-1770100200@tobeboundless.com
SUMMARY:Ooh La La Legs
DESCRIPTION:Build strength to last a lifetime and gorgeous legs all while improving brain power and bone health.
URL:https://tobeboundless.com/event/ooh-la-la-legs-36/
LOCATION:3930 Utah St.\, San Diego\, Ca 92104\, 3930 Utah St\, San Diego\, CA\, 92104\, United States
ORGANIZER;CN="Boundless Women's Fitness":MAILTO:tobeboundless@gmail.com
END:VEVENT
BEGIN:VEVENT
DTSTART;TZID=UTC:20260203T063000
DTEND;TZID=UTC:20260203T070000
DTSTAMP:20260424T000224
CREATED:20251207T071737Z
LAST-MODIFIED:20251227T040042Z
UID:10795-1770100200-1770102000@tobeboundless.com
SUMMARY:rise & stride
DESCRIPTION:Rise & Stride is the perfect intorduction to fitness for beginners who want to start with walk/run intervals or walking only. This supportive\, outdoor class combines fresh air\, accountability\, and community to help you build confidence and endurance at your own pace. Guided sessions make it easy to stay motivted while connecting with others who share  your goals. Whether you’re looking to improve  your health\, enjoy social  support\, or simply move more\, Rise & Stride offers a welcoming space to grow strong and stride forward.
URL:https://tobeboundless.com/event/rise-stride-5/
LOCATION:3930 Utah St.\, San Diego\, Ca 92104\, 3930 Utah St\, San Diego\, CA\, 92104\, United States
ORGANIZER;CN="Boundless Women's Fitness":MAILTO:tobeboundless@gmail.com
END:VEVENT
BEGIN:VEVENT
DTSTART;TZID=America/Los_Angeles:20260203T070000
DTEND;TZID=America/Los_Angeles:20260203T073000
DTSTAMP:20260424T000224
CREATED:20251227T061747Z
LAST-MODIFIED:20251227T061747Z
UID:11308-1770102000-1770103800@tobeboundless.com
SUMMARY:Hips & Splits
DESCRIPTION:Hips & Splits. Stiff hip got you down? This hip mobility class is the perfect “fix” to chase those nagging aches and pains away before they become a real problem. 30 minutes\, 2 times a week is recommended to get the job done.
URL:https://tobeboundless.com/event/hips-splits-30/
LOCATION:3930 Utah St.\, San Diego\, Ca 92104\, 3930 Utah St\, San Diego\, CA\, 92104\, United States
ORGANIZER;CN="Boundless Women's Fitness":MAILTO:tobeboundless@gmail.com
END:VEVENT
BEGIN:VEVENT
DTSTART;TZID=America/Los_Angeles:20260203T093000
DTEND;TZID=America/Los_Angeles:20260203T100000
DTSTAMP:20260424T000224
CREATED:20251027T041728Z
LAST-MODIFIED:20251228T071628Z
UID:10455-1770111000-1770112800@tobeboundless.com
SUMMARY:total body workout
DESCRIPTION:Total Body Workout is the “perfect pick me” up to work every inch of your body. So if the daily grind has got you down\, this workout has everything you need to boost your mood and put that pep back into your step.
URL:https://tobeboundless.com/event/total-body-workout-13/
LOCATION:3930 Utah St.\, San Diego\, Ca 92104\, 3930 Utah St\, San Diego\, CA\, 92104\, United States
END:VEVENT
BEGIN:VEVENT
DTSTART;TZID=UTC:20260204T143000
DTEND;TZID=UTC:20260204T150000
DTSTAMP:20260424T000224
CREATED:20251123T040215Z
LAST-MODIFIED:20251123T044308Z
UID:10628-1770215400-1770217200@tobeboundless.com
SUMMARY:Ooh La La Legs
DESCRIPTION:Build strength to last a lifetime and gorgeous legs all while improving brain power and bone health.
URL:https://tobeboundless.com/event/ooh-la-la-legs-7/
LOCATION:3930 Utah St.\, San Diego\, Ca 92104\, 3930 Utah St\, San Diego\, CA\, 92104\, United States
ORGANIZER;CN="Boundless Women's Fitness":MAILTO:tobeboundless@gmail.com
END:VEVENT
BEGIN:VEVENT
DTSTART;TZID=America/Los_Angeles:20260204T160000
DTEND;TZID=America/Los_Angeles:20260204T163000
DTSTAMP:20260424T000224
CREATED:20250706T054241Z
LAST-MODIFIED:20251207T032147Z
UID:9613-1770220800-1770222600@tobeboundless.com
SUMMARY:Pilates magic
DESCRIPTION:Pilates magic combines core exercises fused with dynamic stretches to eliminate daily stiffness and muscle tension.
URL:https://tobeboundless.com/event/pilates-magic-16/
LOCATION:3930 Utah St.\, San Diego\, Ca 92104\, 3930 Utah St\, San Diego\, CA\, 92104\, United States
ATTACH;FMTTYPE=image/jpeg:https://tobeboundless.com/wp-content/uploads/2023/08/IMG_20181205_195956-1-scaled.jpg
END:VEVENT
BEGIN:VEVENT
DTSTART;TZID=UTC:20260204T163000
DTEND;TZID=UTC:20260204T170000
DTSTAMP:20260424T000224
CREATED:20251207T040934Z
LAST-MODIFIED:20251207T040934Z
UID:10764-1770222600-1770224400@tobeboundless.com
SUMMARY:form & function
DESCRIPTION:Focus on form and proper execution of each exercise to build real strenth that last a lifetime
URL:https://tobeboundless.com/event/form-function-28/
LOCATION:3930 Utah St.\, San Diego\, Ca 92104\, 3930 Utah St\, San Diego\, CA\, 92104\, United States
ORGANIZER;CN="Boundless Women's Fitness":MAILTO:tobeboundless@gmail.com
END:VEVENT
BEGIN:VEVENT
DTSTART;TZID=America/Los_Angeles:20260204T170000
DTEND;TZID=America/Los_Angeles:20260204T173000
DTSTAMP:20260424T000224
CREATED:20251207T051150Z
LAST-MODIFIED:20251222T085313Z
UID:10773-1770224400-1770226200@tobeboundless.com
SUMMARY:hips & splits
DESCRIPTION:Hips & Splits. Stiff hip got you down? This hip mobility class is the perfect “fix” to chase those nagging aches and pains away before they become a real problem. 30 minutes\, 2 times a week is recommended to get the job done.
URL:https://tobeboundless.com/event/hips-splits-21/
LOCATION:3930 Utah St.\, San Diego\, Ca 92104\, 3930 Utah St\, San Diego\, CA\, 92104\, United States
ORGANIZER;CN="Boundless Women's Fitness":MAILTO:tobeboundless@gmail.com
END:VEVENT
BEGIN:VEVENT
DTSTART;TZID=America/Los_Angeles:20260204T173000
DTEND;TZID=America/Los_Angeles:20260204T180000
DTSTAMP:20260424T000224
CREATED:20240622T053642Z
LAST-MODIFIED:20251207T053220Z
UID:7914-1770226200-1770228000@tobeboundless.com
SUMMARY:skinny jeans workout
DESCRIPTION:Get back in your skinny jeans! This class combines varing levels of intensity with core conditioning to work every inch of your body. Feel confident wearing your skinny jeans (or shorts) and sleeveless tops year round.
URL:https://tobeboundless.com/event/skinny-jeans-workout-5/
LOCATION:3930 Utah St.\, San Diego\, Ca 92104\, 3930 Utah St\, San Diego\, CA\, 92104\, United States
ATTACH;FMTTYPE=image/jpeg:https://tobeboundless.com/wp-content/uploads/2023/11/skinny-jeans-workout-scaled.jpg
END:VEVENT
BEGIN:VEVENT
DTSTART;TZID=UTC:20260205T060000
DTEND;TZID=UTC:20260205T063000
DTSTAMP:20260424T000224
CREATED:20251226T095507Z
LAST-MODIFIED:20251226T095507Z
UID:11179-1770271200-1770273000@tobeboundless.com
SUMMARY:rise & stride
DESCRIPTION:Rise & Stride is the perfect intorduction to fitness for beginners who want to start with walk/run intervals or walking only. This supportive\, outdoor class combines fresh air\, accountability\, and community to help you build confidence and endurance at your own pace. Guided sessions make it easy to stay motivted while connecting with others who share  your goals. Whether you’re looking to improve  your health\, enjoy social  support\, or simply move more\, Rise & Stride offers a welcoming space to grow strong and stride forward.
URL:https://tobeboundless.com/event/rise-stride-17/
LOCATION:3930 Utah St.\, San Diego\, Ca 92104\, 3930 Utah St\, San Diego\, CA\, 92104\, United States
ORGANIZER;CN="Boundless Women's Fitness":MAILTO:tobeboundless@gmail.com
END:VEVENT
BEGIN:VEVENT
DTSTART;TZID=UTC:20260205T063000
DTEND;TZID=UTC:20260205T070000
DTSTAMP:20260424T000224
CREATED:20251226T042944Z
LAST-MODIFIED:20251226T042944Z
UID:11076-1770273000-1770274800@tobeboundless.com
SUMMARY:don't stop\, won't stop
DESCRIPTION:Unlock the power of movement that lasts a lifetime. If you want to keep your feet knees & hip joints strong\, flexible\, and pain free. This mobility-focused class will build resilience in your joints\, improve your balance\, and match your “no quit attitude”. Whether your chasing longevity\, preventing injury\, or you simply want to move with confidence\, this class is all about celebrating what your body can do.
URL:https://tobeboundless.com/event/dont-stop-wont-stop-17/
LOCATION:3930 Utah St.\, San Diego\, Ca 92104\, 3930 Utah St\, San Diego\, CA\, 92104\, United States
ORGANIZER;CN="Boundless Women's Fitness":MAILTO:tobeboundless@gmail.com
END:VEVENT
BEGIN:VEVENT
DTSTART;TZID=UTC:20260205T070000
DTEND;TZID=UTC:20260205T073000
DTSTAMP:20260424T000224
CREATED:20251226T100723Z
LAST-MODIFIED:20251226T100723Z
UID:11196-1770274800-1770276600@tobeboundless.com
SUMMARY:flip the script
DESCRIPTION:Flip The Script is your answer to the daily grind. This zen-strength calss is the perfect “pick me up” to work every inch of your body.
URL:https://tobeboundless.com/event/flip-the-script-19/
LOCATION:3930 Utah St.\, San Diego\, Ca 92104\, 3930 Utah St\, San Diego\, CA\, 92104\, United States
ORGANIZER;CN="Boundless Women's Fitness":MAILTO:tobeboundless@gmail.com
END:VEVENT
END:VCALENDAR