BEGIN:VCALENDAR
VERSION:2.0
PRODID:-//Boundless  - fitness studio for women in North Park, San Diego - ECPv6.15.20//NONSGML v1.0//EN
CALSCALE:GREGORIAN
METHOD:PUBLISH
X-WR-CALNAME:Boundless  - fitness studio for women in North Park, San Diego
X-ORIGINAL-URL:https://tobeboundless.com
X-WR-CALDESC:Events for Boundless  - fitness studio for women in North Park, San Diego
REFRESH-INTERVAL;VALUE=DURATION:PT1H
X-Robots-Tag:noindex
X-PUBLISHED-TTL:PT1H
BEGIN:VTIMEZONE
TZID:UTC
BEGIN:STANDARD
TZOFFSETFROM:+0000
TZOFFSETTO:+0000
TZNAME:UTC
DTSTART:20230101T000000
END:STANDARD
END:VTIMEZONE
BEGIN:VTIMEZONE
TZID:America/Los_Angeles
BEGIN:DAYLIGHT
TZOFFSETFROM:-0800
TZOFFSETTO:-0700
TZNAME:PDT
DTSTART:20230312T100000
END:DAYLIGHT
BEGIN:STANDARD
TZOFFSETFROM:-0700
TZOFFSETTO:-0800
TZNAME:PST
DTSTART:20231105T090000
END:STANDARD
BEGIN:DAYLIGHT
TZOFFSETFROM:-0800
TZOFFSETTO:-0700
TZNAME:PDT
DTSTART:20240310T100000
END:DAYLIGHT
BEGIN:STANDARD
TZOFFSETFROM:-0700
TZOFFSETTO:-0800
TZNAME:PST
DTSTART:20241103T090000
END:STANDARD
BEGIN:DAYLIGHT
TZOFFSETFROM:-0800
TZOFFSETTO:-0700
TZNAME:PDT
DTSTART:20250309T100000
END:DAYLIGHT
BEGIN:STANDARD
TZOFFSETFROM:-0700
TZOFFSETTO:-0800
TZNAME:PST
DTSTART:20251102T090000
END:STANDARD
BEGIN:DAYLIGHT
TZOFFSETFROM:-0800
TZOFFSETTO:-0700
TZNAME:PDT
DTSTART:20260308T100000
END:DAYLIGHT
BEGIN:STANDARD
TZOFFSETFROM:-0700
TZOFFSETTO:-0800
TZNAME:PST
DTSTART:20261101T090000
END:STANDARD
END:VTIMEZONE
BEGIN:VEVENT
DTSTART;TZID=UTC:20250113T090000
DTEND;TZID=UTC:20250113T095000
DTSTAMP:20260424T094456
CREATED:20241211T074054Z
LAST-MODIFIED:20241224T233356Z
UID:8630-1736758800-1736761800@tobeboundless.com
SUMMARY:baby & me - zen workout
DESCRIPTION:This unique Pilates and yoga class is the perfect opportunity to bond with your baby\, focus on strengthening your core\, safely\, toning muscles muscles\, increasing your flexibility\, and reducing your cortisol levels and connecting with other moms and their little one. 3-8 months.
URL:https://tobeboundless.com/event/baby-me-piloga/
LOCATION:3930 Utah St.\, San Diego\, Ca 92104\, 3930 Utah St\, San Diego\, CA\, 92104\, United States
ORGANIZER;CN="Boundless Women's Fitness":MAILTO:tobeboundless@gmail.com
END:VEVENT
BEGIN:VEVENT
DTSTART;TZID=America/Los_Angeles:20250108T180000
DTEND;TZID=America/Los_Angeles:20250108T183000
DTSTAMP:20260424T094456
CREATED:20240622T034650Z
LAST-MODIFIED:20241126T142838Z
UID:7860-1736359200-1736361000@tobeboundless.com
SUMMARY:lean body workout
DESCRIPTION:This body rock’n\, ab smoke’n\, low impact class melts belly fat and tones you to the core. Lean Body Workout gets you in great shape.
URL:https://tobeboundless.com/event/lean-body-workout-15/
LOCATION:3930 Utah St.\, San Diego\, Ca 92104\, 3930 Utah St\, San Diego\, CA\, 92104\, United States
ORGANIZER;CN="Boundless Women's Fitness":MAILTO:tobeboundless@gmail.com
END:VEVENT
BEGIN:VEVENT
DTSTART;TZID=America/Los_Angeles:20250108T160000
DTEND;TZID=America/Los_Angeles:20250108T163000
DTSTAMP:20260424T094456
CREATED:20240609T082303Z
LAST-MODIFIED:20241123T052732Z
UID:7695-1736352000-1736353800@tobeboundless.com
SUMMARY:prehab
DESCRIPTION:Avoid surgery with Prehab. If you can spare 30 minutes\, 2 times a week\, then this class is your path to pain free living.
URL:https://tobeboundless.com/event/prehab-8/
LOCATION:3930 Utah St.\, San Diego\, Ca 92104\, 3930 Utah St\, San Diego\, CA\, 92104\, United States
END:VEVENT
BEGIN:VEVENT
DTSTART;TZID=America/Los_Angeles:20250105T060000
DTEND;TZID=America/Los_Angeles:20250105T120000
DTSTAMP:20260424T094456
CREATED:20240526T071925Z
LAST-MODIFIED:20250226T082028Z
UID:7514-1736056800-1736078400@tobeboundless.com
SUMMARY:women’s outdoor hikes
DESCRIPTION:Our scenic women’s outdoor hiking groups explore San Diego’s beautiful backcountry. It’s a moving meditation for women who love the outdoors\, enjoy walking and communing with nature while connecting with new friends as they get in shape.
URL:https://tobeboundless.com/event/womens-outdoor-hikes-2/
LOCATION:3930 Utah St.\, San Diego\, Ca 92104\, 3930 Utah St\, San Diego\, CA\, 92104\, United States
ATTACH;FMTTYPE=image/jpeg:https://tobeboundless.com/wp-content/uploads/2022/06/Iron-Mountain-scaled.jpg
END:VEVENT
BEGIN:VEVENT
DTSTART;TZID=America/Los_Angeles:20250101T180000
DTEND;TZID=America/Los_Angeles:20250101T183000
DTSTAMP:20260424T094456
CREATED:20240921T042019Z
LAST-MODIFIED:20250226T083814Z
UID:8256-1735754400-1735756200@tobeboundless.com
SUMMARY:lean body workout
DESCRIPTION:This body rock’n\, ab smoke’n\, low impact class melts belly fat and tones you to the core. Lean Body Workout gets you in great shape.
URL:https://tobeboundless.com/event/lean-body-workout-7/
LOCATION:3930 Utah St.\, San Diego\, Ca 92104\, 3930 Utah St\, San Diego\, CA\, 92104\, United States
ORGANIZER;CN="Boundless Women's Fitness":MAILTO:tobeboundless@gmail.com
END:VEVENT
BEGIN:VEVENT
DTSTART;TZID=America/Los_Angeles:20241229T170000
DTEND;TZID=America/Los_Angeles:20241229T173000
DTSTAMP:20260424T094456
CREATED:20240608T081403Z
LAST-MODIFIED:20241126T124723Z
UID:7690-1735491600-1735493400@tobeboundless.com
SUMMARY:Piloga
DESCRIPTION:Piloga is the perfect union of core strength and mobility.
URL:https://tobeboundless.com/event/piloga-2/
LOCATION:3930 Utah St.\, San Diego\, Ca 92104\, 3930 Utah St\, San Diego\, CA\, 92104\, United States
END:VEVENT
BEGIN:VEVENT
DTSTART;TZID=UTC:20241229T160000
DTEND;TZID=UTC:20241229T163000
DTSTAMP:20260424T094456
CREATED:20240928T065537Z
LAST-MODIFIED:20241126T120815Z
UID:8408-1735488000-1735489800@tobeboundless.com
SUMMARY:acroyoga
DESCRIPTION:Acroyoga is a fun-filled\, laugh-out-loud\, stretch class is guaranteed to eliminate joint stiffness\, daily muscle aches and chase away the “blues”. \n 
URL:https://tobeboundless.com/event/acroyoga-7/
LOCATION:3930 Utah St.\, San Diego\, Ca 92104\, 3930 Utah St\, San Diego\, CA\, 92104\, United States
ATTACH;FMTTYPE=image/jpeg:https://tobeboundless.com/wp-content/uploads/2022/10/20200217_210312-1.jpg
ORGANIZER;CN="Boundless Women's Fitness":MAILTO:tobeboundless@gmail.com
END:VEVENT
BEGIN:VEVENT
DTSTART;TZID=America/Los_Angeles:20241222T170000
DTEND;TZID=America/Los_Angeles:20241222T173000
DTSTAMP:20260424T094456
CREATED:20240528T042900Z
LAST-MODIFIED:20241126T124558Z
UID:7622-1734886800-1734888600@tobeboundless.com
SUMMARY:Piloga
DESCRIPTION:Piloga is the perfect union of core strength and mobility.
URL:https://tobeboundless.com/event/piloga-7/
LOCATION:3930 Utah St.\, San Diego\, Ca 92104\, 3930 Utah St\, San Diego\, CA\, 92104\, United States
END:VEVENT
BEGIN:VEVENT
DTSTART;TZID=America/Los_Angeles:20241222T163000
DTEND;TZID=America/Los_Angeles:20241222T170000
DTSTAMP:20260424T094456
CREATED:20240612T005522Z
LAST-MODIFIED:20241126T124204Z
UID:7787-1734885000-1734886800@tobeboundless.com
SUMMARY:prehab
DESCRIPTION:Avoid surgery with Prehab. If you can spare 30 minutes\, 2 times a week\, then this class is your path to pain free living.
URL:https://tobeboundless.com/event/prehab-11/
LOCATION:3930 Utah St.\, San Diego\, Ca 92104\, 3930 Utah St\, San Diego\, CA\, 92104\, United States
END:VEVENT
BEGIN:VEVENT
DTSTART;TZID=UTC:20241222T160000
DTEND;TZID=UTC:20241222T163000
DTSTAMP:20260424T094456
CREATED:20240928T065809Z
LAST-MODIFIED:20241126T120743Z
UID:8419-1734883200-1734885000@tobeboundless.com
SUMMARY:acroyoga
DESCRIPTION:Acroyoga is a fun-filled\, laugh-out-loud\, stretch class is guaranteed to eliminate stiff joints\, daily muscle aches and chase away the “blues”. \n 
URL:https://tobeboundless.com/event/acroyoga-8/
LOCATION:3930 Utah St.\, San Diego\, Ca 92104\, 3930 Utah St\, San Diego\, CA\, 92104\, United States
ATTACH;FMTTYPE=image/jpeg:https://tobeboundless.com/wp-content/uploads/2022/10/20200217_210312-1.jpg
ORGANIZER;CN="Boundless Women's Fitness":MAILTO:tobeboundless@gmail.com
END:VEVENT
BEGIN:VEVENT
DTSTART;TZID=UTC:20241219T120000
DTEND;TZID=UTC:20241219T123000
DTSTAMP:20260424T094456
CREATED:20240928T065849Z
LAST-MODIFIED:20241123T060927Z
UID:8418-1734609600-1734611400@tobeboundless.com
SUMMARY:acroyoga
DESCRIPTION:Acroyoga is a fun-filled\, laugh-out-loud\, stretch class is guaranteed to eliminate stiff joint\, daily muscle aches and chase away the “blues”. \n 
URL:https://tobeboundless.com/event/acroyoga-9/
LOCATION:3930 Utah St.\, San Diego\, Ca 92104\, 3930 Utah St\, San Diego\, CA\, 92104\, United States
ATTACH;FMTTYPE=image/jpeg:https://tobeboundless.com/wp-content/uploads/2022/10/20200217_210312-1.jpg
ORGANIZER;CN="Boundless Women's Fitness":MAILTO:tobeboundless@gmail.com
END:VEVENT
BEGIN:VEVENT
DTSTART;TZID=UTC:20241218T190000
DTEND;TZID=UTC:20241218T193000
DTSTAMP:20260424T094456
CREATED:20240611T073208Z
LAST-MODIFIED:20241123T053314Z
UID:7762-1734548400-1734550200@tobeboundless.com
SUMMARY:lean body workout
DESCRIPTION:lean body workout is a strength class that builds your strength  as you trim your belly and tone your tighs.
URL:https://tobeboundless.com/event/lean-body-workout-3/
LOCATION:3930 Utah St.\, San Diego\, Ca 92104\, 3930 Utah St\, San Diego\, CA\, 92104\, United States
END:VEVENT
BEGIN:VEVENT
DTSTART;TZID=America/Los_Angeles:20241215T170000
DTEND;TZID=America/Los_Angeles:20241215T173000
DTSTAMP:20260424T094456
CREATED:20240608T075401Z
LAST-MODIFIED:20241126T123857Z
UID:7669-1734282000-1734283800@tobeboundless.com
SUMMARY:Piloga
DESCRIPTION:Piloga is the perfect union of core strength and mobility.
URL:https://tobeboundless.com/event/piloga-6/
LOCATION:3930 Utah St.\, San Diego\, Ca 92104\, 3930 Utah St\, San Diego\, CA\, 92104\, United States
END:VEVENT
BEGIN:VEVENT
DTSTART;TZID=UTC:20241215T160000
DTEND;TZID=UTC:20241215T163000
DTSTAMP:20260424T094456
CREATED:20241027T043915Z
LAST-MODIFIED:20241126T120652Z
UID:8436-1734278400-1734280200@tobeboundless.com
SUMMARY:acroyoga
DESCRIPTION:Acroyoga is a fun-filled\, laugh-out-loud\, stretch class is guaranteed to eliminate stiff joint\, daily muscle aches and chase away the “blues”. \n 
URL:https://tobeboundless.com/event/acroyoga-19/
LOCATION:3930 Utah St.\, San Diego\, Ca 92104\, 3930 Utah St\, San Diego\, CA\, 92104\, United States
ATTACH;FMTTYPE=image/jpeg:https://tobeboundless.com/wp-content/uploads/2022/10/20200217_210312-1.jpg
ORGANIZER;CN="Boundless Women's Fitness":MAILTO:tobeboundless@gmail.com
END:VEVENT
BEGIN:VEVENT
DTSTART;TZID=UTC:20241212T120000
DTEND;TZID=UTC:20241212T123000
DTSTAMP:20260424T094456
CREATED:20240928T045531Z
LAST-MODIFIED:20241123T060709Z
UID:8381-1734004800-1734006600@tobeboundless.com
SUMMARY:acroyoga
DESCRIPTION:Acroyoga is a fun-filled\, laugh-out-loud\, stretch class is guaranteed to eliminate stiff joints\, daily muscle aches and chase away the “blues”. \n 
URL:https://tobeboundless.com/event/acroyoga/
LOCATION:3930 Utah St.\, San Diego\, Ca 92104\, 3930 Utah St\, San Diego\, CA\, 92104\, United States
ATTACH;FMTTYPE=image/jpeg:https://tobeboundless.com/wp-content/uploads/2022/10/20200217_210312-1.jpg
ORGANIZER;CN="Boundless Women's Fitness":MAILTO:tobeboundless@gmail.com
END:VEVENT
BEGIN:VEVENT
DTSTART;TZID=UTC:20241211T190000
DTEND;TZID=UTC:20241211T193000
DTSTAMP:20260424T094456
CREATED:20240609T115347Z
LAST-MODIFIED:20241123T053235Z
UID:7702-1733943600-1733945400@tobeboundless.com
SUMMARY:lean body workout
DESCRIPTION:lean body workout is a strength class that builds your strength  as you trim your belly and tone your tighs.
URL:https://tobeboundless.com/event/lean-body-workout-2/
LOCATION:3930 Utah St.\, San Diego\, Ca 92104\, 3930 Utah St\, San Diego\, CA\, 92104\, United States
END:VEVENT
BEGIN:VEVENT
DTSTART;TZID=America/Los_Angeles:20241208T173000
DTEND;TZID=America/Los_Angeles:20241208T180000
DTSTAMP:20260424T094456
CREATED:20240622T065641Z
LAST-MODIFIED:20241027T042526Z
UID:7949-1733679000-1733680800@tobeboundless.com
SUMMARY:Piloga
DESCRIPTION:Piloga is the perfect union of core strength and mobility.
URL:https://tobeboundless.com/event/piloga-5/
LOCATION:3930 Utah St.\, San Diego\, Ca 92104\, 3930 Utah St\, San Diego\, CA\, 92104\, United States
END:VEVENT
BEGIN:VEVENT
DTSTART;TZID=UTC:20241205T120000
DTEND;TZID=UTC:20241205T123000
DTSTAMP:20260424T094456
CREATED:20241020T005259Z
LAST-MODIFIED:20241020T012037Z
UID:8559-1733400000-1733401800@tobeboundless.com
SUMMARY:acroyoga
DESCRIPTION:Acroyoga is a fun-filled\, laugh-out-loud\, stretch class is guaranteed to eliminate stiff joint\, daily muscle aches and chase away the “blues”. \n 
URL:https://tobeboundless.com/event/acroyoga-13/
LOCATION:3930 Utah St.\, San Diego\, Ca 92104\, 3930 Utah St\, San Diego\, CA\, 92104\, United States
ATTACH;FMTTYPE=image/jpeg:https://tobeboundless.com/wp-content/uploads/2022/10/20200217_210312-1.jpg
ORGANIZER;CN="Boundless Women's Fitness":MAILTO:tobeboundless@gmail.com
END:VEVENT
BEGIN:VEVENT
DTSTART;TZID=America/Los_Angeles:20241204T180000
DTEND;TZID=America/Los_Angeles:20241204T183000
DTSTAMP:20260424T094456
CREATED:20240622T054457Z
LAST-MODIFIED:20241123T064145Z
UID:7920-1733335200-1733337000@tobeboundless.com
SUMMARY:lean body workout
DESCRIPTION:This body rock’n\, ab smoke’n\, low impact class melts belly fat and tones you to the core. Lean Body Workout gets you in great shape.
URL:https://tobeboundless.com/event/lean-body-workout-14/
LOCATION:3930 Utah St.\, San Diego\, Ca 92104\, 3930 Utah St\, San Diego\, CA\, 92104\, United States
ATTACH;FMTTYPE=image/jpeg:https://tobeboundless.com/wp-content/uploads/2023/11/The-Spanks-Workout.jpg
ORGANIZER;CN="Boundless Women's Fitness":MAILTO:tobeboundless@gmail.com
END:VEVENT
BEGIN:VEVENT
DTSTART;TZID=America/Los_Angeles:20241127T180000
DTEND;TZID=America/Los_Angeles:20241127T183000
DTSTAMP:20260424T094456
CREATED:20240522T005840Z
LAST-MODIFIED:20241013T121622Z
UID:7480-1732730400-1732732200@tobeboundless.com
SUMMARY:lean body workout
DESCRIPTION:This body rock’n\, ab smoke’n\, low impact class melts belly fat and tones you to the core. Lean Body Workout gets you in great shape.
URL:https://tobeboundless.com/event/lean-body-workout-11/
LOCATION:3930 Utah St.\, San Diego\, Ca 92104\, 3930 Utah St\, San Diego\, CA\, 92104\, United States
ATTACH;FMTTYPE=image/jpeg:https://tobeboundless.com/wp-content/uploads/2023/11/The-Spanks-Workout.jpg
ORGANIZER;CN="Boundless Women's Fitness":MAILTO:tobeboundless@gmail.com
END:VEVENT
BEGIN:VEVENT
DTSTART;TZID=America/Los_Angeles:20241127T160000
DTEND;TZID=America/Los_Angeles:20241127T163000
DTSTAMP:20260424T094456
CREATED:20240601T074123Z
LAST-MODIFIED:20240926T080652Z
UID:7630-1732723200-1732725000@tobeboundless.com
SUMMARY:prehab
DESCRIPTION:Avoid surgery with Prehab. If you can spare 30 minutes\, 2 times a week\, then this class is your path to pain free living.
URL:https://tobeboundless.com/event/prehab-3/
LOCATION:3930 Utah St.\, San Diego\, Ca 92104\, 3930 Utah St\, San Diego\, CA\, 92104\, United States
ORGANIZER;CN="Boundless Women's Fitness":MAILTO:tobeboundless@gmail.com
END:VEVENT
BEGIN:VEVENT
DTSTART;TZID=America/Los_Angeles:20241125T103000
DTEND;TZID=America/Los_Angeles:20241125T110000
DTSTAMP:20260424T094456
CREATED:20241020T001629Z
LAST-MODIFIED:20241020T001848Z
UID:8547-1732530600-1732532400@tobeboundless.com
SUMMARY:pole yoga
DESCRIPTION:pole yoga is the zen workout that tones you from head to toe. Flex\, stretch\, bend\, lift\, breathe\, twist and move your body in every posible direction.
URL:https://tobeboundless.com/event/pole-yoga-4/
LOCATION:3930 Utah St.\, San Diego\, Ca 92104\, 3930 Utah St\, San Diego\, CA\, 92104\, United States
END:VEVENT
BEGIN:VEVENT
DTSTART;TZID=America/Los_Angeles:20241124T173000
DTEND;TZID=America/Los_Angeles:20241124T180000
DTSTAMP:20260424T094456
CREATED:20241020T020611Z
LAST-MODIFIED:20241027T042312Z
UID:8580-1732469400-1732471200@tobeboundless.com
SUMMARY:Piloga
DESCRIPTION:Piloga is the perfect union of core strength and mobility.
URL:https://tobeboundless.com/event/piloga-8/
LOCATION:3930 Utah St.\, San Diego\, Ca 92104\, 3930 Utah St\, San Diego\, CA\, 92104\, United States
END:VEVENT
BEGIN:VEVENT
DTSTART;TZID=UTC:20241124T163000
DTEND;TZID=UTC:20241124T170000
DTSTAMP:20260424T094456
CREATED:20241020T012505Z
LAST-MODIFIED:20241027T043024Z
UID:8573-1732465800-1732467600@tobeboundless.com
SUMMARY:acroyoga
DESCRIPTION:Acroyoga is a fun-filled\, laugh-out-loud\, stretch class is guaranteed to eliminate stiff joint\, daily muscle aches and chase away the “blues”. \n 
URL:https://tobeboundless.com/event/acroyoga-16/
LOCATION:3930 Utah St.\, San Diego\, Ca 92104\, 3930 Utah St\, San Diego\, CA\, 92104\, United States
ATTACH;FMTTYPE=image/jpeg:https://tobeboundless.com/wp-content/uploads/2022/10/20200217_210312-1.jpg
ORGANIZER;CN="Boundless Women's Fitness":MAILTO:tobeboundless@gmail.com
END:VEVENT
BEGIN:VEVENT
DTSTART;TZID=America/Los_Angeles:20241121T170000
DTEND;TZID=America/Los_Angeles:20241121T173000
DTSTAMP:20260424T094456
CREATED:20240612T012130Z
LAST-MODIFIED:20241020T005622Z
UID:7821-1732208400-1732210200@tobeboundless.com
SUMMARY:the spanks workout
DESCRIPTION:The Spanks Workout is the “perfect pick me” up to work every inch of your body. So if the daily grind has got you down\, this workout has everything you need to boost your mood and put that pep back into your step.
URL:https://tobeboundless.com/event/the-spanks-workout-4/
LOCATION:3930 Utah St.\, San Diego\, Ca 92104\, 3930 Utah St\, San Diego\, CA\, 92104\, United States
END:VEVENT
BEGIN:VEVENT
DTSTART;TZID=UTC:20241121T120000
DTEND;TZID=UTC:20241121T123000
DTSTAMP:20260424T094456
CREATED:20241020T005221Z
LAST-MODIFIED:20241020T005221Z
UID:8560-1732190400-1732192200@tobeboundless.com
SUMMARY:acroyoga
DESCRIPTION:Acroyoga is a fun-filled\, laugh-out-loud\, stretch class is guaranteed to eliminate stiff joint\, daily muscle aches and chase away the “blues”. \n 
URL:https://tobeboundless.com/event/acroyoga-12/
LOCATION:3930 Utah St.\, San Diego\, Ca 92104\, 3930 Utah St\, San Diego\, CA\, 92104\, United States
ATTACH;FMTTYPE=image/jpeg:https://tobeboundless.com/wp-content/uploads/2022/10/20200217_210312-1.jpg
ORGANIZER;CN="Boundless Women's Fitness":MAILTO:tobeboundless@gmail.com
END:VEVENT
BEGIN:VEVENT
DTSTART;TZID=America/Los_Angeles:20241120T180000
DTEND;TZID=America/Los_Angeles:20241120T183000
DTSTAMP:20260424T094456
CREATED:20240721T181134Z
LAST-MODIFIED:20241013T115922Z
UID:8103-1732125600-1732127400@tobeboundless.com
SUMMARY:lean body workout
DESCRIPTION:This body rock’n\, ab smoke’n\, low impact class melts belly fat and tones you to the core. Lean Body Workout gets you in great shape.
URL:https://tobeboundless.com/event/lean-body-workout-13/
LOCATION:3930 Utah St.\, San Diego\, Ca 92104\, 3930 Utah St\, San Diego\, CA\, 92104\, United States
ATTACH;FMTTYPE=image/jpeg:https://tobeboundless.com/wp-content/uploads/2023/11/The-Spanks-Workout.jpg
ORGANIZER;CN="Boundless Women's Fitness":MAILTO:tobeboundless@gmail.com
END:VEVENT
BEGIN:VEVENT
DTSTART;TZID=America/Los_Angeles:20241120T160000
DTEND;TZID=America/Los_Angeles:20241120T163000
DTSTAMP:20260424T094456
CREATED:20240608T075013Z
LAST-MODIFIED:20240926T080506Z
UID:7663-1732118400-1732120200@tobeboundless.com
SUMMARY:prehab
DESCRIPTION:Avoid surgery with Prehab. If you can spare 30 minutes\, 2 times a week\, then this class is your path to pain free living.
URL:https://tobeboundless.com/event/prehab-4/
LOCATION:3930 Utah St.\, San Diego\, Ca 92104\, 3930 Utah St\, San Diego\, CA\, 92104\, United States
END:VEVENT
BEGIN:VEVENT
DTSTART;TZID=America/Los_Angeles:20241118T103000
DTEND;TZID=America/Los_Angeles:20241118T110000
DTSTAMP:20260424T094456
CREATED:20240622T040533Z
LAST-MODIFIED:20241020T001519Z
UID:7871-1731925800-1731927600@tobeboundless.com
SUMMARY:pole yoga
DESCRIPTION:Pole yoga is the zen workout that tones you from head to toe. Flex\, stretch\, bend\, lift\, breathe\, twist and move your body in every posible direction.
URL:https://tobeboundless.com/event/pole-yoga-2-2/
LOCATION:3930 Utah St.\, San Diego\, Ca 92104\, 3930 Utah St\, San Diego\, CA\, 92104\, United States
END:VEVENT
BEGIN:VEVENT
DTSTART;TZID=America/Los_Angeles:20241117T173000
DTEND;TZID=America/Los_Angeles:20241117T180000
DTSTAMP:20260424T094456
CREATED:20240608T080251Z
LAST-MODIFIED:20241027T042432Z
UID:7674-1731864600-1731866400@tobeboundless.com
SUMMARY:Piloga
DESCRIPTION:Piloga is a Pilates/yoga mat class\, that uplifts & motivates. Piloga sculpts your upper body\, flatten\, your abs\, strengthens and firms up your legs.
URL:https://tobeboundless.com/event/piloga-4/
LOCATION:3930 Utah St.\, San Diego\, Ca 92104\, 3930 Utah St\, San Diego\, CA\, 92104\, United States
END:VEVENT
END:VCALENDAR