BEGIN:VCALENDAR
VERSION:2.0
PRODID:-//Boundless  - fitness studio for women in North Park, San Diego - ECPv6.15.20//NONSGML v1.0//EN
CALSCALE:GREGORIAN
METHOD:PUBLISH
X-WR-CALNAME:Boundless  - fitness studio for women in North Park, San Diego
X-ORIGINAL-URL:https://tobeboundless.com
X-WR-CALDESC:Events for Boundless  - fitness studio for women in North Park, San Diego
REFRESH-INTERVAL;VALUE=DURATION:PT1H
X-Robots-Tag:noindex
X-PUBLISHED-TTL:PT1H
BEGIN:VTIMEZONE
TZID:UTC
BEGIN:STANDARD
TZOFFSETFROM:+0000
TZOFFSETTO:+0000
TZNAME:UTC
DTSTART:20250101T000000
END:STANDARD
END:VTIMEZONE
BEGIN:VTIMEZONE
TZID:America/Los_Angeles
BEGIN:DAYLIGHT
TZOFFSETFROM:-0800
TZOFFSETTO:-0700
TZNAME:PDT
DTSTART:20250309T100000
END:DAYLIGHT
BEGIN:STANDARD
TZOFFSETFROM:-0700
TZOFFSETTO:-0800
TZNAME:PST
DTSTART:20251102T090000
END:STANDARD
BEGIN:DAYLIGHT
TZOFFSETFROM:-0800
TZOFFSETTO:-0700
TZNAME:PDT
DTSTART:20260308T100000
END:DAYLIGHT
BEGIN:STANDARD
TZOFFSETFROM:-0700
TZOFFSETTO:-0800
TZNAME:PST
DTSTART:20261101T090000
END:STANDARD
BEGIN:DAYLIGHT
TZOFFSETFROM:-0800
TZOFFSETTO:-0700
TZNAME:PDT
DTSTART:20270314T100000
END:DAYLIGHT
BEGIN:STANDARD
TZOFFSETFROM:-0700
TZOFFSETTO:-0800
TZNAME:PST
DTSTART:20271107T090000
END:STANDARD
END:VTIMEZONE
BEGIN:VEVENT
DTSTART;TZID=UTC:20260318T143000
DTEND;TZID=UTC:20260318T150000
DTSTAMP:20260423T212103
CREATED:20251227T050628Z
LAST-MODIFIED:20260221T020104Z
UID:11286-1773844200-1773846000@tobeboundless.com
SUMMARY:Ooh La La Legs
DESCRIPTION:Build strength to last a lifetime and gorgeous legs all while improving brain power and bone health.
URL:https://tobeboundless.com/event/ooh-la-la-legs-35/
LOCATION:3930 Utah St.\, San Diego\, Ca 92104\, 3930 Utah St\, San Diego\, CA\, 92104\, United States
ORGANIZER;CN="Boundless Women's Fitness":MAILTO:tobeboundless@gmail.com
END:VEVENT
BEGIN:VEVENT
DTSTART;TZID=America/Los_Angeles:20260318T160000
DTEND;TZID=America/Los_Angeles:20260318T163000
DTSTAMP:20260423T212103
CREATED:20251028T103949Z
LAST-MODIFIED:20260221T084546Z
UID:10486-1773849600-1773851400@tobeboundless.com
SUMMARY:Pilates magic
DESCRIPTION:Pilates magic combines core exercises fused with dynamic stretches to eliminate daily stiffness and muscle tension.
URL:https://tobeboundless.com/event/pilates-magic-22/
LOCATION:3930 Utah St.\, San Diego\, Ca 92104\, 3930 Utah St\, San Diego\, CA\, 92104\, United States
ATTACH;FMTTYPE=image/jpeg:https://tobeboundless.com/wp-content/uploads/2023/08/IMG_20181205_195956-1-scaled.jpg
END:VEVENT
BEGIN:VEVENT
DTSTART;TZID=UTC:20260318T163000
DTEND;TZID=UTC:20260318T170000
DTSTAMP:20260423T212103
CREATED:20260223T075103Z
LAST-MODIFIED:20260223T075130Z
UID:12064-1773851400-1773853200@tobeboundless.com
SUMMARY:form & function
DESCRIPTION:Focus on form and proper execution of each exercise to build real strenth that last a lifetime
URL:https://tobeboundless.com/event/form-function-39/
LOCATION:3930 Utah St.\, San Diego\, Ca 92104\, 3930 Utah St\, San Diego\, CA\, 92104\, United States
ORGANIZER;CN="Boundless Women's Fitness":MAILTO:tobeboundless@gmail.com
END:VEVENT
BEGIN:VEVENT
DTSTART;TZID=America/Los_Angeles:20260318T170000
DTEND;TZID=America/Los_Angeles:20260318T173000
DTSTAMP:20260423T212103
CREATED:20260301T065219Z
LAST-MODIFIED:20260301T065219Z
UID:12108-1773853200-1773855000@tobeboundless.com
SUMMARY:hips & splits
DESCRIPTION:Hips & Splits. Stiff hip got you down? This hip mobility class is the perfect “fix” to chase those nagging aches and pains away before they become a real problem. 30 minutes\, 2 times a week is recommended to get the job done.
URL:https://tobeboundless.com/event/hips-splits-40/
LOCATION:3930 Utah St.\, San Diego\, Ca 92104\, 3930 Utah St\, San Diego\, CA\, 92104\, United States
ORGANIZER;CN="Boundless Women's Fitness":MAILTO:tobeboundless@gmail.com
END:VEVENT
BEGIN:VEVENT
DTSTART;TZID=America/Los_Angeles:20260318T173000
DTEND;TZID=America/Los_Angeles:20260318T180000
DTSTAMP:20260423T212103
CREATED:20260301T070631Z
LAST-MODIFIED:20260301T070640Z
UID:12127-1773855000-1773856800@tobeboundless.com
SUMMARY:skinny jeans workout
DESCRIPTION:Get back in your skinny jeans! This class combines varing levels of intensity with core conditioning to work every inch of your body. Feel confident wearing your skinny jeans (or shorts) and sleeveless tops year round.
URL:https://tobeboundless.com/event/skinny-jeans-workout-26/
LOCATION:3930 Utah St.\, San Diego\, Ca 92104\, 3930 Utah St\, San Diego\, CA\, 92104\, United States
ATTACH;FMTTYPE=image/jpeg:https://tobeboundless.com/wp-content/uploads/2023/11/skinny-jeans-workout-scaled.jpg
END:VEVENT
BEGIN:VEVENT
DTSTART;TZID=UTC:20260319T060000
DTEND;TZID=UTC:20260319T063000
DTSTAMP:20260423T212103
CREATED:20260301T074204Z
LAST-MODIFIED:20260301T074224Z
UID:12142-1773900000-1773901800@tobeboundless.com
SUMMARY:rise & stride
DESCRIPTION:Rise & Stride is the perfect intorduction to fitness for beginners who want to start with walk/run intervals or walking only. This supportive\, outdoor class combines fresh air\, accountability\, and community to help you build confidence and endurance at your own pace. Guided sessions make it easy to stay motivted while connecting with others who share  your goals. Whether you’re looking to improve  your health\, enjoy social  support\, or simply move more\, Rise & Stride offers a welcoming space to grow strong and stride forward.
URL:https://tobeboundless.com/event/rise-stride-24/
LOCATION:3930 Utah St.\, San Diego\, Ca 92104\, 3930 Utah St\, San Diego\, CA\, 92104\, United States
ORGANIZER;CN="Boundless Women's Fitness":MAILTO:tobeboundless@gmail.com
END:VEVENT
BEGIN:VEVENT
DTSTART;TZID=UTC:20260319T063000
DTEND;TZID=UTC:20260319T070000
DTSTAMP:20260423T212103
CREATED:20251226T043704Z
LAST-MODIFIED:20251226T043704Z
UID:11081-1773901800-1773903600@tobeboundless.com
SUMMARY:don't stop\, won't stop
DESCRIPTION:Unlock the power of movement that lasts a lifetime. If you want to keep your feet knees & hip joints strong\, flexible\, and pain free. This mobility-focused class will build resilience in your joints\, improve your balance\, and match your “no quit attitude”. Whether your chasing longevity\, preventing injury\, or you simply want to move with confidence\, this class is all about celebrating what your body can do.
URL:https://tobeboundless.com/event/dont-stop-wont-stop-23/
LOCATION:3930 Utah St.\, San Diego\, Ca 92104\, 3930 Utah St\, San Diego\, CA\, 92104\, United States
ORGANIZER;CN="Boundless Women's Fitness":MAILTO:tobeboundless@gmail.com
END:VEVENT
BEGIN:VEVENT
DTSTART;TZID=UTC:20260319T070000
DTEND;TZID=UTC:20260319T073000
DTSTAMP:20260423T212103
CREATED:20260301T080537Z
LAST-MODIFIED:20260301T080537Z
UID:12155-1773903600-1773905400@tobeboundless.com
SUMMARY:flip the script
DESCRIPTION:Flip The Script is your answer to the daily grind. This zen-strength calss is the perfect “pick me up” to work every inch of your body.
URL:https://tobeboundless.com/event/flip-the-script-25/
LOCATION:3930 Utah St.\, San Diego\, Ca 92104\, 3930 Utah St\, San Diego\, CA\, 92104\, United States
ORGANIZER;CN="Boundless Women's Fitness":MAILTO:tobeboundless@gmail.com
END:VEVENT
BEGIN:VEVENT
DTSTART;TZID=UTC:20260319T090000
DTEND;TZID=UTC:20260319T093000
DTSTAMP:20260423T212103
CREATED:20251123T030407Z
LAST-MODIFIED:20251226T085007Z
UID:10602-1773910800-1773912600@tobeboundless.com
SUMMARY:strong & lean
DESCRIPTION:Strong and lean build lean muscle without the bulk. Burn body fat with great results. This is the class that gives you boundless energy and keeps you comig back for more.
URL:https://tobeboundless.com/event/strong-lean-18/
LOCATION:CA
END:VEVENT
BEGIN:VEVENT
DTSTART;TZID=UTC:20260319T093000
DTEND;TZID=UTC:20260319T100000
DTSTAMP:20260423T212103
CREATED:20260301T083409Z
LAST-MODIFIED:20260301T083409Z
UID:12172-1773912600-1773914400@tobeboundless.com
SUMMARY:power & flow
DESCRIPTION:Where Pilates meets strength training. This unique strength class combines pure power with an elegant flow to transform your body from head to toe.
URL:https://tobeboundless.com/event/power-flow-43/
LOCATION:3930 Utah St.\, San Diego\, Ca 92104\, 3930 Utah St\, San Diego\, CA\, 92104\, United States
ORGANIZER;CN="Boundless Women's Fitness":MAILTO:tobeboundless@gmail.com
END:VEVENT
BEGIN:VEVENT
DTSTART;TZID=UTC:20260319T100000
DTEND;TZID=UTC:20260319T105000
DTSTAMP:20260423T212103
CREATED:20251123T053752Z
LAST-MODIFIED:20260131T075134Z
UID:10680-1773914400-1773917400@tobeboundless.com
SUMMARY:brilliant & resilient
DESCRIPTION:Are your stiff shoulders keeping you from doing the things you love? This resilient upper body strength and mobility class is the perfect fix to chase those nagging aches and pains away before they become a real problem.  All you need is 30 minutes\, 2 times a week\, to get the job done.
URL:https://tobeboundless.com/event/brilliant-resilient-4/
LOCATION:3930 Utah St.\, San Diego\, Ca 92104\, 3930 Utah St\, San Diego\, CA\, 92104\, United States
ORGANIZER;CN="Boundless Women's Fitness":MAILTO:tobeboundless@gmail.com
END:VEVENT
BEGIN:VEVENT
DTSTART;TZID=UTC:20260319T120000
DTEND;TZID=UTC:20260319T125000
DTSTAMP:20260423T212103
CREATED:20260301T084407Z
LAST-MODIFIED:20260301T084912Z
UID:12194-1773921600-1773924600@tobeboundless.com
SUMMARY:nurture & align
DESCRIPTION:Nurture & Align is a sacred space to soften\, restore\, and reconnect.\nThis gentle Pilates-based practice is designed to support hormonal balance and nervous system regulation through mindful movement\, breath\, and embodied presence. Whether you’re preparing to conceive\, healing from stress\, or simply seeking deeper alignment with your body’s rhythms\, Nurture & Align invites you to root into calm and bloom from within.
URL:https://tobeboundless.com/event/nurture-align-15/
LOCATION:3930 Utah St.\, San Diego\, Ca 92104\, 3930 Utah St\, San Diego\, CA\, 92104\, United States
ORGANIZER;CN="Boundless Women's Fitness":MAILTO:tobeboundless@gmail.com
END:VEVENT
BEGIN:VEVENT
DTSTART;TZID=America/Los_Angeles:20260319T170000
DTEND;TZID=America/Los_Angeles:20260319T173000
DTSTAMP:20260423T212103
CREATED:20260304T065335Z
LAST-MODIFIED:20260304T065349Z
UID:12206-1773939600-1773941400@tobeboundless.com
SUMMARY:total body workout
DESCRIPTION:Total Body Workout is the “perfect pick me” up to work every inch of your body. So if the daily grind has got you down\, this workout has everything you need to boost your mood and put that pep back into your step.
URL:https://tobeboundless.com/event/total-body-workout-22/
LOCATION:3930 Utah St.\, San Diego\, Ca 92104\, 3930 Utah St\, San Diego\, CA\, 92104\, United States
ORGANIZER;CN="Boundless Women's Fitness":MAILTO:tobeboundless@gmail.com
END:VEVENT
BEGIN:VEVENT
DTSTART;TZID=UTC:20260319T173000
DTEND;TZID=UTC:20260319T180000
DTSTAMP:20260423T212103
CREATED:20251226T104306Z
LAST-MODIFIED:20260304T070338Z
UID:11210-1773941400-1773943200@tobeboundless.com
SUMMARY:defy impossible
DESCRIPTION:Stop fighting for strength. Build it. Defy Impossible targets the muscles women are rarely taught to activate — so you get stronger\, faster\, and with way more confidence. \n 
URL:https://tobeboundless.com/event/defy-impossible-3/
LOCATION:3930 Utah St.\, San Diego\, Ca 92104\, 3930 Utah St\, San Diego\, CA\, 92104\, United States
ORGANIZER;CN="Boundless Women's Fitness":MAILTO:tobeboundless@gmail.com
END:VEVENT
BEGIN:VEVENT
DTSTART;TZID=UTC:20260319T180000
DTEND;TZID=UTC:20260319T183000
DTSTAMP:20260423T212103
CREATED:20251227T022253Z
LAST-MODIFIED:20251227T022253Z
UID:11235-1773943200-1773945000@tobeboundless.com
SUMMARY:Ooh La La Legs
DESCRIPTION:Build strength to last a lifetime and gorgeous legs all while improving brain power and bone health.
URL:https://tobeboundless.com/event/ooh-la-la-legs-21/
LOCATION:3930 Utah St.\, San Diego\, Ca 92104\, 3930 Utah St\, San Diego\, CA\, 92104\, United States
ORGANIZER;CN="Boundless Women's Fitness":MAILTO:tobeboundless@gmail.com
END:VEVENT
BEGIN:VEVENT
DTSTART;TZID=UTC:20260322T090000
DTEND;TZID=UTC:20260322T093000
DTSTAMP:20260423T212103
CREATED:20251207T071043Z
LAST-MODIFIED:20251207T071043Z
UID:10807-1774170000-1774171800@tobeboundless.com
SUMMARY:baby bump Pilates
DESCRIPTION:Baby Bump builds strength and endurance during pregnancy and re-build your core strength after your baby is born.
URL:https://tobeboundless.com/event/baby-bump-pilates-15/
LOCATION:3930 Utah St.\, San Diego\, Ca 92104\, 3930 Utah St\, San Diego\, CA\, 92104\, United States
ATTACH;FMTTYPE=image/jpeg:https://tobeboundless.com/wp-content/uploads/2024/07/20240229_180056-scaled.jpg
ORGANIZER;CN="Boundless Women's Fitness":MAILTO:tobeboundless@gmail.com
END:VEVENT
BEGIN:VEVENT
DTSTART;TZID=UTC:20260322T100000
DTEND;TZID=UTC:20260322T103000
DTSTAMP:20260423T212103
CREATED:20251207T074737Z
LAST-MODIFIED:20260204T180257Z
UID:10710-1774173600-1774175400@tobeboundless.com
SUMMARY:power & flow
DESCRIPTION:Where Pilates meets strength training. This unique strength class combines pure power with an elegant flow to transform your body from head to toe.
URL:https://tobeboundless.com/event/power-flow-26/
LOCATION:3930 Utah St.\, San Diego\, Ca 92104\, 3930 Utah St\, San Diego\, CA\, 92104\, United States
ORGANIZER;CN="Boundless Women's Fitness":MAILTO:tobeboundless@gmail.com
END:VEVENT
BEGIN:VEVENT
DTSTART;TZID=UTC:20260322T103000
DTEND;TZID=UTC:20260322T110000
DTSTAMP:20260423T212103
CREATED:20251225T091216Z
LAST-MODIFIED:20260204T175528Z
UID:10973-1774175400-1774177200@tobeboundless.com
SUMMARY:strong & lean
DESCRIPTION:Strong and lean build lean muscle without the bulk. Burn body fat with great results. This is the class that gives you boundless energy and keeps you comig back for more.
URL:https://tobeboundless.com/event/strong-lean-47/
LOCATION:CA
END:VEVENT
BEGIN:VEVENT
DTSTART;TZID=America/Los_Angeles:20260322T110000
DTEND;TZID=America/Los_Angeles:20260322T113000
DTSTAMP:20260423T212103
CREATED:20251225T085955Z
LAST-MODIFIED:20260204T175018Z
UID:10963-1774177200-1774179000@tobeboundless.com
SUMMARY:skinny jeans workout
DESCRIPTION:Get back in your skinny jeans! This class combines varing levels of intensity with core conditioning to work every inch of your body. Feel confident wearing your skinny jeans (or shorts) and sleeveless tops year round.
URL:https://tobeboundless.com/event/skinny-jeans-workout-23/
LOCATION:3930 Utah St.\, San Diego\, Ca 92104\, 3930 Utah St\, San Diego\, CA\, 92104\, United States
ATTACH;FMTTYPE=image/jpeg:https://tobeboundless.com/wp-content/uploads/2023/11/skinny-jeans-workout-scaled.jpg
END:VEVENT
BEGIN:VEVENT
DTSTART;TZID=America/Los_Angeles:20260322T113000
DTEND;TZID=America/Los_Angeles:20260322T120000
DTSTAMP:20260423T212103
CREATED:20251225T082559Z
LAST-MODIFIED:20260204T174346Z
UID:10931-1774179000-1774180800@tobeboundless.com
SUMMARY:hips & splits
DESCRIPTION:Hips & Splits. Stiff hip got you down? This hip mobility class is the perfect “fix” to chase those nagging aches and pains away before they become a real problem. 30 minutes\, 2 times a week is recommended to get the job done.
URL:https://tobeboundless.com/event/hips-splits-25/
LOCATION:3930 Utah St.\, San Diego\, Ca 92104\, 3930 Utah St\, San Diego\, CA\, 92104\, United States
ORGANIZER;CN="Boundless Women's Fitness":MAILTO:tobeboundless@gmail.com
END:VEVENT
BEGIN:VEVENT
DTSTART;TZID=America/Los_Angeles:20260322T120000
DTEND;TZID=America/Los_Angeles:20260322T123000
DTSTAMP:20260423T212103
CREATED:20260204T173350Z
LAST-MODIFIED:20260204T173350Z
UID:11978-1774180800-1774182600@tobeboundless.com
SUMMARY:nurture & align
DESCRIPTION:Nurture & Align is a sacred space to soften\, restore\, and reconnect.\nThis gentle Pilates-based practice is designed to support hormonal balance and nervous system regulation through mindful movement\, breath\, and embodied presence. Whether you’re preparing to conceive\, healing from stress\, or simply seeking deeper alignment with your body’s rhythms\, Nurture & Align invites you to root into calm and bloom from within.
URL:https://tobeboundless.com/event/nurture-align-11/
LOCATION:3930 Utah St.\, San Diego\, Ca 92104\, 3930 Utah St\, San Diego\, CA\, 92104\, United States
ORGANIZER;CN="Boundless Women's Fitness":MAILTO:tobeboundless@gmail.com
END:VEVENT
BEGIN:VEVENT
DTSTART;TZID=America/Los_Angeles:20260322T160000
DTEND;TZID=America/Los_Angeles:20260322T163000
DTSTAMP:20260423T212103
CREATED:20251225T100126Z
LAST-MODIFIED:20251225T100139Z
UID:11034-1774195200-1774197000@tobeboundless.com
SUMMARY:Pilates magic
DESCRIPTION:Pilates magic combines core exercises fused with dynamic stretches to eliminate daily stiffness and muscle tension.
URL:https://tobeboundless.com/event/pilates-magic-35/
LOCATION:3930 Utah St.\, San Diego\, Ca 92104\, 3930 Utah St\, San Diego\, CA\, 92104\, United States
ATTACH;FMTTYPE=image/jpeg:https://tobeboundless.com/wp-content/uploads/2023/08/IMG_20181205_195956-1-scaled.jpg
END:VEVENT
BEGIN:VEVENT
DTSTART;TZID=UTC:20260322T163000
DTEND;TZID=UTC:20260322T170000
DTSTAMP:20260423T212103
CREATED:20251227T044833Z
LAST-MODIFIED:20251227T044853Z
UID:11269-1774197000-1774198800@tobeboundless.com
SUMMARY:Ooh La La Legs
DESCRIPTION:Build strength to last a lifetime and gorgeous legs all while improving brain power and bone health.
URL:https://tobeboundless.com/event/ooh-la-la-legs-31/
LOCATION:3930 Utah St.\, San Diego\, Ca 92104\, 3930 Utah St\, San Diego\, CA\, 92104\, United States
ORGANIZER;CN="Boundless Women's Fitness":MAILTO:tobeboundless@gmail.com
END:VEVENT
BEGIN:VEVENT
DTSTART;TZID=America/Los_Angeles:20260323T090000
DTEND;TZID=America/Los_Angeles:20260323T093000
DTSTAMP:20260423T212103
CREATED:20250913T090320Z
LAST-MODIFIED:20251222T100154Z
UID:10041-1774256400-1774258200@tobeboundless.com
SUMMARY:Pilates body
DESCRIPTION:Pilates body is a low-impact\, strength training class that’s guaranteed to wake-up your sleepy abs and lifts your little butt.
URL:https://tobeboundless.com/event/pilates-body-18/
LOCATION:3930 Utah St.\, San Diego\, Ca 92104\, 3930 Utah St\, San Diego\, CA\, 92104\, United States
ORGANIZER;CN="Boundless Women's Fitness":MAILTO:tobeboundless@gmail.com
END:VEVENT
BEGIN:VEVENT
DTSTART;TZID=UTC:20260323T093000
DTEND;TZID=UTC:20260323T100000
DTSTAMP:20260423T212103
CREATED:20251226T041214Z
LAST-MODIFIED:20251226T041214Z
UID:11050-1774258200-1774260000@tobeboundless.com
SUMMARY:don't stop\, won't stop
DESCRIPTION:Unlock the power of movement that lasts a lifetime. If you want to keep your feet knees & hip joints strong\, flexible\, and pain free. This mobility-focused class will build resilience in your joints\, improve your balance\, and match your “no quit attitude”. Whether your chasing longevity\, preventing injury\, or you simply want to move with confidence\, this class is all about celebrating what your body can do.
URL:https://tobeboundless.com/event/dont-stop-wont-stop-12/
LOCATION:3930 Utah St.\, San Diego\, Ca 92104\, 3930 Utah St\, San Diego\, CA\, 92104\, United States
ORGANIZER;CN="Boundless Women's Fitness":MAILTO:tobeboundless@gmail.com
END:VEVENT
BEGIN:VEVENT
DTSTART;TZID=UTC:20260323T100000
DTEND;TZID=UTC:20260323T103000
DTSTAMP:20260423T212103
CREATED:20251226T051118Z
LAST-MODIFIED:20251226T051118Z
UID:11096-1774260000-1774261800@tobeboundless.com
SUMMARY:form & function
DESCRIPTION:Focus on form and proper execution of each exercise to build real strenth that last a lifetime
URL:https://tobeboundless.com/event/form-function-35/
LOCATION:3930 Utah St.\, San Diego\, Ca 92104\, 3930 Utah St\, San Diego\, CA\, 92104\, United States
ORGANIZER;CN="Boundless Women's Fitness":MAILTO:tobeboundless@gmail.com
END:VEVENT
BEGIN:VEVENT
DTSTART;TZID=UTC:20260323T110000
DTEND;TZID=UTC:20260323T113000
DTSTAMP:20260423T212103
CREATED:20251226T052513Z
LAST-MODIFIED:20251226T052513Z
UID:11110-1774263600-1774265400@tobeboundless.com
SUMMARY:power & flow
DESCRIPTION:Where Pilates meets strength training. This unique strength class combines pure power with an elegant flow to transform your body from head to toe.
URL:https://tobeboundless.com/event/power-flow-34/
LOCATION:3930 Utah St.\, San Diego\, Ca 92104\, 3930 Utah St\, San Diego\, CA\, 92104\, United States
ORGANIZER;CN="Boundless Women's Fitness":MAILTO:tobeboundless@gmail.com
END:VEVENT
BEGIN:VEVENT
DTSTART;TZID=UTC:20260323T170000
DTEND;TZID=UTC:20260323T173000
DTSTAMP:20260423T212103
CREATED:20251226T054126Z
LAST-MODIFIED:20251226T054126Z
UID:11122-1774285200-1774287000@tobeboundless.com
SUMMARY:flip the script
DESCRIPTION:Flip The Script is your answer to the daily grind. This zen-strength calss is the perfect “pick me up” to work every inch of your body.
URL:https://tobeboundless.com/event/flip-the-script-13/
LOCATION:3930 Utah St.\, San Diego\, Ca 92104\, 3930 Utah St\, San Diego\, CA\, 92104\, United States
ORGANIZER;CN="Boundless Women's Fitness":MAILTO:tobeboundless@gmail.com
END:VEVENT
BEGIN:VEVENT
DTSTART;TZID=UTC:20260323T173000
DTEND;TZID=UTC:20260323T180000
DTSTAMP:20260423T212103
CREATED:20251226T060031Z
LAST-MODIFIED:20251226T060031Z
UID:11130-1774287000-1774288800@tobeboundless.com
SUMMARY:strong & lean
DESCRIPTION:Strong and lean build lean muscle without the bulk. Burn body fat with great results. This is the class that gives you boundless energy and keeps you comig back for more.
URL:https://tobeboundless.com/event/strong-lean-50/
LOCATION:CA
END:VEVENT
BEGIN:VEVENT
DTSTART;TZID=America/Los_Angeles:20260323T180000
DTEND;TZID=America/Los_Angeles:20260323T183000
DTSTAMP:20260423T212103
CREATED:20251226T072547Z
LAST-MODIFIED:20251226T072547Z
UID:11142-1774288800-1774290600@tobeboundless.com
SUMMARY:hustle & flow
DESCRIPTION:hustle and flow is a 30 minute low impact workout\, high energy  strength and strength workout takes your core training to the next level.
URL:https://tobeboundless.com/event/hustle-flow-17/
LOCATION:3930 Utah St.\, San Diego\, Ca 92104\, 3930 Utah St\, San Diego\, CA\, 92104\, United States
END:VEVENT
END:VCALENDAR