BEGIN:VCALENDAR
VERSION:2.0
PRODID:-//Boundless  - fitness studio for women in North Park, San Diego - ECPv6.15.20//NONSGML v1.0//EN
CALSCALE:GREGORIAN
METHOD:PUBLISH
X-WR-CALNAME:Boundless  - fitness studio for women in North Park, San Diego
X-ORIGINAL-URL:https://tobeboundless.com
X-WR-CALDESC:Events for Boundless  - fitness studio for women in North Park, San Diego
REFRESH-INTERVAL;VALUE=DURATION:PT1H
X-Robots-Tag:noindex
X-PUBLISHED-TTL:PT1H
BEGIN:VTIMEZONE
TZID:UTC
BEGIN:STANDARD
TZOFFSETFROM:+0000
TZOFFSETTO:+0000
TZNAME:UTC
DTSTART:20240101T000000
END:STANDARD
END:VTIMEZONE
BEGIN:VTIMEZONE
TZID:America/Los_Angeles
BEGIN:DAYLIGHT
TZOFFSETFROM:-0800
TZOFFSETTO:-0700
TZNAME:PDT
DTSTART:20240310T100000
END:DAYLIGHT
BEGIN:STANDARD
TZOFFSETFROM:-0700
TZOFFSETTO:-0800
TZNAME:PST
DTSTART:20241103T090000
END:STANDARD
BEGIN:DAYLIGHT
TZOFFSETFROM:-0800
TZOFFSETTO:-0700
TZNAME:PDT
DTSTART:20250309T100000
END:DAYLIGHT
BEGIN:STANDARD
TZOFFSETFROM:-0700
TZOFFSETTO:-0800
TZNAME:PST
DTSTART:20251102T090000
END:STANDARD
BEGIN:DAYLIGHT
TZOFFSETFROM:-0800
TZOFFSETTO:-0700
TZNAME:PDT
DTSTART:20260308T100000
END:DAYLIGHT
BEGIN:STANDARD
TZOFFSETFROM:-0700
TZOFFSETTO:-0800
TZNAME:PST
DTSTART:20261101T090000
END:STANDARD
END:VTIMEZONE
BEGIN:VEVENT
DTSTART;TZID=UTC:20250501T173000
DTEND;TZID=UTC:20250501T182000
DTSTAMP:20260424T021640
CREATED:20240922T005511Z
LAST-MODIFIED:20250413T004207Z
UID:8326-1746120600-1746123600@tobeboundless.com
SUMMARY:prenatal Pilates
DESCRIPTION:Build strength and endurance with prenatal Pilates during pregnancy and re-build your core strength\, easily after your baby is born.
URL:https://tobeboundless.com/event/prenatal-pilates-15/
LOCATION:3930 Utah St.\, San Diego\, Ca 92104\, 3930 Utah St\, San Diego\, CA\, 92104\, United States
ATTACH;FMTTYPE=image/jpeg:https://tobeboundless.com/wp-content/uploads/2024/07/20240229_180056-scaled.jpg
ORGANIZER;CN="Boundless Women's Fitness":MAILTO:tobeboundless@gmail.com
END:VEVENT
BEGIN:VEVENT
DTSTART;TZID=America/Los_Angeles:20250504T100000
DTEND;TZID=America/Los_Angeles:20250504T105000
DTSTAMP:20260424T021640
CREATED:20250412T234921Z
LAST-MODIFIED:20250413T003209Z
UID:9186-1746352800-1746355800@tobeboundless.com
SUMMARY:prenatal Pilates
DESCRIPTION:Our prenatal Pilates classes are the best way to build core strength and balance while reducing mommy aches and muscle tension. Get fit at any stage of pregnancy and beyond.
URL:https://tobeboundless.com/event/prenatal-pilates-19/
LOCATION:3930 Utah St.\, San Diego\, Ca 92104\, 3930 Utah St\, San Diego\, CA\, 92104\, United States
ATTACH;FMTTYPE=image/jpeg:https://tobeboundless.com/wp-content/uploads/2024/07/20240229_180056-scaled.jpg
ORGANIZER;CN="Boundless Women's Fitness":MAILTO:tobeboundless@gmail.com
END:VEVENT
BEGIN:VEVENT
DTSTART;TZID=America/Los_Angeles:20250507T160000
DTEND;TZID=America/Los_Angeles:20250507T163000
DTSTAMP:20260424T021640
CREATED:20240629T082533Z
LAST-MODIFIED:20250329T044524Z
UID:7981-1746633600-1746635400@tobeboundless.com
SUMMARY:functional flexibility
DESCRIPTION:Functional Flexibility stops daily muscle aches & stiffness by building strength. If you can spare 30 minutes\, 2 times a week\, you’ll love the feeling.
URL:https://tobeboundless.com/event/functional-flexibility-4/
LOCATION:3930 Utah St.\, San Diego\, Ca 92104\, 3930 Utah St\, San Diego\, CA\, 92104\, United States
END:VEVENT
BEGIN:VEVENT
DTSTART;TZID=UTC:20250508T173000
DTEND;TZID=UTC:20250508T182000
DTSTAMP:20260424T021640
CREATED:20240922T005431Z
LAST-MODIFIED:20250413T004330Z
UID:8327-1746725400-1746728400@tobeboundless.com
SUMMARY:prenatal Pilates
DESCRIPTION:Build strength and endurance with prenatal Pilates during pregnancy and re-build your core strength\,easily after your baby is born.
URL:https://tobeboundless.com/event/prenatal-pilates-16/
LOCATION:3930 Utah St.\, San Diego\, Ca 92104\, 3930 Utah St\, San Diego\, CA\, 92104\, United States
ATTACH;FMTTYPE=image/jpeg:https://tobeboundless.com/wp-content/uploads/2024/07/20240229_180056-scaled.jpg
ORGANIZER;CN="Boundless Women's Fitness":MAILTO:tobeboundless@gmail.com
END:VEVENT
BEGIN:VEVENT
DTSTART;TZID=America/Los_Angeles:20250511T100000
DTEND;TZID=America/Los_Angeles:20250511T105000
DTSTAMP:20260424T021640
CREATED:20250413T002124Z
LAST-MODIFIED:20250413T003127Z
UID:9187-1746957600-1746960600@tobeboundless.com
SUMMARY:prenatal Pilates
DESCRIPTION:Our prenatal Pilates classes are the best way to build core strength and balance while reducing mommy aches and muscle tension. Get fit at any stage of pregnancy and beyond.
URL:https://tobeboundless.com/event/prenatal-pilates-20/
LOCATION:3930 Utah St.\, San Diego\, Ca 92104\, 3930 Utah St\, San Diego\, CA\, 92104\, United States
ATTACH;FMTTYPE=image/jpeg:https://tobeboundless.com/wp-content/uploads/2024/07/20240229_180056-scaled.jpg
ORGANIZER;CN="Boundless Women's Fitness":MAILTO:tobeboundless@gmail.com
END:VEVENT
BEGIN:VEVENT
DTSTART;TZID=America/Los_Angeles:20250514T160000
DTEND;TZID=America/Los_Angeles:20250514T163000
DTSTAMP:20260424T021640
CREATED:20240622T064852Z
LAST-MODIFIED:20250329T044620Z
UID:7947-1747238400-1747240200@tobeboundless.com
SUMMARY:functional flexibility
DESCRIPTION:Functional Flexibility stops daily muscle aches & stiffness by building strength. If you can spare 30 minutes\, 2 times a week\, you’ll love the feeling.
URL:https://tobeboundless.com/event/functional-flexibility-5/
LOCATION:3930 Utah St.\, San Diego\, Ca 92104\, 3930 Utah St\, San Diego\, CA\, 92104\, United States
END:VEVENT
BEGIN:VEVENT
DTSTART;TZID=UTC:20250515T173000
DTEND;TZID=UTC:20250515T182000
DTSTAMP:20260424T021640
CREATED:20240922T005357Z
LAST-MODIFIED:20250413T011741Z
UID:8328-1747330200-1747333200@tobeboundless.com
SUMMARY:prenatal Pilates
DESCRIPTION:Build strength and endurance with prenatal Pilates during pregnancy and re-build your core strength\, easily after your baby is born. \n 
URL:https://tobeboundless.com/event/prenatal-pilates-17/
LOCATION:3930 Utah St.\, San Diego\, Ca 92104\, 3930 Utah St\, San Diego\, CA\, 92104\, United States
ATTACH;FMTTYPE=image/jpeg:https://tobeboundless.com/wp-content/uploads/2024/07/20240229_180056-scaled.jpg
ORGANIZER;CN="Boundless Women's Fitness":MAILTO:tobeboundless@gmail.com
END:VEVENT
BEGIN:VEVENT
DTSTART;TZID=America/Los_Angeles:20250518T100000
DTEND;TZID=America/Los_Angeles:20250518T105000
DTSTAMP:20260424T021640
CREATED:20250413T002236Z
LAST-MODIFIED:20250413T003049Z
UID:9185-1747562400-1747565400@tobeboundless.com
SUMMARY:prenatal Pilates
DESCRIPTION:Our prenatal Pilates classes are the best way to build core strength and balance while reducing mommy aches and muscle tension. Get fit at any stage of pregnancy and beyond.
URL:https://tobeboundless.com/event/prenatal-pilates-21/
LOCATION:3930 Utah St.\, San Diego\, Ca 92104\, 3930 Utah St\, San Diego\, CA\, 92104\, United States
ATTACH;FMTTYPE=image/jpeg:https://tobeboundless.com/wp-content/uploads/2024/07/20240229_180056-scaled.jpg
ORGANIZER;CN="Boundless Women's Fitness":MAILTO:tobeboundless@gmail.com
END:VEVENT
BEGIN:VEVENT
DTSTART;TZID=UTC:20250521T160000
DTEND;TZID=UTC:20250521T163000
DTSTAMP:20260424T021640
CREATED:20241211T063027Z
LAST-MODIFIED:20250329T050114Z
UID:8624-1747843200-1747845000@tobeboundless.com
SUMMARY:functional flexibility
DESCRIPTION:Functional Flexibility stops daily muscle aches & stiffness by building strength. If you can spare 30 minutes\, 2 times a week\, you’ll love the feeling.
URL:https://tobeboundless.com/event/functional-flexibility-8/
LOCATION:3930 Utah St.\, San Diego\, Ca 92104\, 3930 Utah St\, San Diego\, CA\, 92104\, United States
ORGANIZER;CN="Boundless Women's Fitness":MAILTO:tobeboundless@gmail.com
END:VEVENT
BEGIN:VEVENT
DTSTART;TZID=UTC:20250528T160000
DTEND;TZID=UTC:20250528T163000
DTSTAMP:20260424T021640
CREATED:20250329T052018Z
LAST-MODIFIED:20250329T052018Z
UID:9135-1748448000-1748449800@tobeboundless.com
SUMMARY:functional flexibility
DESCRIPTION:Functional Flexibility stops daily muscle aches & stiffness by building strength. If you can spare 30 minutes\, 2 times a week\, you’ll love the feeling.
URL:https://tobeboundless.com/event/functional-flexibility-9/
LOCATION:3930 Utah St.\, San Diego\, Ca 92104\, 3930 Utah St\, San Diego\, CA\, 92104\, United States
ORGANIZER;CN="Boundless Women's Fitness":MAILTO:tobeboundless@gmail.com
END:VEVENT
BEGIN:VEVENT
DTSTART;TZID=America/Los_Angeles:20250530T060000
DTEND;TZID=America/Los_Angeles:20250530T120000
DTSTAMP:20260424T021640
CREATED:20240629T080726Z
LAST-MODIFIED:20250222T231531Z
UID:7959-1748584800-1748606400@tobeboundless.com
SUMMARY:women’s hikes
DESCRIPTION:Women’s hiking groups explore San Diego’s beautiful backcountry. It’s a moving meditation for women who love the outdoors\, enjoy walking and communing with nature while connecting with new friends as they get in shape.
URL:https://tobeboundless.com/event/womens-hikes-9/
LOCATION:3930 Utah St.\, San Diego\, Ca 92104\, 3930 Utah St\, San Diego\, CA\, 92104\, United States
ATTACH;FMTTYPE=image/jpeg:https://tobeboundless.com/wp-content/uploads/2024/04/IMG_20240105_095322848-scaled.jpg
ORGANIZER;CN="Boundless Women's Fitness":MAILTO:tobeboundless@gmail.com
END:VEVENT
END:VCALENDAR