BEGIN:VCALENDAR
VERSION:2.0
PRODID:-//Boundless  - fitness studio for women in North Park, San Diego - ECPv6.15.20//NONSGML v1.0//EN
CALSCALE:GREGORIAN
METHOD:PUBLISH
X-WR-CALNAME:Boundless  - fitness studio for women in North Park, San Diego
X-ORIGINAL-URL:https://tobeboundless.com
X-WR-CALDESC:Events for Boundless  - fitness studio for women in North Park, San Diego
REFRESH-INTERVAL;VALUE=DURATION:PT1H
X-Robots-Tag:noindex
X-PUBLISHED-TTL:PT1H
BEGIN:VTIMEZONE
TZID:UTC
BEGIN:STANDARD
TZOFFSETFROM:+0000
TZOFFSETTO:+0000
TZNAME:UTC
DTSTART:20240101T000000
END:STANDARD
END:VTIMEZONE
BEGIN:VEVENT
DTSTART;TZID=UTC:20250703T120000
DTEND;TZID=UTC:20250703T123000
DTSTAMP:20260423T234928
CREATED:20250629T013547Z
LAST-MODIFIED:20250629T013636Z
UID:9539-1751544000-1751545800@tobeboundless.com
SUMMARY:flat belly Pilates
DESCRIPTION:Flat Belly pilates combines mndfulness and intensity to flatten your belly.
URL:https://tobeboundless.com/event/flat-belly-pilates/
LOCATION:3930 Utah St.\, San Diego\, Ca 92104\, 3930 Utah St\, San Diego\, CA\, 92104\, United States
ORGANIZER;CN="Boundless Women's Fitness":MAILTO:tobeboundless@gmail.com
END:VEVENT
BEGIN:VEVENT
DTSTART;TZID=UTC:20250707T063000
DTEND;TZID=UTC:20250707T070000
DTSTAMP:20260423T234928
CREATED:20250412T001419Z
LAST-MODIFIED:20250528T004526Z
UID:9175-1751869800-1751871600@tobeboundless.com
SUMMARY:strength circuit
DESCRIPTION:Strength Circuit is a fun and effective strength & stretch class that’ll ease you into your day and keep you strong all week long.
URL:https://tobeboundless.com/event/strength-circuit-7/
LOCATION:3930 Utah St.\, San Diego\, Ca 92104\, 3930 Utah St\, San Diego\, CA\, 92104\, United States
ATTACH;FMTTYPE=image/jpeg:https://tobeboundless.com/wp-content/uploads/2024/08/20191113_191753-1-scaled.jpg
ORGANIZER;CN="Boundless Women's Fitness":MAILTO:tobeboundless@gmail.com
END:VEVENT
BEGIN:VEVENT
DTSTART;TZID=UTC:20250710T120000
DTEND;TZID=UTC:20250710T123000
DTSTAMP:20260423T234928
CREATED:20250629T014043Z
LAST-MODIFIED:20250629T014043Z
UID:9547-1752148800-1752150600@tobeboundless.com
SUMMARY:flat belly Pilates
DESCRIPTION:Flat Belly pilates combines mndfulness and intensity to flatten your belly.
URL:https://tobeboundless.com/event/flat-belly-pilates-2/
LOCATION:3930 Utah St.\, San Diego\, Ca 92104\, 3930 Utah St\, San Diego\, CA\, 92104\, United States
ORGANIZER;CN="Boundless Women's Fitness":MAILTO:tobeboundless@gmail.com
END:VEVENT
BEGIN:VEVENT
DTSTART;TZID=UTC:20250713T093000
DTEND;TZID=UTC:20250713T100000
DTSTAMP:20260423T234928
CREATED:20240622T044414Z
LAST-MODIFIED:20250626T075044Z
UID:7895-1752399000-1752400800@tobeboundless.com
SUMMARY:prenatal core strength
DESCRIPTION:Our prenatal classes are the best way to build core strength and balance while reducing mommy aches and muscle tension. Get fit at any stage of pregnancy and beyond.
URL:https://tobeboundless.com/event/prenatal-pilates-12/
LOCATION:3930 Utah St.\, San Diego\, Ca 92104\, 3930 Utah St\, San Diego\, CA\, 92104\, United States
ATTACH;FMTTYPE=image/jpeg:https://tobeboundless.com/wp-content/uploads/2024/07/20240229_180056-scaled.jpg
END:VEVENT
BEGIN:VEVENT
DTSTART;TZID=UTC:20250714T063000
DTEND;TZID=UTC:20250714T070000
DTSTAMP:20260423T234928
CREATED:20250412T001732Z
LAST-MODIFIED:20250528T004624Z
UID:9179-1752474600-1752476400@tobeboundless.com
SUMMARY:strength circuit
DESCRIPTION:Strength Circuit is a fun and effective strength & stretch class that’ll ease you into your day and keep you strong all week long.
URL:https://tobeboundless.com/event/strength-circuit-8/
LOCATION:3930 Utah St.\, San Diego\, Ca 92104\, 3930 Utah St\, San Diego\, CA\, 92104\, United States
ATTACH;FMTTYPE=image/jpeg:https://tobeboundless.com/wp-content/uploads/2025/04/IMG_2892.jpg
ORGANIZER;CN="Boundless Women's Fitness":MAILTO:tobeboundless@gmail.com
END:VEVENT
BEGIN:VEVENT
DTSTART;TZID=UTC:20250717T120000
DTEND;TZID=UTC:20250717T123000
DTSTAMP:20260423T234928
CREATED:20250629T014128Z
LAST-MODIFIED:20250629T014159Z
UID:9545-1752753600-1752755400@tobeboundless.com
SUMMARY:flat belly Pilates
DESCRIPTION:Flat Belly pilates combines mndfulness and intensity to flatten your belly.
URL:https://tobeboundless.com/event/flat-belly-pilates-3/
LOCATION:3930 Utah St.\, San Diego\, Ca 92104\, 3930 Utah St\, San Diego\, CA\, 92104\, United States
ORGANIZER;CN="Boundless Women's Fitness":MAILTO:tobeboundless@gmail.com
END:VEVENT
BEGIN:VEVENT
DTSTART;TZID=UTC:20250720T093000
DTEND;TZID=UTC:20250720T100000
DTSTAMP:20260423T234928
CREATED:20240622T044251Z
LAST-MODIFIED:20250626T075308Z
UID:7896-1753003800-1753005600@tobeboundless.com
SUMMARY:prenatal core strength
DESCRIPTION:This prenatal core strength class is  the best way to build strength and balance while reducing mommy aches and muscle tension. Get fit at any stage of pregnancy and beyond.
URL:https://tobeboundless.com/event/prenatal-pilates-11/
LOCATION:3930 Utah St.\, San Diego\, Ca 92104\, 3930 Utah St\, San Diego\, CA\, 92104\, United States
ATTACH;FMTTYPE=image/jpeg:https://tobeboundless.com/wp-content/uploads/2024/07/20240229_180056-scaled.jpg
ORGANIZER;CN="Boundless Women's Fitness":MAILTO:tobeboundless@gmail.com
END:VEVENT
BEGIN:VEVENT
DTSTART;TZID=UTC:20250721T063000
DTEND;TZID=UTC:20250721T070000
DTSTAMP:20260423T234928
CREATED:20250412T001828Z
LAST-MODIFIED:20250528T004917Z
UID:9180-1753079400-1753081200@tobeboundless.com
SUMMARY:strength circuit
DESCRIPTION:Strength Circuit is a fun and effective strength & stretch class that’ll ease you into your day and keep you strong all week long.
URL:https://tobeboundless.com/event/strength-circuit-9/
LOCATION:3930 Utah St.\, San Diego\, Ca 92104\, 3930 Utah St\, San Diego\, CA\, 92104\, United States
ATTACH;FMTTYPE=image/jpeg:https://tobeboundless.com/wp-content/uploads/2023/08/IMG_20181205_195956-1-scaled.jpg
ORGANIZER;CN="Boundless Women's Fitness":MAILTO:tobeboundless@gmail.com
END:VEVENT
BEGIN:VEVENT
DTSTART;TZID=UTC:20250724T120000
DTEND;TZID=UTC:20250724T123000
DTSTAMP:20260423T234928
CREATED:20250629T014240Z
LAST-MODIFIED:20250629T014255Z
UID:9546-1753358400-1753360200@tobeboundless.com
SUMMARY:flat belly Pilates
DESCRIPTION:Flat Belly pilates combines mndfulness and intensity to flatten your belly.
URL:https://tobeboundless.com/event/flat-belly-pilates-4/
LOCATION:3930 Utah St.\, San Diego\, Ca 92104\, 3930 Utah St\, San Diego\, CA\, 92104\, United States
ORGANIZER;CN="Boundless Women's Fitness":MAILTO:tobeboundless@gmail.com
END:VEVENT
BEGIN:VEVENT
DTSTART;TZID=UTC:20250727T093000
DTEND;TZID=UTC:20250727T100000
DTSTAMP:20260423T234928
CREATED:20240622T044502Z
LAST-MODIFIED:20250626T074829Z
UID:7893-1753608600-1753610400@tobeboundless.com
SUMMARY:prenatal core strength
DESCRIPTION:Our prenatal core strength classes are the best way to build strength and balance while reducing mommy aches and muscle tension. Get fit at any stage of pregnancy and beyond.
URL:https://tobeboundless.com/event/prenatal-pilates-13/
LOCATION:3930 Utah St.\, San Diego\, Ca 92104\, 3930 Utah St\, San Diego\, CA\, 92104\, United States
ATTACH;FMTTYPE=image/jpeg:https://tobeboundless.com/wp-content/uploads/2024/07/20240229_180056-scaled.jpg
END:VEVENT
BEGIN:VEVENT
DTSTART;TZID=UTC:20250731T120000
DTEND;TZID=UTC:20250731T123000
DTSTAMP:20260423T234928
CREATED:20250629T014333Z
LAST-MODIFIED:20250629T014333Z
UID:9543-1753963200-1753965000@tobeboundless.com
SUMMARY:flat belly Pilates
DESCRIPTION:Flat Belly pilates combines mndfulness and intensity to flatten your belly.
URL:https://tobeboundless.com/event/flat-belly-pilates-5/
LOCATION:3930 Utah St.\, San Diego\, Ca 92104\, 3930 Utah St\, San Diego\, CA\, 92104\, United States
ORGANIZER;CN="Boundless Women's Fitness":MAILTO:tobeboundless@gmail.com
END:VEVENT
END:VCALENDAR